BEGIN:VCALENDAR
VERSION:2.0
PRODID:-//NPFVOA Vessel Safety Program - ECPv6.15.20//NONSGML v1.0//EN
CALSCALE:GREGORIAN
METHOD:PUBLISH
X-ORIGINAL-URL:https://npfvoa.org
X-WR-CALDESC:Events for NPFVOA Vessel Safety Program
REFRESH-INTERVAL;VALUE=DURATION:PT1H
X-Robots-Tag:noindex
X-PUBLISHED-TTL:PT1H
BEGIN:VTIMEZONE
TZID:America/Los_Angeles
BEGIN:DAYLIGHT
TZOFFSETFROM:-0800
TZOFFSETTO:-0700
TZNAME:PDT
DTSTART:20240310T100000
END:DAYLIGHT
BEGIN:STANDARD
TZOFFSETFROM:-0700
TZOFFSETTO:-0800
TZNAME:PST
DTSTART:20241103T090000
END:STANDARD
BEGIN:DAYLIGHT
TZOFFSETFROM:-0800
TZOFFSETTO:-0700
TZNAME:PDT
DTSTART:20250309T100000
END:DAYLIGHT
BEGIN:STANDARD
TZOFFSETFROM:-0700
TZOFFSETTO:-0800
TZNAME:PST
DTSTART:20251102T090000
END:STANDARD
BEGIN:DAYLIGHT
TZOFFSETFROM:-0800
TZOFFSETTO:-0700
TZNAME:PDT
DTSTART:20260308T100000
END:DAYLIGHT
BEGIN:STANDARD
TZOFFSETFROM:-0700
TZOFFSETTO:-0800
TZNAME:PST
DTSTART:20261101T090000
END:STANDARD
END:VTIMEZONE
BEGIN:VEVENT
DTSTART;TZID=America/Los_Angeles:20251107T130000
DTEND;TZID=America/Los_Angeles:20251107T170000
DTSTAMP:20260423T163034
CREATED:20241119T213036Z
LAST-MODIFIED:20251009T162834Z
UID:10000320-1762520400-1762534800@npfvoa.org
SUMMARY:STCW Personal Safety & Social Responsibilities
DESCRIPTION:US Coast Guard-approved 4-Hour Personal Safety & Social Responsibilities\, 1:00 – 5:00pm. Call 206-285-3383 or email to sign up.
URL:https://npfvoa.org/event/stcw-personal-safety-social-responsibilities-19/
LOCATION:NPFVOA @ Fishermen’s Terminal\, 1900 West Nickerson St\, Suite 315\, Seattle\, WA\, 98119\, United States
CATEGORIES:STCW
END:VEVENT
BEGIN:VEVENT
DTSTART;TZID=America/Los_Angeles:20251106T080000
DTEND;TZID=America/Los_Angeles:20251107T120000
DTSTAMP:20260423T163034
CREATED:20241119T212706Z
LAST-MODIFIED:20251009T162658Z
UID:10000319-1762416000-1762516800@npfvoa.org
SUMMARY:STCW Personal Survival Techniques
DESCRIPTION:US Coast Guard-approved 12-Hour STCW Personal Survival Techniques\, November 6\, 8:00am – 5:00pm\, and November 7th\, 8:00am – noon.\nYou will spend time in a pool; please bring a swimsuit or change of clothes and a towel. Call 206-285-3383 or email to sign up.
URL:https://npfvoa.org/event/stcw-personal-survival-techniques-20/
LOCATION:NPFVOA @ Fishermen’s Terminal\, 1900 West Nickerson St\, Suite 315\, Seattle\, WA\, 98119\, United States
CATEGORIES:STCW
END:VEVENT
BEGIN:VEVENT
DTSTART;TZID=America/Los_Angeles:20251104T080000
DTEND;TZID=America/Los_Angeles:20251105T170000
DTSTAMP:20260423T163034
CREATED:20241119T213604Z
LAST-MODIFIED:20251104T230105Z
UID:10000322-1762243200-1762362000@npfvoa.org
SUMMARY:STCW 2-Day Basic Firefighting
DESCRIPTION:US Coast Guard-approved STCW Basic Firefighting. Day 1 is held at the NPFVOA office in Fishermen’s Terminal\, 8:00am – 5:00pm. Day 2 is held offsite. Directions will be provided. \nCall (206) 285-3383 or contact us to sign up.
URL:https://npfvoa.org/event/stcw-2-day-basic-firefighting-20/
LOCATION:NPFVOA @ Fishermen’s Terminal\, 1900 West Nickerson St\, Suite 315\, Seattle\, WA\, 98119\, United States
CATEGORIES:Fire Fighting
END:VEVENT
BEGIN:VEVENT
DTSTART;TZID=America/Los_Angeles:20251103T080000
DTEND;TZID=America/Los_Angeles:20251103T080000
DTSTAMP:20260423T163034
CREATED:20241119T213304Z
LAST-MODIFIED:20241119T213304Z
UID:10000321-1762156800-1762156800@npfvoa.org
SUMMARY:Medical Emergencies at Sea
DESCRIPTION:8-Hour US Coast Guard-approved Medical Emergencies at Sea (First Aid/CPR) 8:00am – 5:00pm.\nCall (206) 285-3383 or email to sign up.
URL:https://npfvoa.org/event/medical-emergencies-at-sea-20/
LOCATION:NPFVOA @ Fishermen’s Terminal\, 1900 West Nickerson St\, Suite 315\, Seattle\, WA\, 98119\, United States
CATEGORIES:Medical
END:VEVENT
BEGIN:VEVENT
DTSTART;TZID=America/Los_Angeles:20251031T080000
DTEND;TZID=America/Los_Angeles:20251031T123000
DTSTAMP:20260423T163034
CREATED:20250912T184106Z
LAST-MODIFIED:20251209T220910Z
UID:10000347-1761897600-1761913800@npfvoa.org
SUMMARY:Fishing Vessel Stability
DESCRIPTION:
URL:https://npfvoa.org/event/fishing-vessel-stability-2/
LOCATION:NPFVOA @ Fishermen’s Terminal\, 1900 West Nickerson St\, Suite 315\, Seattle\, WA\, 98119\, United States
CATEGORIES:Stability
END:VEVENT
BEGIN:VEVENT
DTSTART;TZID=America/Los_Angeles:20251029T080000
DTEND;TZID=America/Los_Angeles:20251029T170000
DTSTAMP:20260423T163034
CREATED:20241118T224356Z
LAST-MODIFIED:20241118T224356Z
UID:10000308-1761724800-1761757200@npfvoa.org
SUMMARY:HAZWOPER Refresher
DESCRIPTION:Class time 8:00am – 5:00pm.\nCall 206-285-3383 or email to sign up.
URL:https://npfvoa.org/event/hazwoper-refresher-36/
LOCATION:NPFVOA @ Fishermen’s Terminal\, 1900 West Nickerson St\, Suite 315\, Seattle\, WA\, 98119\, United States
CATEGORIES:HAZWOPER
END:VEVENT
BEGIN:VEVENT
DTSTART;TZID=America/Los_Angeles:20251027T080000
DTEND;TZID=America/Los_Angeles:20251029T170000
DTSTAMP:20260423T163034
CREATED:20241118T224625Z
LAST-MODIFIED:20241118T224625Z
UID:10000309-1761552000-1761757200@npfvoa.org
SUMMARY:24-Hour HAZWOPER Hazardous Materials Technician
DESCRIPTION:Class time: 8:00am – 5:00pm.\n8-Hour HAZWOPER Refresher offered concurrently on the first or last day of the 24-Hour class.\nCall 206-285-3383 or email to sign up.
URL:https://npfvoa.org/event/24-hour-hazwoper-hazardous-materials-technician-18/
LOCATION:NPFVOA @ Fishermen’s Terminal\, 1900 West Nickerson St\, Suite 315\, Seattle\, WA\, 98119\, United States
CATEGORIES:HAZWOPER
END:VEVENT
BEGIN:VEVENT
DTSTART;TZID=America/Los_Angeles:20251027T080000
DTEND;TZID=America/Los_Angeles:20251027T170000
DTSTAMP:20260423T163034
CREATED:20241118T224018Z
LAST-MODIFIED:20241118T224018Z
UID:10000307-1761552000-1761584400@npfvoa.org
SUMMARY:HAZWOPER Refresher
DESCRIPTION:Class time 8:00am – 5:00pm.\nCall 206-285-3383 or email to sign up.
URL:https://npfvoa.org/event/hazwoper-refresher-35/
LOCATION:NPFVOA @ Fishermen’s Terminal\, 1900 West Nickerson St\, Suite 315\, Seattle\, WA\, 98119\, United States
CATEGORIES:HAZWOPER
END:VEVENT
BEGIN:VEVENT
DTSTART;TZID=America/Los_Angeles:20251016T080000
DTEND;TZID=America/Los_Angeles:20251016T080000
DTSTAMP:20260423T163034
CREATED:20241118T202956Z
LAST-MODIFIED:20251209T214853Z
UID:10000305-1760601600-1760601600@npfvoa.org
SUMMARY:Onboard Drill Instructor
DESCRIPTION:8-Hour US Coast Guard-accepted Onboard Drill Instructor\, 8:00am – 5:00pm. Call (206) 285-3383 or email to register.
URL:https://npfvoa.org/event/drill-instructor-workshop-18/
LOCATION:NPFVOA @ Fishermen’s Terminal\, 1900 West Nickerson St\, Suite 315\, Seattle\, WA\, 98119\, United States
CATEGORIES:Drill
END:VEVENT
BEGIN:VEVENT
DTSTART;TZID=America/Los_Angeles:20251010T130000
DTEND;TZID=America/Los_Angeles:20251010T170000
DTSTAMP:20260423T163034
CREATED:20241118T215605Z
LAST-MODIFIED:20251009T162128Z
UID:10000306-1760101200-1760115600@npfvoa.org
SUMMARY:STCW Personal Safety & Social Responsibilities
DESCRIPTION:US Coast Guard-approved 4-Hour Personal Safety & Social Responsibilities\, 1:00 – 5:00pm. Call 206-285-3383 or email to sign up.
URL:https://npfvoa.org/event/stcw-personal-safety-social-responsibilities-18/
LOCATION:NPFVOA @ Fishermen’s Terminal\, 1900 West Nickerson St\, Suite 315\, Seattle\, WA\, 98119\, United States
CATEGORIES:STCW
END:VEVENT
BEGIN:VEVENT
DTSTART;TZID=America/Los_Angeles:20251009T080000
DTEND;TZID=America/Los_Angeles:20251010T120000
DTSTAMP:20260423T163034
CREATED:20241118T202843Z
LAST-MODIFIED:20251009T162022Z
UID:10000304-1759996800-1760097600@npfvoa.org
SUMMARY:STCW Personal Survival Techniques
DESCRIPTION:US Coast Guard-approved 12-Hour STCW Personal Survival Techniques\, October 9th\, 8:00am – 5:00pm\, and October 10th\, 8:00am – noon.\nYou will spend time in a pool; please bring a swimsuit or change of clothes and a towel. Call 206-285-3383 or email to sign up.
URL:https://npfvoa.org/event/stcw-personal-survival-techniques-19/
LOCATION:NPFVOA @ Fishermen’s Terminal\, 1900 West Nickerson St\, Suite 315\, Seattle\, WA\, 98119\, United States
CATEGORIES:STCW
END:VEVENT
BEGIN:VEVENT
DTSTART;TZID=America/Los_Angeles:20251008T080000
DTEND;TZID=America/Los_Angeles:20251008T080000
DTSTAMP:20260423T163034
CREATED:20241118T202026Z
LAST-MODIFIED:20241118T202026Z
UID:10000302-1759910400-1759910400@npfvoa.org
SUMMARY:Medical Emergencies at Sea
DESCRIPTION:8-Hour US Coast Guard-approved Medical Emergencies at Sea (First Aid/CPR) 8:00am – 5:00pm.\nCall (206) 285-3383 or email to sign up.
URL:https://npfvoa.org/event/medical-emergencies-at-sea-19/
LOCATION:NPFVOA @ Fishermen’s Terminal\, 1900 West Nickerson St\, Suite 315\, Seattle\, WA\, 98119\, United States
CATEGORIES:Medical
END:VEVENT
BEGIN:VEVENT
DTSTART;TZID=America/Los_Angeles:20251006T080000
DTEND;TZID=America/Los_Angeles:20251007T170000
DTSTAMP:20260423T163034
CREATED:20241118T202130Z
LAST-MODIFIED:20241118T202130Z
UID:10000303-1759737600-1759856400@npfvoa.org
SUMMARY:STCW 2-Day Basic Firefighting
DESCRIPTION:US Coast Guard-approved STCW Basic Firefighting. Day 1 is held at the NPFVOA office in Fishermen’s Terminal\, 8:00am – 5:00pm. Day 2 is held offsite. Directions will be provided.\nCall (206) 285-3383 or email to sign up.
URL:https://npfvoa.org/event/stcw-2-day-basic-firefighting-19/
LOCATION:NPFVOA @ Fishermen’s Terminal\, 1900 West Nickerson St\, Suite 315\, Seattle\, WA\, 98119\, United States
CATEGORIES:Fire Fighting
END:VEVENT
BEGIN:VEVENT
DTSTART;TZID=America/Los_Angeles:20250924T080000
DTEND;TZID=America/Los_Angeles:20250924T170000
DTSTAMP:20260423T163034
CREATED:20241115T233249Z
LAST-MODIFIED:20241115T233249Z
UID:10000291-1758700800-1758733200@npfvoa.org
SUMMARY:HAZWOPER Refresher
DESCRIPTION:Class time 8:00am – 5:00pm.\nCall 206-285-3383 or email to sign up.
URL:https://npfvoa.org/event/hazwoper-refresher-34/
LOCATION:NPFVOA @ Fishermen’s Terminal\, 1900 West Nickerson St\, Suite 315\, Seattle\, WA\, 98119\, United States
CATEGORIES:HAZWOPER
END:VEVENT
BEGIN:VEVENT
DTSTART;TZID=America/Los_Angeles:20250922T080000
DTEND;TZID=America/Los_Angeles:20250924T170000
DTSTAMP:20260423T163034
CREATED:20241115T233319Z
LAST-MODIFIED:20241115T233319Z
UID:10000292-1758528000-1758733200@npfvoa.org
SUMMARY:24-Hour HAZWOPER Hazardous Materials Technician
DESCRIPTION:Class time: 8:00am – 5:00pm.\n8-Hour HAZWOPER Refresher offered concurrently on the first or last day of the 24-Hour class.\nCall 206-285-3383 or email to sign up.
URL:https://npfvoa.org/event/24-hour-hazwoper-hazardous-materials-technician-17/
LOCATION:NPFVOA @ Fishermen’s Terminal\, 1900 West Nickerson St\, Suite 315\, Seattle\, WA\, 98119\, United States
CATEGORIES:HAZWOPER
END:VEVENT
BEGIN:VEVENT
DTSTART;TZID=America/Los_Angeles:20250922T080000
DTEND;TZID=America/Los_Angeles:20250922T170000
DTSTAMP:20260423T163034
CREATED:20241115T233222Z
LAST-MODIFIED:20241115T233222Z
UID:10000290-1758528000-1758560400@npfvoa.org
SUMMARY:HAZWOPER Refresher
DESCRIPTION:Class time 8:00am – 5:00pm.\nCall 206-285-3383 or email to sign up.
URL:https://npfvoa.org/event/hazwoper-refresher-33/
LOCATION:NPFVOA @ Fishermen’s Terminal\, 1900 West Nickerson St\, Suite 315\, Seattle\, WA\, 98119\, United States
CATEGORIES:HAZWOPER
END:VEVENT
BEGIN:VEVENT
DTSTART;TZID=America/Los_Angeles:20250918T080000
DTEND;TZID=America/Los_Angeles:20250918T080000
DTSTAMP:20260423T163034
CREATED:20241115T233039Z
LAST-MODIFIED:20251209T214907Z
UID:10000288-1758182400-1758182400@npfvoa.org
SUMMARY:Onboard Drill Instructor
DESCRIPTION:8-Hour US Coast Guard-accepted Onboard Drill Instructor\, 8:00am – 5:00pm. Call (206) 285-3383 or email to register.
URL:https://npfvoa.org/event/drill-instructor-workshop-17/
LOCATION:NPFVOA @ Fishermen’s Terminal\, 1900 West Nickerson St\, Suite 315\, Seattle\, WA\, 98119\, United States
CATEGORIES:Drill
END:VEVENT
BEGIN:VEVENT
DTSTART;TZID=America/Los_Angeles:20250910T080000
DTEND;TZID=America/Los_Angeles:20250910T080000
DTSTAMP:20260423T163034
CREATED:20241115T231345Z
LAST-MODIFIED:20241115T231345Z
UID:10000285-1757491200-1757491200@npfvoa.org
SUMMARY:Medical Emergencies at Sea
DESCRIPTION:8-Hour US Coast Guard-approved Medical Emergencies at Sea (First Aid/CPR) 8:00am – 5:00pm.\nCall (206) 285-3383 or email to sign up.
URL:https://npfvoa.org/event/medical-emergencies-at-sea-18/
LOCATION:NPFVOA @ Fishermen’s Terminal\, 1900 West Nickerson St\, Suite 315\, Seattle\, WA\, 98119\, United States
CATEGORIES:Medical
END:VEVENT
BEGIN:VEVENT
DTSTART;TZID=America/Los_Angeles:20250908T080000
DTEND;TZID=America/Los_Angeles:20250909T170000
DTSTAMP:20260423T163034
CREATED:20241115T231426Z
LAST-MODIFIED:20241115T231426Z
UID:10000286-1757318400-1757437200@npfvoa.org
SUMMARY:STCW 2-Day Basic Firefighting
DESCRIPTION:US Coast Guard-approved STCW Basic Firefighting. Day 1 is held at the NPFVOA office in Fishermen’s Terminal\, 8:00am – 5:00pm. Day 2 is held offsite. Directions will be provided.\nCall (206) 285-3383 or email to sign up.
URL:https://npfvoa.org/event/stcw-2-day-basic-firefighting-18/
LOCATION:NPFVOA @ Fishermen’s Terminal\, 1900 West Nickerson St\, Suite 315\, Seattle\, WA\, 98119\, United States
CATEGORIES:Fire Fighting
END:VEVENT
BEGIN:VEVENT
DTSTART;TZID=America/Los_Angeles:20250827T080000
DTEND;TZID=America/Los_Angeles:20250827T170000
DTSTAMP:20260423T163034
CREATED:20241114T004542Z
LAST-MODIFIED:20241114T004542Z
UID:10000274-1756281600-1756314000@npfvoa.org
SUMMARY:HAZWOPER Refresher
DESCRIPTION:Class time 8:00am – 5:00pm.\nCall 206-285-3383 or email to sign up.
URL:https://npfvoa.org/event/hazwoper-refresher-32/
LOCATION:NPFVOA @ Fishermen’s Terminal\, 1900 West Nickerson St\, Suite 315\, Seattle\, WA\, 98119\, United States
CATEGORIES:HAZWOPER
END:VEVENT
BEGIN:VEVENT
DTSTART;TZID=America/Los_Angeles:20250825T080000
DTEND;TZID=America/Los_Angeles:20250827T170000
DTSTAMP:20260423T163034
CREATED:20241114T004618Z
LAST-MODIFIED:20241114T004618Z
UID:10000275-1756108800-1756314000@npfvoa.org
SUMMARY:24-Hour HAZWOPER Hazardous Materials Technician
DESCRIPTION:Class time: 8:00am – 5:00pm.\n8-Hour HAZWOPER Refresher offered concurrently on the first or last day of the 24-Hour class.\nCall 206-285-3383 or email to sign up.
URL:https://npfvoa.org/event/24-hour-hazwoper-hazardous-materials-technician-16/
LOCATION:NPFVOA @ Fishermen’s Terminal\, 1900 West Nickerson St\, Suite 315\, Seattle\, WA\, 98119\, United States
CATEGORIES:HAZWOPER
END:VEVENT
BEGIN:VEVENT
DTSTART;TZID=America/Los_Angeles:20250825T080000
DTEND;TZID=America/Los_Angeles:20250825T170000
DTSTAMP:20260423T163034
CREATED:20241114T004513Z
LAST-MODIFIED:20241114T004513Z
UID:10000273-1756108800-1756141200@npfvoa.org
SUMMARY:HAZWOPER Refresher
DESCRIPTION:Class time 8:00am – 5:00pm.\nCall 206-285-3383 or email to sign up.
URL:https://npfvoa.org/event/hazwoper-refresher-31/
LOCATION:NPFVOA @ Fishermen’s Terminal\, 1900 West Nickerson St\, Suite 315\, Seattle\, WA\, 98119\, United States
CATEGORIES:HAZWOPER
END:VEVENT
BEGIN:VEVENT
DTSTART;TZID=America/Los_Angeles:20250813T080000
DTEND;TZID=America/Los_Angeles:20250813T080000
DTSTAMP:20260423T163034
CREATED:20241114T004045Z
LAST-MODIFIED:20251209T214917Z
UID:10000271-1755072000-1755072000@npfvoa.org
SUMMARY:Drill Instructor Workshop
DESCRIPTION:8-Hour US Coast Guard-accepted Drill Instructor Workshop\, 8:00am – 5:00pm. Call (206) 285-3383 or email to register.
URL:https://npfvoa.org/event/drill-instructor-workshop-16/
LOCATION:NPFVOA @ Fishermen’s Terminal\, 1900 West Nickerson St\, Suite 315\, Seattle\, WA\, 98119\, United States
CATEGORIES:Drill
END:VEVENT
BEGIN:VEVENT
DTSTART;TZID=America/Los_Angeles:20250805T080000
DTEND;TZID=America/Los_Angeles:20250806T170000
DTSTAMP:20260423T163034
CREATED:20241114T003244Z
LAST-MODIFIED:20241114T003244Z
UID:10000269-1754380800-1754499600@npfvoa.org
SUMMARY:STCW 2-Day Basic Firefighting
DESCRIPTION:US Coast Guard-approved STCW Basic Firefighting. Day 1 is held at the NPFVOA office in Fishermen’s Terminal\, 8:00am – 5:00pm. Day 2 is held offsite. Directions will be provided.\nCall (206) 285-3383 or email to sign up.
URL:https://npfvoa.org/event/stcw-2-day-basic-firefighting-17/
LOCATION:NPFVOA @ Fishermen’s Terminal\, 1900 West Nickerson St\, Suite 315\, Seattle\, WA\, 98119\, United States
CATEGORIES:Fire Fighting
END:VEVENT
BEGIN:VEVENT
DTSTART;TZID=America/Los_Angeles:20250804T080000
DTEND;TZID=America/Los_Angeles:20250804T080000
DTSTAMP:20260423T163034
CREATED:20241114T003220Z
LAST-MODIFIED:20241114T003220Z
UID:10000268-1754294400-1754294400@npfvoa.org
SUMMARY:Medical Emergencies at Sea
DESCRIPTION:8-Hour US Coast Guard-approved Medical Emergencies at Sea (First Aid/CPR) 8:00am – 5:00pm.\nCall (206) 285-3383 or email to sign up.
URL:https://npfvoa.org/event/medical-emergencies-at-sea-17/
LOCATION:NPFVOA @ Fishermen’s Terminal\, 1900 West Nickerson St\, Suite 315\, Seattle\, WA\, 98119\, United States
CATEGORIES:Medical
END:VEVENT
BEGIN:VEVENT
DTSTART;TZID=America/Los_Angeles:20250728T080000
DTEND;TZID=America/Los_Angeles:20250728T170000
DTSTAMP:20260423T163034
CREATED:20241113T215141Z
LAST-MODIFIED:20241113T215141Z
UID:10000252-1753689600-1753722000@npfvoa.org
SUMMARY:HAZWOPER Refresher
DESCRIPTION:Class time 8:00am – 5:00pm.\nCall 206-285-3383 or email to sign up.
URL:https://npfvoa.org/event/hazwoper-refresher-29/
LOCATION:NPFVOA @ Fishermen’s Terminal\, 1900 West Nickerson St\, Suite 315\, Seattle\, WA\, 98119\, United States
CATEGORIES:HAZWOPER
END:VEVENT
BEGIN:VEVENT
DTSTART;TZID=America/Los_Angeles:20250717T080000
DTEND;TZID=America/Los_Angeles:20250717T080000
DTSTAMP:20260423T163034
CREATED:20241113T215417Z
LAST-MODIFIED:20251209T214930Z
UID:10000256-1752739200-1752739200@npfvoa.org
SUMMARY:Drill Instructor Workshop
DESCRIPTION:8-Hour US Coast Guard-accepted Drill Instructor Workshop\, 8:00am – 5:00pm. Call (206) 285-3383 or email to register.
URL:https://npfvoa.org/event/drill-instructor-workshop-15/
LOCATION:NPFVOA @ Fishermen’s Terminal\, 1900 West Nickerson St\, Suite 315\, Seattle\, WA\, 98119\, United States
CATEGORIES:Drill
END:VEVENT
BEGIN:VEVENT
DTSTART;TZID=America/Los_Angeles:20250709T080000
DTEND;TZID=America/Los_Angeles:20250709T080000
DTSTAMP:20260423T163034
CREATED:20241113T215835Z
LAST-MODIFIED:20260226T185532Z
UID:10000261-1752048000-1752048000@npfvoa.org
SUMMARY:STCW Basic Training Refresher
DESCRIPTION:US Coast Guard-approved 3-Day STCW Basic Training Refresher. Class dates and times: July 7/9/10\, 8:00am – 5:00pm. Call 206-285-3383 or email to sign up.
URL:https://npfvoa.org/event/basic-training-refresher-47/
LOCATION:NPFVOA @ Fishermen’s Terminal\, 1900 West Nickerson St\, Suite 315\, Seattle\, WA\, 98119\, United States
CATEGORIES:STCW BT Refresher
END:VEVENT
BEGIN:VEVENT
DTSTART;TZID=America/Los_Angeles:20250708T080000
DTEND;TZID=America/Los_Angeles:20250709T170000
DTSTAMP:20260423T163034
CREATED:20241113T215616Z
LAST-MODIFIED:20241113T215616Z
UID:10000258-1751961600-1752080400@npfvoa.org
SUMMARY:STCW 2-Day Basic Firefighting
DESCRIPTION:US Coast Guard-approved STCW Basic Firefighting. Day 1 is held at the NPFVOA office in Fishermen’s Terminal\, 8:00am – 5:00pm. Day 2 is held offsite. Directions will be provided.\nCall (206) 285-3383 or email to sign up.
URL:https://npfvoa.org/event/stcw-2-day-basic-firefighting-16/
LOCATION:NPFVOA @ Fishermen’s Terminal\, 1900 West Nickerson St\, Suite 315\, Seattle\, WA\, 98119\, United States
CATEGORIES:Fire Fighting
END:VEVENT
BEGIN:VEVENT
DTSTART;TZID=America/Los_Angeles:20250707T080000
DTEND;TZID=America/Los_Angeles:20250707T080000
DTSTAMP:20260423T163034
CREATED:20241113T215756Z
LAST-MODIFIED:20241113T215756Z
UID:10000260-1751875200-1751875200@npfvoa.org
SUMMARY:Basic Training Refresher
DESCRIPTION:US Coast Guard-approved 3-Day STCW Basic Training Refresher. Class dates and times: July 7/9/10\, 8:00am – 5:00pm. Call 206-285-3383 or email to sign up.
URL:https://npfvoa.org/event/basic-training-refresher-46/
LOCATION:NPFVOA @ Fishermen’s Terminal\, 1900 West Nickerson St\, Suite 315\, Seattle\, WA\, 98119\, United States
CATEGORIES:STCW BT Refresher
END:VEVENT
END:VCALENDAR