BEGIN:VCALENDAR
VERSION:2.0
PRODID:-//NPFVOA Vessel Safety Program - ECPv6.15.20//NONSGML v1.0//EN
CALSCALE:GREGORIAN
METHOD:PUBLISH
X-WR-CALNAME:NPFVOA Vessel Safety Program
X-ORIGINAL-URL:https://npfvoa.org
X-WR-CALDESC:Events for NPFVOA Vessel Safety Program
REFRESH-INTERVAL;VALUE=DURATION:PT1H
X-Robots-Tag:noindex
X-PUBLISHED-TTL:PT1H
BEGIN:VTIMEZONE
TZID:America/Los_Angeles
BEGIN:DAYLIGHT
TZOFFSETFROM:-0800
TZOFFSETTO:-0700
TZNAME:PDT
DTSTART:20240310T100000
END:DAYLIGHT
BEGIN:STANDARD
TZOFFSETFROM:-0700
TZOFFSETTO:-0800
TZNAME:PST
DTSTART:20241103T090000
END:STANDARD
BEGIN:DAYLIGHT
TZOFFSETFROM:-0800
TZOFFSETTO:-0700
TZNAME:PDT
DTSTART:20250309T100000
END:DAYLIGHT
BEGIN:STANDARD
TZOFFSETFROM:-0700
TZOFFSETTO:-0800
TZNAME:PST
DTSTART:20251102T090000
END:STANDARD
BEGIN:DAYLIGHT
TZOFFSETFROM:-0800
TZOFFSETTO:-0700
TZNAME:PDT
DTSTART:20260308T100000
END:DAYLIGHT
BEGIN:STANDARD
TZOFFSETFROM:-0700
TZOFFSETTO:-0800
TZNAME:PST
DTSTART:20261101T090000
END:STANDARD
BEGIN:DAYLIGHT
TZOFFSETFROM:-0800
TZOFFSETTO:-0700
TZNAME:PDT
DTSTART:20270314T100000
END:DAYLIGHT
BEGIN:STANDARD
TZOFFSETFROM:-0700
TZOFFSETTO:-0800
TZNAME:PST
DTSTART:20271107T090000
END:STANDARD
END:VTIMEZONE
BEGIN:VEVENT
DTSTART;TZID=America/Los_Angeles:20260129T073000
DTEND;TZID=America/Los_Angeles:20260129T170000
DTSTAMP:20260423T133910
CREATED:20251201T224055Z
LAST-MODIFIED:20251209T222458Z
UID:10000470-1769671800-1769706000@npfvoa.org
SUMMARY:Practical Firefighting for Fishing Vessels
DESCRIPTION:Non-Coast Guard-approved Firefighting training. No tests\, no pass/fail assessments. Two hours of classroom instruction\, followed by field exercises.
URL:https://npfvoa.org/event/practical-firefighting-1/
LOCATION:NPFVOA @ Fishermen’s Terminal\, 1900 West Nickerson St\, Suite 315\, Seattle\, WA\, 98119\, United States
CATEGORIES:Fire Fighting
END:VEVENT
BEGIN:VEVENT
DTSTART;TZID=America/Los_Angeles:20260116T080000
DTEND;TZID=America/Los_Angeles:20260116T080000
DTSTAMP:20260423T133910
CREATED:20251021T184747Z
LAST-MODIFIED:20251108T001324Z
UID:10000360-1768550400-1768550400@npfvoa.org
SUMMARY:Shipyard Competent Person Refresher
DESCRIPTION:Shipyard Competent Person Refresher\, 8:00am-4:00pm.  \nCall 206-285-3383 or contact us to sign up.
URL:https://npfvoa.org/event/shipyard-competent-person-refresher-12/
LOCATION:NPFVOA @ Fishermen’s Terminal\, 1900 West Nickerson St\, Suite 315\, Seattle\, WA\, 98119\, United States
CATEGORIES:Shipyard Competent Person
END:VEVENT
BEGIN:VEVENT
DTSTART;TZID=America/Los_Angeles:20260114T080000
DTEND;TZID=America/Los_Angeles:20260116T160000
DTSTAMP:20260423T133910
CREATED:20251021T184629Z
LAST-MODIFIED:20251202T061120Z
UID:10000359-1768377600-1768579200@npfvoa.org
SUMMARY:Shipyard Competent Person
DESCRIPTION:Shipyard Competent Person\, 8:00am-4:00pm each day. \nCall 206-285-3383 or contact us to sign up.
URL:https://npfvoa.org/event/shipyard-competent-person-12/
LOCATION:NPFVOA @ Fishermen’s Terminal\, 1900 West Nickerson St\, Suite 315\, Seattle\, WA\, 98119\, United States
CATEGORIES:Shipyard Competent Person
END:VEVENT
BEGIN:VEVENT
DTSTART;TZID=America/Los_Angeles:20260109T130000
DTEND;TZID=America/Los_Angeles:20260109T170000
DTSTAMP:20260423T133910
CREATED:20251021T182708Z
LAST-MODIFIED:20251108T001208Z
UID:10000354-1767963600-1767978000@npfvoa.org
SUMMARY:STCW Personal Safety & Social Responsibilities
DESCRIPTION:US Coast Guard-approved 4-Hour Personal Safety & Social Responsibilities\, 1:00 – 5:00pm.  \nCall 206-285-3383 or contact us to sign up.
URL:https://npfvoa.org/event/stcw-personal-safety-social-responsibilities-21/
LOCATION:NPFVOA @ Fishermen’s Terminal\, 1900 West Nickerson St\, Suite 315\, Seattle\, WA\, 98119\, United States
CATEGORIES:STCW
END:VEVENT
BEGIN:VEVENT
DTSTART;TZID=America/Los_Angeles:20260108T080000
DTEND;TZID=America/Los_Angeles:20260109T120000
DTSTAMP:20260423T133910
CREATED:20251021T182520Z
LAST-MODIFIED:20251108T001112Z
UID:10000353-1767859200-1767960000@npfvoa.org
SUMMARY:STCW Personal Survival Techniques
DESCRIPTION:US Coast Guard-approved 12-Hour STCW Personal Survival Techniques\, January 8th\, 8:00am – 5:00pm\, and January 9th\, 8:00am – noon.\nYou will spend time in a pool; please bring a swimsuit or change of clothes and a towel.  \nCall 206-285-3383 or contact us to sign up.
URL:https://npfvoa.org/event/stcw-personal-survival-techniques-22/
LOCATION:NPFVOA @ Fishermen’s Terminal\, 1900 West Nickerson St\, Suite 315\, Seattle\, WA\, 98119\, United States
CATEGORIES:STCW
END:VEVENT
BEGIN:VEVENT
DTSTART;TZID=America/Los_Angeles:20260106T080000
DTEND;TZID=America/Los_Angeles:20260107T170000
DTSTAMP:20260423T133910
CREATED:20251021T182108Z
LAST-MODIFIED:20251108T000858Z
UID:10000352-1767686400-1767805200@npfvoa.org
SUMMARY:STCW 2-Day Basic Firefighting
DESCRIPTION:US Coast Guard-approved STCW Basic Firefighting. Day 1 is held at the NPFVOA office in Fishermen’s Terminal\, 8:00am – 5:00pm. Day 2 is held offsite. Directions will be provided. \nCall 206-285-3383 or contact us to sign up.
URL:https://npfvoa.org/event/stcw-2-day-basic-firefighting-22/
LOCATION:NPFVOA @ Fishermen’s Terminal\, 1900 West Nickerson St\, Suite 315\, Seattle\, WA\, 98119\, United States
CATEGORIES:Fire Fighting
END:VEVENT
BEGIN:VEVENT
DTSTART;TZID=America/Los_Angeles:20260105T080000
DTEND;TZID=America/Los_Angeles:20260105T080000
DTSTAMP:20260423T133910
CREATED:20251021T181535Z
LAST-MODIFIED:20251108T000541Z
UID:10000351-1767600000-1767600000@npfvoa.org
SUMMARY:Medical Emergencies at Sea
DESCRIPTION:8-Hour US Coast Guard-approved Medical Emergencies at Sea (First Aid/CPR) 8:00am – 5:00pm. \nCall 206-285-3383 or contact us to sign up.
URL:https://npfvoa.org/event/medical-emergencies-at-sea-22/
LOCATION:NPFVOA @ Fishermen’s Terminal\, 1900 West Nickerson St\, Suite 315\, Seattle\, WA\, 98119\, United States
CATEGORIES:Medical
END:VEVENT
BEGIN:VEVENT
DTSTART;TZID=America/Los_Angeles:20260102T080000
DTEND;TZID=America/Los_Angeles:20260102T080000
DTSTAMP:20260423T133910
CREATED:20251021T183002Z
LAST-MODIFIED:20251209T214410Z
UID:10000355-1767340800-1767340800@npfvoa.org
SUMMARY:Onboard Drill Instructor
DESCRIPTION:8-Hour US Coast Guard-accepted Onboard Drill Instructor\, 8:00am – 5:00pm.
URL:https://npfvoa.org/event/onboard-drill-instructor/
LOCATION:NPFVOA @ Fishermen’s Terminal\, 1900 West Nickerson St\, Suite 315\, Seattle\, WA\, 98119\, United States
CATEGORIES:Drill
END:VEVENT
BEGIN:VEVENT
DTSTART;TZID=America/Los_Angeles:20251218T080000
DTEND;TZID=America/Los_Angeles:20251218T080000
DTSTAMP:20260423T133910
CREATED:20241119T231828Z
LAST-MODIFIED:20251209T214427Z
UID:10000339-1766044800-1766044800@npfvoa.org
SUMMARY:Onboard Drill Instructor
DESCRIPTION:8-Hour US Coast Guard-accepted Onboard Drill Instructor\, 8:00am – 5:00pm.
URL:https://npfvoa.org/event/drill-instructor-workshop-20/
LOCATION:NPFVOA @ Fishermen’s Terminal\, 1900 West Nickerson St\, Suite 315\, Seattle\, WA\, 98119\, United States
CATEGORIES:Drill
END:VEVENT
BEGIN:VEVENT
DTSTART;TZID=America/Los_Angeles:20251217T080000
DTEND;TZID=America/Los_Angeles:20251217T170000
DTSTAMP:20260423T133910
CREATED:20241119T232420Z
LAST-MODIFIED:20251217T052637Z
UID:10000341-1765958400-1765990800@npfvoa.org
SUMMARY:HAZWOPER Refresher
DESCRIPTION:Class time 8:00am – 5:00pm.
URL:https://npfvoa.org/event/hazwoper-refresher-40/
LOCATION:NPFVOA @ Fishermen’s Terminal\, 1900 West Nickerson St\, Suite 315\, Seattle\, WA\, 98119\, United States
CATEGORIES:HAZWOPER
END:VEVENT
BEGIN:VEVENT
DTSTART;TZID=America/Los_Angeles:20251215T080000
DTEND;TZID=America/Los_Angeles:20251217T170000
DTSTAMP:20260423T133910
CREATED:20241119T232443Z
LAST-MODIFIED:20251210T191118Z
UID:10000342-1765785600-1765990800@npfvoa.org
SUMMARY:24-Hour HAZWOPER Hazardous Materials Technician
DESCRIPTION:Class time: 8:00am – 5:00pm.\n8-Hour HAZWOPER Refresher offered concurrently on the first or last day of the 24-Hour class. \nCall 206-285-3383 or contact us to sign up.
URL:https://npfvoa.org/event/24-hour-hazwoper-hazardous-materials-technician-20/
LOCATION:NPFVOA @ Fishermen’s Terminal\, 1900 West Nickerson St\, Suite 315\, Seattle\, WA\, 98119\, United States
CATEGORIES:HAZWOPER
END:VEVENT
BEGIN:VEVENT
DTSTART;TZID=America/Los_Angeles:20251215T080000
DTEND;TZID=America/Los_Angeles:20251215T170000
DTSTAMP:20260423T133910
CREATED:20241119T232358Z
LAST-MODIFIED:20251217T052609Z
UID:10000340-1765785600-1765818000@npfvoa.org
SUMMARY:HAZWOPER Refresher
DESCRIPTION:Class time 8:00am – 5:00pm.
URL:https://npfvoa.org/event/hazwoper-refresher-39/
LOCATION:NPFVOA @ Fishermen’s Terminal\, 1900 West Nickerson St\, Suite 315\, Seattle\, WA\, 98119\, United States
CATEGORIES:HAZWOPER
END:VEVENT
BEGIN:VEVENT
DTSTART;TZID=America/Los_Angeles:20251212T130000
DTEND;TZID=America/Los_Angeles:20251212T170000
DTSTAMP:20260423T133910
CREATED:20241119T232548Z
LAST-MODIFIED:20251107T235059Z
UID:10000343-1765544400-1765558800@npfvoa.org
SUMMARY:STCW Personal Safety & Social Responsibilities
DESCRIPTION:US Coast Guard-approved 4-Hour Personal Safety & Social Responsibilities\, 1:00 – 5:00pm.  \nCall 206-285-3383 or contact us to sign up.
URL:https://npfvoa.org/event/stcw-personal-safety-social-responsibilities-20/
LOCATION:NPFVOA @ Fishermen’s Terminal\, 1900 West Nickerson St\, Suite 315\, Seattle\, WA\, 98119\, United States
CATEGORIES:STCW
END:VEVENT
BEGIN:VEVENT
DTSTART;TZID=America/Los_Angeles:20251211T080000
DTEND;TZID=America/Los_Angeles:20251212T120000
DTSTAMP:20260423T133910
CREATED:20241119T231650Z
LAST-MODIFIED:20251107T235006Z
UID:10000338-1765440000-1765540800@npfvoa.org
SUMMARY:STCW Personal Survival Techniques
DESCRIPTION:US Coast Guard-approved 12-Hour STCW Personal Survival Techniques\, December 11th\, 8:00am – 5:00pm\, and December 12th\, 8:00am – noon.\nYou will spend time in a pool; please bring a swimsuit or change of clothes and a towel.  \nCall 206-285-3383 or contact us to sign up.
URL:https://npfvoa.org/event/stcw-personal-survival-techniques-21/
LOCATION:NPFVOA @ Fishermen’s Terminal\, 1900 West Nickerson St\, Suite 315\, Seattle\, WA\, 98119\, United States
CATEGORIES:STCW
END:VEVENT
BEGIN:VEVENT
DTSTART;TZID=America/Los_Angeles:20251209T080000
DTEND;TZID=America/Los_Angeles:20251210T170000
DTSTAMP:20260423T133910
CREATED:20241119T231544Z
LAST-MODIFIED:20251107T234923Z
UID:10000337-1765267200-1765386000@npfvoa.org
SUMMARY:STCW 2-Day Basic Firefighting
DESCRIPTION:US Coast Guard-approved STCW Basic Firefighting. Day 1 is held at the NPFVOA office in Fishermen’s Terminal\, 8:00am – 5:00pm. Day 2 is held offsite. Directions will be provided. \nCall 206-285-3383 or contact us to sign up.
URL:https://npfvoa.org/event/stcw-2-day-basic-firefighting-21/
LOCATION:NPFVOA @ Fishermen’s Terminal\, 1900 West Nickerson St\, Suite 315\, Seattle\, WA\, 98119\, United States
CATEGORIES:Fire Fighting
END:VEVENT
BEGIN:VEVENT
DTSTART;TZID=America/Los_Angeles:20251208T080000
DTEND;TZID=America/Los_Angeles:20251208T080000
DTSTAMP:20260423T133910
CREATED:20241119T230734Z
LAST-MODIFIED:20251217T052915Z
UID:10000336-1765180800-1765180800@npfvoa.org
SUMMARY:Medical Emergencies at Sea
DESCRIPTION:8-Hour US Coast Guard-approved Medical Emergencies at Sea (First Aid/CPR) 8:00am – 5:00pm.\nCall 206-285-3383 or contact us to sign up.
URL:https://npfvoa.org/event/medical-emergencies-at-sea-21/
LOCATION:NPFVOA @ Fishermen’s Terminal\, 1900 West Nickerson St\, Suite 315\, Seattle\, WA\, 98119\, United States
CATEGORIES:Medical
END:VEVENT
BEGIN:VEVENT
DTSTART;TZID=America/Los_Angeles:20251205T080000
DTEND;TZID=America/Los_Angeles:20251205T080000
DTSTAMP:20260423T133910
CREATED:20241119T233855Z
LAST-MODIFIED:20251107T235330Z
UID:10000345-1764921600-1764921600@npfvoa.org
SUMMARY:Shipyard Competent Person Refresher
DESCRIPTION:Shipyard Competent Person Refresher\, 8:00am-4:00pm.  \nCall 206-285-3383 or contact us to sign up.
URL:https://npfvoa.org/event/shipyard-competent-person-refresher-16/
LOCATION:NPFVOA @ Fishermen’s Terminal\, 1900 West Nickerson St\, Suite 315\, Seattle\, WA\, 98119\, United States
CATEGORIES:Shipyard Competent Person
END:VEVENT
BEGIN:VEVENT
DTSTART;TZID=America/Los_Angeles:20251203T080000
DTEND;TZID=America/Los_Angeles:20251205T160000
DTSTAMP:20260423T133910
CREATED:20241119T233557Z
LAST-MODIFIED:20251202T061145Z
UID:10000344-1764748800-1764950400@npfvoa.org
SUMMARY:Shipyard Competent Person
DESCRIPTION:Shipyard Competent Person\, 8:00am-4:00pm each day. \nCall 206-285-3383 or contact us to sign up.
URL:https://npfvoa.org/event/shipyard-competent-person-16/
LOCATION:NPFVOA @ Fishermen’s Terminal\, 1900 West Nickerson St\, Suite 315\, Seattle\, WA\, 98119\, United States
CATEGORIES:Shipyard Competent Person
END:VEVENT
BEGIN:VEVENT
DTSTART;TZID=America/Los_Angeles:20251126T080000
DTEND;TZID=America/Los_Angeles:20251126T170000
DTSTAMP:20260423T133910
CREATED:20241119T215356Z
LAST-MODIFIED:20241119T215356Z
UID:10000325-1764144000-1764176400@npfvoa.org
SUMMARY:HAZWOPER Refresher
DESCRIPTION:Class time 8:00am – 5:00pm.\nCall 206-285-3383 or email to sign up.
URL:https://npfvoa.org/event/hazwoper-refresher-38/
LOCATION:NPFVOA @ Fishermen’s Terminal\, 1900 West Nickerson St\, Suite 315\, Seattle\, WA\, 98119\, United States
CATEGORIES:HAZWOPER
END:VEVENT
BEGIN:VEVENT
DTSTART;TZID=America/Los_Angeles:20251124T080000
DTEND;TZID=America/Los_Angeles:20251126T170000
DTSTAMP:20260423T133910
CREATED:20241119T215651Z
LAST-MODIFIED:20241119T215651Z
UID:10000326-1763971200-1764176400@npfvoa.org
SUMMARY:24-Hour HAZWOPER Hazardous Materials Technician
DESCRIPTION:Class time: 8:00am – 5:00pm.\n8-Hour HAZWOPER Refresher offered concurrently on the first or last day of the 24-Hour class.\nCall 206-285-3383 or email to sign up.
URL:https://npfvoa.org/event/24-hour-hazwoper-hazardous-materials-technician-19/
LOCATION:NPFVOA @ Fishermen’s Terminal\, 1900 West Nickerson St\, Suite 315\, Seattle\, WA\, 98119\, United States
CATEGORIES:HAZWOPER
END:VEVENT
BEGIN:VEVENT
DTSTART;TZID=America/Los_Angeles:20251124T080000
DTEND;TZID=America/Los_Angeles:20251124T170000
DTSTAMP:20260423T133910
CREATED:20241119T215119Z
LAST-MODIFIED:20241119T215119Z
UID:10000324-1763971200-1764003600@npfvoa.org
SUMMARY:HAZWOPER Refresher
DESCRIPTION:Class time 8:00am – 5:00pm.\nCall 206-285-3383 or email to sign up.
URL:https://npfvoa.org/event/hazwoper-refresher-37/
LOCATION:NPFVOA @ Fishermen’s Terminal\, 1900 West Nickerson St\, Suite 315\, Seattle\, WA\, 98119\, United States
CATEGORIES:HAZWOPER
END:VEVENT
BEGIN:VEVENT
DTSTART;TZID=America/Los_Angeles:20251114T080000
DTEND;TZID=America/Los_Angeles:20251114T080000
DTSTAMP:20260423T133910
CREATED:20241119T215912Z
LAST-MODIFIED:20251009T163011Z
UID:10000328-1763107200-1763107200@npfvoa.org
SUMMARY:Shipyard Competent Person Refresher
DESCRIPTION:Shipyard Competent Person Refresher\, 8:00am-4:00pm. Call (206) 285-3383 or email to sign up.
URL:https://npfvoa.org/event/shipyard-competent-person-refresher-15/
LOCATION:NPFVOA @ Fishermen’s Terminal\, 1900 West Nickerson St\, Suite 315\, Seattle\, WA\, 98119\, United States
CATEGORIES:Shipyard Competent Person
END:VEVENT
BEGIN:VEVENT
DTSTART;TZID=America/Los_Angeles:20251112T080000
DTEND;TZID=America/Los_Angeles:20251114T160000
DTSTAMP:20260423T133910
CREATED:20241119T215851Z
LAST-MODIFIED:20251202T061234Z
UID:10000327-1762934400-1763136000@npfvoa.org
SUMMARY:Shipyard Competent Person
DESCRIPTION:Shipyard Competent Person\, 8:00am-4:00pm each day. Call (206) 285-3383 or email to sign up.
URL:https://npfvoa.org/event/shipyard-competent-person-15/
LOCATION:NPFVOA @ Fishermen’s Terminal\, 1900 West Nickerson St\, Suite 315\, Seattle\, WA\, 98119\, United States
CATEGORIES:Shipyard Competent Person
END:VEVENT
BEGIN:VEVENT
DTSTART;TZID=America/Los_Angeles:20251111T080000
DTEND;TZID=America/Los_Angeles:20251111T080000
DTSTAMP:20260423T133910
CREATED:20241119T214327Z
LAST-MODIFIED:20251209T214437Z
UID:10000323-1762848000-1762848000@npfvoa.org
SUMMARY:Onboard Drill Instructor
DESCRIPTION:8-Hour US Coast Guard-accepted Onboard Drill Instructor\, 8:00am – 5:00pm. Call (206) 285-3383 or email to register.
URL:https://npfvoa.org/event/drill-instructor-workshop-19/
LOCATION:NPFVOA @ Fishermen’s Terminal\, 1900 West Nickerson St\, Suite 315\, Seattle\, WA\, 98119\, United States
CATEGORIES:Drill
END:VEVENT
BEGIN:VEVENT
DTSTART;TZID=America/Los_Angeles:20251107T130000
DTEND;TZID=America/Los_Angeles:20251107T170000
DTSTAMP:20260423T133910
CREATED:20241119T213036Z
LAST-MODIFIED:20251009T162834Z
UID:10000320-1762520400-1762534800@npfvoa.org
SUMMARY:STCW Personal Safety & Social Responsibilities
DESCRIPTION:US Coast Guard-approved 4-Hour Personal Safety & Social Responsibilities\, 1:00 – 5:00pm. Call 206-285-3383 or email to sign up.
URL:https://npfvoa.org/event/stcw-personal-safety-social-responsibilities-19/
LOCATION:NPFVOA @ Fishermen’s Terminal\, 1900 West Nickerson St\, Suite 315\, Seattle\, WA\, 98119\, United States
CATEGORIES:STCW
END:VEVENT
BEGIN:VEVENT
DTSTART;TZID=America/Los_Angeles:20251106T080000
DTEND;TZID=America/Los_Angeles:20251107T120000
DTSTAMP:20260423T133910
CREATED:20241119T212706Z
LAST-MODIFIED:20251009T162658Z
UID:10000319-1762416000-1762516800@npfvoa.org
SUMMARY:STCW Personal Survival Techniques
DESCRIPTION:US Coast Guard-approved 12-Hour STCW Personal Survival Techniques\, November 6\, 8:00am – 5:00pm\, and November 7th\, 8:00am – noon.\nYou will spend time in a pool; please bring a swimsuit or change of clothes and a towel. Call 206-285-3383 or email to sign up.
URL:https://npfvoa.org/event/stcw-personal-survival-techniques-20/
LOCATION:NPFVOA @ Fishermen’s Terminal\, 1900 West Nickerson St\, Suite 315\, Seattle\, WA\, 98119\, United States
CATEGORIES:STCW
END:VEVENT
BEGIN:VEVENT
DTSTART;TZID=America/Los_Angeles:20251104T080000
DTEND;TZID=America/Los_Angeles:20251105T170000
DTSTAMP:20260423T133910
CREATED:20241119T213604Z
LAST-MODIFIED:20251104T230105Z
UID:10000322-1762243200-1762362000@npfvoa.org
SUMMARY:STCW 2-Day Basic Firefighting
DESCRIPTION:US Coast Guard-approved STCW Basic Firefighting. Day 1 is held at the NPFVOA office in Fishermen’s Terminal\, 8:00am – 5:00pm. Day 2 is held offsite. Directions will be provided. \nCall (206) 285-3383 or contact us to sign up.
URL:https://npfvoa.org/event/stcw-2-day-basic-firefighting-20/
LOCATION:NPFVOA @ Fishermen’s Terminal\, 1900 West Nickerson St\, Suite 315\, Seattle\, WA\, 98119\, United States
CATEGORIES:Fire Fighting
END:VEVENT
BEGIN:VEVENT
DTSTART;TZID=America/Los_Angeles:20251103T080000
DTEND;TZID=America/Los_Angeles:20251103T080000
DTSTAMP:20260423T133910
CREATED:20241119T213304Z
LAST-MODIFIED:20241119T213304Z
UID:10000321-1762156800-1762156800@npfvoa.org
SUMMARY:Medical Emergencies at Sea
DESCRIPTION:8-Hour US Coast Guard-approved Medical Emergencies at Sea (First Aid/CPR) 8:00am – 5:00pm.\nCall (206) 285-3383 or email to sign up.
URL:https://npfvoa.org/event/medical-emergencies-at-sea-20/
LOCATION:NPFVOA @ Fishermen’s Terminal\, 1900 West Nickerson St\, Suite 315\, Seattle\, WA\, 98119\, United States
CATEGORIES:Medical
END:VEVENT
BEGIN:VEVENT
DTSTART;TZID=America/Los_Angeles:20251031T080000
DTEND;TZID=America/Los_Angeles:20251031T123000
DTSTAMP:20260423T133910
CREATED:20250912T184106Z
LAST-MODIFIED:20251209T220910Z
UID:10000347-1761897600-1761913800@npfvoa.org
SUMMARY:Fishing Vessel Stability
DESCRIPTION:
URL:https://npfvoa.org/event/fishing-vessel-stability-2/
LOCATION:NPFVOA @ Fishermen’s Terminal\, 1900 West Nickerson St\, Suite 315\, Seattle\, WA\, 98119\, United States
CATEGORIES:Stability
END:VEVENT
BEGIN:VEVENT
DTSTART;TZID=America/Los_Angeles:20251029T080000
DTEND;TZID=America/Los_Angeles:20251029T170000
DTSTAMP:20260423T133910
CREATED:20241118T224356Z
LAST-MODIFIED:20241118T224356Z
UID:10000308-1761724800-1761757200@npfvoa.org
SUMMARY:HAZWOPER Refresher
DESCRIPTION:Class time 8:00am – 5:00pm.\nCall 206-285-3383 or email to sign up.
URL:https://npfvoa.org/event/hazwoper-refresher-36/
LOCATION:NPFVOA @ Fishermen’s Terminal\, 1900 West Nickerson St\, Suite 315\, Seattle\, WA\, 98119\, United States
CATEGORIES:HAZWOPER
END:VEVENT
END:VCALENDAR