BEGIN:VCALENDAR
VERSION:2.0
PRODID:-//NPFVOA Vessel Safety Program - ECPv6.15.20//NONSGML v1.0//EN
CALSCALE:GREGORIAN
METHOD:PUBLISH
X-WR-CALNAME:NPFVOA Vessel Safety Program
X-ORIGINAL-URL:https://npfvoa.org
X-WR-CALDESC:Events for NPFVOA Vessel Safety Program
REFRESH-INTERVAL;VALUE=DURATION:PT1H
X-Robots-Tag:noindex
X-PUBLISHED-TTL:PT1H
BEGIN:VTIMEZONE
TZID:America/Los_Angeles
BEGIN:DAYLIGHT
TZOFFSETFROM:-0800
TZOFFSETTO:-0700
TZNAME:PDT
DTSTART:20240310T100000
END:DAYLIGHT
BEGIN:STANDARD
TZOFFSETFROM:-0700
TZOFFSETTO:-0800
TZNAME:PST
DTSTART:20241103T090000
END:STANDARD
BEGIN:DAYLIGHT
TZOFFSETFROM:-0800
TZOFFSETTO:-0700
TZNAME:PDT
DTSTART:20250309T100000
END:DAYLIGHT
BEGIN:STANDARD
TZOFFSETFROM:-0700
TZOFFSETTO:-0800
TZNAME:PST
DTSTART:20251102T090000
END:STANDARD
BEGIN:DAYLIGHT
TZOFFSETFROM:-0800
TZOFFSETTO:-0700
TZNAME:PDT
DTSTART:20260308T100000
END:DAYLIGHT
BEGIN:STANDARD
TZOFFSETFROM:-0700
TZOFFSETTO:-0800
TZNAME:PST
DTSTART:20261101T090000
END:STANDARD
BEGIN:DAYLIGHT
TZOFFSETFROM:-0800
TZOFFSETTO:-0700
TZNAME:PDT
DTSTART:20270314T100000
END:DAYLIGHT
BEGIN:STANDARD
TZOFFSETFROM:-0700
TZOFFSETTO:-0800
TZNAME:PST
DTSTART:20271107T090000
END:STANDARD
END:VTIMEZONE
BEGIN:VEVENT
DTSTART;TZID=America/Los_Angeles:20260421T093000
DTEND;TZID=America/Los_Angeles:20260421T133000
DTSTAMP:20260423T105046
CREATED:20251022T212129Z
LAST-MODIFIED:20251119T233555Z
UID:10000400-1776763800-1776778200@npfvoa.org
SUMMARY:Specimen Collection Certification
DESCRIPTION:Call 206-285-3383 or contact us to sign up.
URL:https://npfvoa.org/event/specimen-collection-certification-24/
LOCATION:NPFVOA  @ 1900 W Nickerson St #315\, Seattle\, WA 98119\, USA\, Seattle\, WA\, United States
CATEGORIES:Specimen Collection
END:VEVENT
BEGIN:VEVENT
DTSTART;TZID=America/Los_Angeles:20260406T080000
DTEND;TZID=America/Los_Angeles:20260410T170000
DTSTAMP:20260423T105046
CREATED:20251022T181006Z
LAST-MODIFIED:20251209T221725Z
UID:10000389-1775462400-1775840400@npfvoa.org
SUMMARY:STCW Basic Training
DESCRIPTION:US Coast Guard-approved 5-Day STCW Basic Training\, 8:00am – 5:00pm\nIncludes Medical Emergencies at Sea\, Personal Survival Techniques\, Personal Safety & Social Responsibilities\, and 2-Day Basic Firefighting. You will spend time in a pool; please bring a swimsuit or change of clothes and a towel. The 2nd day of Firefighting is held offsite (directions will be provided).
URL:https://npfvoa.org/event/stcw-basic-training-24/
LOCATION:NPFVOA  @ 1900 W Nickerson St #315\, Seattle\, WA 98119\, USA\, Seattle\, WA\, United States
CATEGORIES:STCW Basic Training
END:VEVENT
BEGIN:VEVENT
DTSTART;TZID=America/Los_Angeles:20260327T080000
DTEND;TZID=America/Los_Angeles:20260327T170000
DTSTAMP:20260423T105046
CREATED:20260127T225719Z
LAST-MODIFIED:20260127T225719Z
UID:10000516-1774598400-1774630800@npfvoa.org
SUMMARY:Practical Survival Techniques for Fishing Vessels
DESCRIPTION:Non-Coast Guard-approved Survival training. No tests\, no pass/fail assessments. Classroom instruction and in-water exercises.
URL:https://npfvoa.org/event/practical-survival-techniques-for-fishing-vessels-2/
LOCATION:NPFVOA  @ 1900 W Nickerson St #315\, Seattle\, WA 98119\, USA\, Seattle\, WA\, United States
CATEGORIES:Survival
END:VEVENT
BEGIN:VEVENT
DTSTART;TZID=America/Los_Angeles:20260325T080000
DTEND;TZID=America/Los_Angeles:20260325T170000
DTSTAMP:20260423T105046
CREATED:20260127T224504Z
LAST-MODIFIED:20260127T224504Z
UID:10000514-1774425600-1774458000@npfvoa.org
SUMMARY:Practical First Aid/CPR for Fishing Vessels
DESCRIPTION:Non-Coast Guard-approved Medical training. No tests\, no pass/fail assessments.
URL:https://npfvoa.org/event/practical-first-aid-cpr-for-fishing-vessels-2/
LOCATION:NPFVOA  @ 1900 W Nickerson St #315\, Seattle\, WA 98119\, USA\, Seattle\, WA\, United States
CATEGORIES:Medical
END:VEVENT
BEGIN:VEVENT
DTSTART;TZID=America/Los_Angeles:20260317T093000
DTEND;TZID=America/Los_Angeles:20260317T133000
DTSTAMP:20260423T105046
CREATED:20251022T180027Z
LAST-MODIFIED:20251119T233453Z
UID:10000388-1773739800-1773754200@npfvoa.org
SUMMARY:Specimen Collection Certification
DESCRIPTION:Call 206-285-3383 or contact us to sign up.
URL:https://npfvoa.org/event/specimen-collection-certification-23/
LOCATION:NPFVOA  @ 1900 W Nickerson St #315\, Seattle\, WA 98119\, USA\, Seattle\, WA\, United States
CATEGORIES:Specimen Collection
END:VEVENT
BEGIN:VEVENT
DTSTART;TZID=America/Los_Angeles:20260309T080000
DTEND;TZID=America/Los_Angeles:20260313T170000
DTSTAMP:20260423T105046
CREATED:20251021T225035Z
LAST-MODIFIED:20251209T221739Z
UID:10000376-1773043200-1773421200@npfvoa.org
SUMMARY:STCW Basic Training
DESCRIPTION:US Coast Guard-approved 5-Day STCW Basic Training\, 8:00am – 5:00pm\nIncludes Medical Emergencies at Sea\, Personal Survival Techniques\, Personal Safety & Social Responsibilities\, and 2-Day Basic Firefighting. You will spend time in a pool; please bring a swimsuit or change of clothes and a towel. The 2nd day of Firefighting is held offsite (directions will be provided).
URL:https://npfvoa.org/event/stcw-basic-training-23/
LOCATION:NPFVOA  @ 1900 W Nickerson St #315\, Seattle\, WA 98119\, USA\, Seattle\, WA\, United States
CATEGORIES:STCW Basic Training
END:VEVENT
BEGIN:VEVENT
DTSTART;TZID=America/Los_Angeles:20260227T080000
DTEND;TZID=America/Los_Angeles:20260227T170000
DTSTAMP:20260423T105046
CREATED:20260127T225411Z
LAST-MODIFIED:20260127T225411Z
UID:10000515-1772179200-1772211600@npfvoa.org
SUMMARY:Practical Survival Techniques for Fishing Vessels
DESCRIPTION:Non-Coast Guard-approved Survival training. No tests\, no pass/fail assessments. Classroom instruction and in-water exercises.
URL:https://npfvoa.org/event/practical-survival-techniques-for-fishing-vessels/
LOCATION:NPFVOA  @ 1900 W Nickerson St #315\, Seattle\, WA 98119\, USA\, Seattle\, WA\, United States
CATEGORIES:Survival
END:VEVENT
BEGIN:VEVENT
DTSTART;TZID=America/Los_Angeles:20260225T080000
DTEND;TZID=America/Los_Angeles:20260225T170000
DTSTAMP:20260423T105046
CREATED:20260127T224317Z
LAST-MODIFIED:20260127T224317Z
UID:10000513-1772006400-1772038800@npfvoa.org
SUMMARY:Practical First Aid/CPR for Fishing Vessels
DESCRIPTION:Non-Coast Guard-approved Medical training. No tests\, no pass/fail assessments.
URL:https://npfvoa.org/event/practical-first-aid-cpr-for-fishing-vessels/
LOCATION:NPFVOA  @ 1900 W Nickerson St #315\, Seattle\, WA 98119\, USA\, Seattle\, WA\, United States
CATEGORIES:Medical
END:VEVENT
BEGIN:VEVENT
DTSTART;TZID=America/Los_Angeles:20260217T093000
DTEND;TZID=America/Los_Angeles:20260217T133000
DTSTAMP:20260423T105046
CREATED:20251021T224600Z
LAST-MODIFIED:20251108T002642Z
UID:10000375-1771320600-1771335000@npfvoa.org
SUMMARY:Specimen Collection Certification
DESCRIPTION:Call 206-285-3383 or contact us to sign up.
URL:https://npfvoa.org/event/specimen-collection-certification-22/
LOCATION:NPFVOA  @ 1900 W Nickerson St #315\, Seattle\, WA 98119\, USA\, Seattle\, WA\, United States
CATEGORIES:Specimen Collection
END:VEVENT
BEGIN:VEVENT
DTSTART;TZID=America/Los_Angeles:20260209T080000
DTEND;TZID=America/Los_Angeles:20260213T170000
DTSTAMP:20260423T105046
CREATED:20251021T192411Z
LAST-MODIFIED:20251209T221804Z
UID:10000362-1770624000-1771002000@npfvoa.org
SUMMARY:STCW Basic Training
DESCRIPTION:US Coast Guard-approved 5-Day STCW Basic Training\, 8:00am – 5:00pm\nIncludes Medical Emergencies at Sea\, Personal Survival Techniques\, Personal Safety & Social Responsibilities\, and 2-Day Basic Firefighting. You will spend time in a pool; please bring a swimsuit or change of clothes and a towel. The 2nd day of Firefighting is held offsite (directions will be provided).
URL:https://npfvoa.org/event/stcw-basic-training-22/
LOCATION:NPFVOA  @ 1900 W Nickerson St #315\, Seattle\, WA 98119\, USA\, Seattle\, WA\, United States
CATEGORIES:STCW Basic Training
END:VEVENT
BEGIN:VEVENT
DTSTART;TZID=America/Los_Angeles:20260120T093000
DTEND;TZID=America/Los_Angeles:20260120T133000
DTSTAMP:20260423T105046
CREATED:20251021T184842Z
LAST-MODIFIED:20251108T001408Z
UID:10000361-1768901400-1768915800@npfvoa.org
SUMMARY:Specimen Collection Certification
DESCRIPTION:Call 206-285-3383 or contact us to sign up.
URL:https://npfvoa.org/event/specimen-collection-certification-21/
LOCATION:NPFVOA  @ 1900 W Nickerson St #315\, Seattle\, WA 98119\, USA\, Seattle\, WA\, United States
CATEGORIES:Specimen Collection
END:VEVENT
BEGIN:VEVENT
DTSTART;TZID=America/Los_Angeles:20260105T080000
DTEND;TZID=America/Los_Angeles:20260109T170000
DTSTAMP:20260423T105046
CREATED:20251021T173823Z
LAST-MODIFIED:20251211T004203Z
UID:10000348-1767600000-1767978000@npfvoa.org
SUMMARY:STCW Basic Training
DESCRIPTION:US Coast Guard-approved 5-Day STCW Basic Training\, 8:00am – 5:00pm\nIncludes Medical Emergencies at Sea\, Personal Survival Techniques\, Personal Safety & Social Responsibilities\, and 2-Day Basic Firefighting. You will spend time in a pool; please bring a swimsuit or change of clothes and a towel. The 2nd day of Firefighting is held offsite (directions will be provided).
URL:https://npfvoa.org/event/stcw-basic-training-21/
LOCATION:NPFVOA  @ 1900 W Nickerson St #315\, Seattle\, WA 98119\, USA\, Seattle\, WA\, United States
CATEGORIES:STCW Basic Training
END:VEVENT
BEGIN:VEVENT
DTSTART;TZID=America/Los_Angeles:20251223T093000
DTEND;TZID=America/Los_Angeles:20251223T133000
DTSTAMP:20260423T105046
CREATED:20241119T234524Z
LAST-MODIFIED:20251107T235710Z
UID:10000346-1766482200-1766496600@npfvoa.org
SUMMARY:Specimen Collection Certification
DESCRIPTION:Call 206-285-3383 or contact us to sign up.
URL:https://npfvoa.org/event/specimen-collection-certification-20/
LOCATION:NPFVOA  @ 1900 W Nickerson St #315\, Seattle\, WA 98119\, USA\, Seattle\, WA\, United States
CATEGORIES:Specimen Collection
END:VEVENT
BEGIN:VEVENT
DTSTART;TZID=America/Los_Angeles:20251208T080000
DTEND;TZID=America/Los_Angeles:20251212T170000
DTSTAMP:20260423T105046
CREATED:20241119T224151Z
LAST-MODIFIED:20251217T052814Z
UID:10000332-1765180800-1765558800@npfvoa.org
SUMMARY:STCW Basic Training
DESCRIPTION:US Coast Guard-approved 5-Day STCW Basic Training\, 8:00am – 5:00pm\nIncludes Medical Emergencies at Sea\, Personal Survival Techniques\, Personal Safety & Social Responsibilities\, and 2-Day Basic Firefighting. You will spend time in a pool; please bring a swimsuit or change of clothes and a towel. The 2nd day of Firefighting is held offsite (directions will be provided).
URL:https://npfvoa.org/event/stcw-basic-training-20/
LOCATION:NPFVOA  @ 1900 W Nickerson St #315\, Seattle\, WA 98119\, USA\, Seattle\, WA\, United States
CATEGORIES:STCW Basic Training
END:VEVENT
BEGIN:VEVENT
DTSTART;TZID=America/Los_Angeles:20251118T093000
DTEND;TZID=America/Los_Angeles:20251118T133000
DTSTAMP:20260423T105046
CREATED:20241119T220021Z
LAST-MODIFIED:20241119T220021Z
UID:10000329-1763458200-1763472600@npfvoa.org
SUMMARY:Specimen Collection Certification
DESCRIPTION:Call 206-285-3383 or email to sign up.
URL:https://npfvoa.org/event/specimen-collection-certification-19/
LOCATION:NPFVOA  @ 1900 W Nickerson St #315\, Seattle\, WA 98119\, USA\, Seattle\, WA\, United States
CATEGORIES:Specimen Collection
END:VEVENT
BEGIN:VEVENT
DTSTART;TZID=America/Los_Angeles:20251103T080000
DTEND;TZID=America/Los_Angeles:20251107T170000
DTSTAMP:20260423T105046
CREATED:20241119T200708Z
LAST-MODIFIED:20251209T222226Z
UID:10000315-1762156800-1762534800@npfvoa.org
SUMMARY:STCW Basic Training
DESCRIPTION:US Coast Guard-approved 5-Day STCW Basic Training\, 8:00am – 5:00pm\nIncludes Medical Emergencies at Sea\, Personal Survival Techniques\, Personal Safety & Social Responsibilities\, and 2-Day Basic Firefighting. You will spend time in a pool; please bring a swimsuit or change of clothes and a towel. The 2nd day of Firefighting is held offsite (directions will be provided).
URL:https://npfvoa.org/event/stcw-basic-training-19/
LOCATION:NPFVOA  @ 1900 W Nickerson St #315\, Seattle\, WA 98119\, USA\, Seattle\, WA\, United States
CATEGORIES:STCW Basic Training
END:VEVENT
BEGIN:VEVENT
DTSTART;TZID=America/Los_Angeles:20251014T093000
DTEND;TZID=America/Los_Angeles:20251014T133000
DTSTAMP:20260423T105046
CREATED:20241118T230009Z
LAST-MODIFIED:20241118T230009Z
UID:10000312-1760434200-1760448600@npfvoa.org
SUMMARY:Specimen Collection Certification
DESCRIPTION:Call 206-285-3383 or email to sign up.
URL:https://npfvoa.org/event/specimen-collection-certification-18/
LOCATION:NPFVOA  @ 1900 W Nickerson St #315\, Seattle\, WA 98119\, USA\, Seattle\, WA\, United States
CATEGORIES:Specimen Collection
END:VEVENT
BEGIN:VEVENT
DTSTART;TZID=America/Los_Angeles:20251006T080000
DTEND;TZID=America/Los_Angeles:20251010T170000
DTSTAMP:20260423T105046
CREATED:20241118T200916Z
LAST-MODIFIED:20251209T222246Z
UID:10000298-1759737600-1760115600@npfvoa.org
SUMMARY:STCW Basic Training
DESCRIPTION:US Coast Guard-approved 5-Day STCW Basic Training\, 8:00am – 5:00pm\nIncludes Medical Emergencies at Sea\, Personal Survival Techniques\, Personal Safety & Social Responsibilities\, and 2-Day Basic Firefighting. You will spend time in a pool; please bring a swimsuit or change of clothes and a towel. The 2nd day of Firefighting is held offsite (directions will be provided).
URL:https://npfvoa.org/event/stcw-basic-training-18/
LOCATION:NPFVOA  @ 1900 W Nickerson St #315\, Seattle\, WA 98119\, USA\, Seattle\, WA\, United States
CATEGORIES:STCW Basic Training
END:VEVENT
BEGIN:VEVENT
DTSTART;TZID=America/Los_Angeles:20250916T093000
DTEND;TZID=America/Los_Angeles:20250916T133000
DTSTAMP:20260423T105046
CREATED:20241115T233722Z
LAST-MODIFIED:20241115T233722Z
UID:10000295-1758015000-1758029400@npfvoa.org
SUMMARY:Specimen Collection Certification
DESCRIPTION:Call 206-285-3383 or email to sign up.
URL:https://npfvoa.org/event/specimen-collection-certification-17/
LOCATION:NPFVOA  @ 1900 W Nickerson St #315\, Seattle\, WA 98119\, USA\, Seattle\, WA\, United States
CATEGORIES:Specimen Collection
END:VEVENT
BEGIN:VEVENT
DTSTART;TZID=America/Los_Angeles:20250908T080000
DTEND;TZID=America/Los_Angeles:20250912T170000
DTSTAMP:20260423T105046
CREATED:20241115T231225Z
LAST-MODIFIED:20251209T222303Z
UID:10000284-1757318400-1757696400@npfvoa.org
SUMMARY:STCW Basic Training
DESCRIPTION:US Coast Guard-approved 5-Day STCW Basic Training\, 8:00am – 5:00pm\nIncludes Medical Emergencies at Sea\, Personal Survival Techniques\, Personal Safety & Social Responsibilities\, and 2-Day Basic Firefighting. You will spend time in a pool; please bring a swimsuit or change of clothes and a towel. The 2nd day of Firefighting is held offsite (directions will be provided).
URL:https://npfvoa.org/event/stcw-basic-training-17/
LOCATION:NPFVOA  @ 1900 W Nickerson St #315\, Seattle\, WA 98119\, USA\, Seattle\, WA\, United States
CATEGORIES:STCW Basic Training
END:VEVENT
BEGIN:VEVENT
DTSTART;TZID=America/Los_Angeles:20250819T093000
DTEND;TZID=America/Los_Angeles:20250819T133000
DTSTAMP:20260423T105046
CREATED:20241115T225927Z
LAST-MODIFIED:20241115T225927Z
UID:10000278-1755595800-1755610200@npfvoa.org
SUMMARY:Specimen Collection Certification
DESCRIPTION:Call 206-285-3383 or email to sign up.
URL:https://npfvoa.org/event/specimen-collection-certification-16/
LOCATION:NPFVOA  @ 1900 W Nickerson St #315\, Seattle\, WA 98119\, USA\, Seattle\, WA\, United States
CATEGORIES:Specimen Collection
END:VEVENT
BEGIN:VEVENT
DTSTART;TZID=America/Los_Angeles:20250804T080000
DTEND;TZID=America/Los_Angeles:20250808T170000
DTSTAMP:20260423T105046
CREATED:20241114T003034Z
LAST-MODIFIED:20241114T003034Z
UID:10000267-1754294400-1754672400@npfvoa.org
SUMMARY:STCW Basic Training
DESCRIPTION:US Coast Guard-approved 5-Day STCW Basic Training\, 8:00am – 5:00pm\nIncludes Medical Emergencies at Sea\, Personal Survival Techniques\, Personal Safety & Social Responsibilities\, and 2-Day Basic Firefighting. You will spend time in a pool; please bring a swimsuit or change of clothes and a towel. The 2nd day of Firefighting is held offsite (directions will be provided). Call 206-285-3383 or email to sign up.
URL:https://npfvoa.org/event/stcw-basic-training-16/
LOCATION:NPFVOA  @ 1900 W Nickerson St #315\, Seattle\, WA 98119\, USA\, Seattle\, WA\, United States
CATEGORIES:STCW Basic Training
END:VEVENT
BEGIN:VEVENT
DTSTART;TZID=America/Los_Angeles:20250715T093000
DTEND;TZID=America/Los_Angeles:20250715T133000
DTSTAMP:20260423T105046
CREATED:20241113T215105Z
LAST-MODIFIED:20241113T215105Z
UID:10000251-1752571800-1752586200@npfvoa.org
SUMMARY:Specimen Collection Certification
DESCRIPTION:Call 206-285-3383 or email to sign up.
URL:https://npfvoa.org/event/specimen-collection-certification-15/
LOCATION:NPFVOA  @ 1900 W Nickerson St #315\, Seattle\, WA 98119\, USA\, Seattle\, WA\, United States
CATEGORIES:Specimen Collection
END:VEVENT
BEGIN:VEVENT
DTSTART;TZID=America/Los_Angeles:20250707T080000
DTEND;TZID=America/Los_Angeles:20250711T170000
DTSTAMP:20260423T105046
CREATED:20241113T215955Z
LAST-MODIFIED:20241113T215955Z
UID:10000263-1751875200-1752253200@npfvoa.org
SUMMARY:STCW Basic Training
DESCRIPTION:US Coast Guard-approved 5-Day STCW Basic Training\, 8:00am – 5:00pm\nIncludes Medical Emergencies at Sea\, Personal Survival Techniques\, Personal Safety & Social Responsibilities\, and 2-Day Basic Firefighting. You will spend time in a pool; please bring a swimsuit or change of clothes and a towel. The 2nd day of Firefighting is held offsite (directions will be provided). Call 206-285-3383 or email to sign up.
URL:https://npfvoa.org/event/stcw-basic-training-15/
LOCATION:NPFVOA  @ 1900 W Nickerson St #315\, Seattle\, WA 98119\, USA\, Seattle\, WA\, United States
CATEGORIES:STCW Basic Training
END:VEVENT
BEGIN:VEVENT
DTSTART;TZID=America/Los_Angeles:20250617T093000
DTEND;TZID=America/Los_Angeles:20250617T133000
DTSTAMP:20260423T105046
CREATED:20241112T224354Z
LAST-MODIFIED:20241112T224354Z
UID:10000245-1750152600-1750167000@npfvoa.org
SUMMARY:Specimen Collection Certification
DESCRIPTION:Call 206-285-3383 or email to sign up.
URL:https://npfvoa.org/event/specimen-collection-certification-14/
LOCATION:NPFVOA  @ 1900 W Nickerson St #315\, Seattle\, WA 98119\, USA\, Seattle\, WA\, United States
CATEGORIES:Specimen Collection
END:VEVENT
BEGIN:VEVENT
DTSTART;TZID=America/Los_Angeles:20250609T080000
DTEND;TZID=America/Los_Angeles:20250613T170000
DTSTAMP:20260423T105046
CREATED:20241112T004843Z
LAST-MODIFIED:20241112T004843Z
UID:10000231-1749456000-1749834000@npfvoa.org
SUMMARY:STCW Basic Training
DESCRIPTION:US Coast Guard-approved 5-Day STCW Basic Training\, 8:00am – 5:00pm\nIncludes Medical Emergencies at Sea\, Personal Survival Techniques\, Personal Safety & Social Responsibilities\, and 2-Day Basic Firefighting. You will spend time in a pool; please bring a swimsuit or change of clothes and a towel. The 2nd day of Firefighting is held offsite (directions will be provided). Call 206-285-3383 or email to sign up.
URL:https://npfvoa.org/event/stcw-basic-training-14/
LOCATION:NPFVOA  @ 1900 W Nickerson St #315\, Seattle\, WA 98119\, USA\, Seattle\, WA\, United States
CATEGORIES:STCW Basic Training
END:VEVENT
BEGIN:VEVENT
DTSTART;TZID=America/Los_Angeles:20250513T093000
DTEND;TZID=America/Los_Angeles:20250513T133000
DTSTAMP:20260423T105046
CREATED:20241030T215909Z
LAST-MODIFIED:20241030T215909Z
UID:10000230-1747128600-1747143000@npfvoa.org
SUMMARY:Specimen Collection Certification
DESCRIPTION:Call 206-285-3383 or email to sign up.
URL:https://npfvoa.org/event/specimen-collection-certification-13/
LOCATION:NPFVOA  @ 1900 W Nickerson St #315\, Seattle\, WA 98119\, USA\, Seattle\, WA\, United States
CATEGORIES:Specimen Collection
END:VEVENT
BEGIN:VEVENT
DTSTART;TZID=America/Los_Angeles:20250505T080000
DTEND;TZID=America/Los_Angeles:20250509T170000
DTSTAMP:20260423T105046
CREATED:20241021T232545Z
LAST-MODIFIED:20241021T232545Z
UID:10000215-1746432000-1746810000@npfvoa.org
SUMMARY:STCW Basic Training
DESCRIPTION:US Coast Guard-approved 5-Day STCW Basic Training\, 8:00am – 5:00pm\nIncludes Medical Emergencies at Sea\, Personal Survival Techniques\, Personal Safety & Social Responsibilities\, and 2-Day Basic Firefighting. You will spend time in a pool; please bring a swimsuit or change of clothes and a towel. The 2nd day of Firefighting is held offsite (directions will be provided). Call 206-285-3383 or email to sign up.
URL:https://npfvoa.org/event/stcw-basic-training-13/
LOCATION:NPFVOA  @ 1900 W Nickerson St #315\, Seattle\, WA 98119\, USA\, Seattle\, WA\, United States
CATEGORIES:STCW Basic Training
END:VEVENT
END:VCALENDAR