BEGIN:VCALENDAR
VERSION:2.0
PRODID:-//NPFVOA Vessel Safety Program - ECPv6.15.20//NONSGML v1.0//EN
CALSCALE:GREGORIAN
METHOD:PUBLISH
X-WR-CALNAME:NPFVOA Vessel Safety Program
X-ORIGINAL-URL:https://npfvoa.org
X-WR-CALDESC:Events for NPFVOA Vessel Safety Program
REFRESH-INTERVAL;VALUE=DURATION:PT1H
X-Robots-Tag:noindex
X-PUBLISHED-TTL:PT1H
BEGIN:VTIMEZONE
TZID:America/Los_Angeles
BEGIN:DAYLIGHT
TZOFFSETFROM:-0800
TZOFFSETTO:-0700
TZNAME:PDT
DTSTART:20250309T100000
END:DAYLIGHT
BEGIN:STANDARD
TZOFFSETFROM:-0700
TZOFFSETTO:-0800
TZNAME:PST
DTSTART:20251102T090000
END:STANDARD
BEGIN:DAYLIGHT
TZOFFSETFROM:-0800
TZOFFSETTO:-0700
TZNAME:PDT
DTSTART:20260308T100000
END:DAYLIGHT
BEGIN:STANDARD
TZOFFSETFROM:-0700
TZOFFSETTO:-0800
TZNAME:PST
DTSTART:20261101T090000
END:STANDARD
BEGIN:DAYLIGHT
TZOFFSETFROM:-0800
TZOFFSETTO:-0700
TZNAME:PDT
DTSTART:20270314T100000
END:DAYLIGHT
BEGIN:STANDARD
TZOFFSETFROM:-0700
TZOFFSETTO:-0800
TZNAME:PST
DTSTART:20271107T090000
END:STANDARD
END:VTIMEZONE
BEGIN:VEVENT
DTSTART;TZID=America/Los_Angeles:20261117T093000
DTEND;TZID=America/Los_Angeles:20261117T133000
DTSTAMP:20260424T045803
CREATED:20251203T001651Z
LAST-MODIFIED:20251203T001651Z
UID:10000484-1794907800-1794922200@npfvoa.org
SUMMARY:Specimen Collection Certification
DESCRIPTION:Call 206-285-3383 or contact us to sign up.
URL:https://npfvoa.org/event/specimen-collection-certification-31/
LOCATION:NPFVOA  @ 1900 W Nickerson St #315\, Seattle\, WA 98119\, USA\, Seattle\, WA\, United States
CATEGORIES:Specimen Collection
END:VEVENT
BEGIN:VEVENT
DTSTART;TZID=America/Los_Angeles:20261118T080000
DTEND;TZID=America/Los_Angeles:20261120T160000
DTSTAMP:20260424T045803
CREATED:20251203T001504Z
LAST-MODIFIED:20260226T203231Z
UID:10000482-1794988800-1795190400@npfvoa.org
SUMMARY:Shipyard Competent Person
DESCRIPTION:Shipyard Competent Person\, 8:00am-4:00pm each day. \nCall 206-285-3383 or contact us to sign up.
URL:https://npfvoa.org/event/shipyard-competent-person-24/
LOCATION:NPFVOA @ Fishermen’s Terminal\, 1900 West Nickerson St\, Suite 315\, Seattle\, WA\, 98119\, United States
CATEGORIES:Shipyard Competent Person
END:VEVENT
BEGIN:VEVENT
DTSTART;TZID=America/Los_Angeles:20261120T080000
DTEND;TZID=America/Los_Angeles:20261120T080000
DTSTAMP:20260424T045803
CREATED:20251203T001533Z
LAST-MODIFIED:20260226T203054Z
UID:10000483-1795161600-1795161600@npfvoa.org
SUMMARY:Shipyard Competent Person Refresher
DESCRIPTION:Shipyard Competent Person Refresher\, 8:00am-4:00pm. \nCall 206-285-3383 or contact us to sign up.
URL:https://npfvoa.org/event/shipyard-competent-person-refresher-24/
LOCATION:NPFVOA @ Fishermen’s Terminal\, 1900 West Nickerson St\, Suite 315\, Seattle\, WA\, 98119\, United States
CATEGORIES:Shipyard Competent Person
END:VEVENT
END:VCALENDAR