BEGIN:VCALENDAR
VERSION:2.0
PRODID:-//NPFVOA Vessel Safety Program - ECPv6.15.20//NONSGML v1.0//EN
CALSCALE:GREGORIAN
METHOD:PUBLISH
X-ORIGINAL-URL:https://npfvoa.org
X-WR-CALDESC:Events for NPFVOA Vessel Safety Program
REFRESH-INTERVAL;VALUE=DURATION:PT1H
X-Robots-Tag:noindex
X-PUBLISHED-TTL:PT1H
BEGIN:VTIMEZONE
TZID:America/Los_Angeles
BEGIN:DAYLIGHT
TZOFFSETFROM:-0800
TZOFFSETTO:-0700
TZNAME:PDT
DTSTART:20250309T100000
END:DAYLIGHT
BEGIN:STANDARD
TZOFFSETFROM:-0700
TZOFFSETTO:-0800
TZNAME:PST
DTSTART:20251102T090000
END:STANDARD
BEGIN:DAYLIGHT
TZOFFSETFROM:-0800
TZOFFSETTO:-0700
TZNAME:PDT
DTSTART:20260308T100000
END:DAYLIGHT
BEGIN:STANDARD
TZOFFSETFROM:-0700
TZOFFSETTO:-0800
TZNAME:PST
DTSTART:20261101T090000
END:STANDARD
BEGIN:DAYLIGHT
TZOFFSETFROM:-0800
TZOFFSETTO:-0700
TZNAME:PDT
DTSTART:20270314T100000
END:DAYLIGHT
BEGIN:STANDARD
TZOFFSETFROM:-0700
TZOFFSETTO:-0800
TZNAME:PST
DTSTART:20271107T090000
END:STANDARD
END:VTIMEZONE
BEGIN:VEVENT
DTSTART;TZID=America/Los_Angeles:20261012T080000
DTEND;TZID=America/Los_Angeles:20261012T080000
DTSTAMP:20260424T081208
CREATED:20251126T193932Z
LAST-MODIFIED:20251126T193932Z
UID:10000460-1791792000-1791792000@npfvoa.org
SUMMARY:Medical Emergencies at Sea
DESCRIPTION:8-Hour US Coast Guard-approved Medical Emergencies at Sea (First Aid/CPR) 8:00am – 5:00pm. \nCall 206-285-3383 or contact us to sign up.
URL:https://npfvoa.org/event/medical-emergencies-at-sea-31/
LOCATION:NPFVOA @ Fishermen’s Terminal\, 1900 West Nickerson St\, Suite 315\, Seattle\, WA\, 98119\, United States
CATEGORIES:Medical
END:VEVENT
BEGIN:VEVENT
DTSTART;TZID=America/Los_Angeles:20261012T080000
DTEND;TZID=America/Los_Angeles:20261016T170000
DTSTAMP:20260424T081208
CREATED:20251126T193750Z
LAST-MODIFIED:20251209T221536Z
UID:10000459-1791792000-1792170000@npfvoa.org
SUMMARY:STCW Basic Training
DESCRIPTION:US Coast Guard-approved 5-Day STCW Basic Training\, 8:00am – 5:00pm \nIncludes Medical Emergencies at Sea\, Personal Survival Techniques\, Personal Safety & Social Responsibilities\, and 2-Day Basic Firefighting. You will spend time in a pool; please bring a swimsuit or change of clothes and a towel. The 2nd day of Firefighting is held offsite (directions will be provided). \nCall 206-285-3383 or contact us to sign up.
URL:https://npfvoa.org/event/stcw-basic-training-30/
LOCATION:NPFVOA  @ 1900 W Nickerson St #315\, Seattle\, WA 98119\, USA\, Seattle\, WA\, United States
CATEGORIES:STCW Basic Training
END:VEVENT
BEGIN:VEVENT
DTSTART;TZID=America/Los_Angeles:20261013T080000
DTEND;TZID=America/Los_Angeles:20261014T170000
DTSTAMP:20260424T081208
CREATED:20251126T194051Z
LAST-MODIFIED:20251126T194051Z
UID:10000461-1791878400-1791997200@npfvoa.org
SUMMARY:STCW 2-Day Basic Firefighting
DESCRIPTION:US Coast Guard-approved STCW Basic Firefighting. Day 1 is held at the NPFVOA office in Fishermen’s Terminal\, 8:00am – 5:00pm. Day 2 is held offsite. Directions will be provided. \nCall 206-285-3383 or contact us to sign up.
URL:https://npfvoa.org/event/stcw-2-day-basic-firefighting-31/
LOCATION:NPFVOA @ Fishermen’s Terminal\, 1900 West Nickerson St\, Suite 315\, Seattle\, WA\, 98119\, United States
CATEGORIES:Fire Fighting
END:VEVENT
BEGIN:VEVENT
DTSTART;TZID=America/Los_Angeles:20261015T080000
DTEND;TZID=America/Los_Angeles:20261016T120000
DTSTAMP:20260424T081208
CREATED:20251126T194206Z
LAST-MODIFIED:20251126T194206Z
UID:10000462-1792051200-1792152000@npfvoa.org
SUMMARY:STCW Personal Survival Techniques
DESCRIPTION:US Coast Guard-approved 12-Hour STCW Personal Survival Techniques\, October 15th\, 8:00am – 5:00pm\, and October 16th\, 8:00am – noon.\nYou will spend time in a pool; please bring a swimsuit or change of clothes and a towel. \nCall 206-285-3383 or contact us to sign up.
URL:https://npfvoa.org/event/stcw-personal-survival-techniques-31/
LOCATION:NPFVOA @ Fishermen’s Terminal\, 1900 West Nickerson St\, Suite 315\, Seattle\, WA\, 98119\, United States
CATEGORIES:STCW
END:VEVENT
BEGIN:VEVENT
DTSTART;VALUE=DATE:20261016
DTEND;VALUE=DATE:20261017
DTSTAMP:20260424T081208
CREATED:20260225T000056Z
LAST-MODIFIED:20260225T000056Z
UID:10000548-1792108800-1792195199@npfvoa.org
SUMMARY:STCW Advanced Fire Fighting Revalidation
DESCRIPTION:US Coast Guard-approved STCW Advanced Firefighting Revalidation. Held offsite. Directions will be provided. \nCall 206-285-3383 or contact us to sign up.
URL:https://npfvoa.org/event/stcw-advanced-fire-fighting-revalidation-8/
CATEGORIES:Fire Fighting
END:VEVENT
BEGIN:VEVENT
DTSTART;TZID=America/Los_Angeles:20261016T130000
DTEND;TZID=America/Los_Angeles:20261016T170000
DTSTAMP:20260424T081208
CREATED:20251126T194552Z
LAST-MODIFIED:20251126T194552Z
UID:10000463-1792155600-1792170000@npfvoa.org
SUMMARY:STCW Personal Safety & Social Responsibilities
DESCRIPTION:US Coast Guard-approved 4-Hour Personal Safety & Social Responsibilities\, 1:00 – 5:00pm. \nCall 206-285-3383 or contact us to sign up.
URL:https://npfvoa.org/event/stcw-personal-safety-social-responsibilities-30/
LOCATION:NPFVOA @ Fishermen’s Terminal\, 1900 West Nickerson St\, Suite 315\, Seattle\, WA\, 98119\, United States
CATEGORIES:STCW
END:VEVENT
BEGIN:VEVENT
DTSTART;VALUE=DATE:20261017
DTEND;VALUE=DATE:20261019
DTSTAMP:20260424T081208
CREATED:20260224T220243Z
LAST-MODIFIED:20260224T220243Z
UID:10000533-1792195200-1792367999@npfvoa.org
SUMMARY:STCW Basic Training Revalidation
DESCRIPTION:Held offsite; call 206-285-3383 or email to sign up and get details.
URL:https://npfvoa.org/event/stcw-basic-training-revalidation-7/
CATEGORIES:STCW BT Revalidation
END:VEVENT
END:VCALENDAR