BEGIN:VCALENDAR
VERSION:2.0
PRODID:-//NPFVOA Vessel Safety Program - ECPv6.15.20//NONSGML v1.0//EN
CALSCALE:GREGORIAN
METHOD:PUBLISH
X-ORIGINAL-URL:https://npfvoa.org
X-WR-CALDESC:Events for NPFVOA Vessel Safety Program
REFRESH-INTERVAL;VALUE=DURATION:PT1H
X-Robots-Tag:noindex
X-PUBLISHED-TTL:PT1H
BEGIN:VTIMEZONE
TZID:America/Los_Angeles
BEGIN:DAYLIGHT
TZOFFSETFROM:-0800
TZOFFSETTO:-0700
TZNAME:PDT
DTSTART:20250309T100000
END:DAYLIGHT
BEGIN:STANDARD
TZOFFSETFROM:-0700
TZOFFSETTO:-0800
TZNAME:PST
DTSTART:20251102T090000
END:STANDARD
BEGIN:DAYLIGHT
TZOFFSETFROM:-0800
TZOFFSETTO:-0700
TZNAME:PDT
DTSTART:20260308T100000
END:DAYLIGHT
BEGIN:STANDARD
TZOFFSETFROM:-0700
TZOFFSETTO:-0800
TZNAME:PST
DTSTART:20261101T090000
END:STANDARD
BEGIN:DAYLIGHT
TZOFFSETFROM:-0800
TZOFFSETTO:-0700
TZNAME:PDT
DTSTART:20270314T100000
END:DAYLIGHT
BEGIN:STANDARD
TZOFFSETFROM:-0700
TZOFFSETTO:-0800
TZNAME:PST
DTSTART:20271107T090000
END:STANDARD
END:VTIMEZONE
BEGIN:VEVENT
DTSTART;TZID=America/Los_Angeles:20260914T080000
DTEND;TZID=America/Los_Angeles:20260914T080000
DTSTAMP:20260424T051643
CREATED:20251121T222355Z
LAST-MODIFIED:20251121T222355Z
UID:10000447-1789372800-1789372800@npfvoa.org
SUMMARY:Medical Emergencies at Sea
DESCRIPTION:8-Hour US Coast Guard-approved Medical Emergencies at Sea (First Aid/CPR) 8:00am – 5:00pm. \nCall 206-285-3383 or contact us to sign up.
URL:https://npfvoa.org/event/medical-emergencies-at-sea-30/
LOCATION:NPFVOA @ Fishermen’s Terminal\, 1900 West Nickerson St\, Suite 315\, Seattle\, WA\, 98119\, United States
CATEGORIES:Medical
END:VEVENT
BEGIN:VEVENT
DTSTART;TZID=America/Los_Angeles:20260914T080000
DTEND;TZID=America/Los_Angeles:20260918T170000
DTSTAMP:20260424T051643
CREATED:20251120T004503Z
LAST-MODIFIED:20251209T221545Z
UID:10000428-1789372800-1789750800@npfvoa.org
SUMMARY:STCW Basic Training
DESCRIPTION:US Coast Guard-approved 5-Day STCW Basic Training\, 8:00am – 5:00pm \nIncludes Medical Emergencies at Sea\, Personal Survival Techniques\, Personal Safety & Social Responsibilities\, and 2-Day Basic Firefighting. You will spend time in a pool; please bring a swimsuit or change of clothes and a towel. The 2nd day of Firefighting is held offsite (directions will be provided). \nCall 206-285-3383 or contact us to sign up.
URL:https://npfvoa.org/event/stcw-basic-training-29/
LOCATION:NPFVOA  @ 1900 W Nickerson St #315\, Seattle\, WA 98119\, USA\, Seattle\, WA\, United States
CATEGORIES:STCW Basic Training
END:VEVENT
BEGIN:VEVENT
DTSTART;TZID=America/Los_Angeles:20260915T080000
DTEND;TZID=America/Los_Angeles:20260916T170000
DTSTAMP:20260424T051643
CREATED:20251121T222450Z
LAST-MODIFIED:20251121T222450Z
UID:10000448-1789459200-1789578000@npfvoa.org
SUMMARY:STCW 2-Day Basic Firefighting
DESCRIPTION:US Coast Guard-approved STCW Basic Firefighting. Day 1 is held at the NPFVOA office in Fishermen’s Terminal\, 8:00am – 5:00pm. Day 2 is held offsite. Directions will be provided. \nCall 206-285-3383 or contact us to sign up.
URL:https://npfvoa.org/event/stcw-2-day-basic-firefighting-30/
LOCATION:NPFVOA @ Fishermen’s Terminal\, 1900 West Nickerson St\, Suite 315\, Seattle\, WA\, 98119\, United States
CATEGORIES:Fire Fighting
END:VEVENT
BEGIN:VEVENT
DTSTART;TZID=America/Los_Angeles:20260917T080000
DTEND;TZID=America/Los_Angeles:20260918T120000
DTSTAMP:20260424T051643
CREATED:20251121T222606Z
LAST-MODIFIED:20251121T222606Z
UID:10000449-1789632000-1789732800@npfvoa.org
SUMMARY:STCW Personal Survival Techniques
DESCRIPTION:US Coast Guard-approved 12-Hour STCW Personal Survival Techniques\, September 17th\, 8:00am – 5:00pm\, and September 18th\, 8:00am – noon.\nYou will spend time in a pool; please bring a swimsuit or change of clothes and a towel.  \nCall 206-285-3383 or contact us to sign up.
URL:https://npfvoa.org/event/stcw-personal-survival-techniques-30/
LOCATION:NPFVOA @ Fishermen’s Terminal\, 1900 West Nickerson St\, Suite 315\, Seattle\, WA\, 98119\, United States
CATEGORIES:STCW
END:VEVENT
BEGIN:VEVENT
DTSTART;TZID=America/Los_Angeles:20260918T130000
DTEND;TZID=America/Los_Angeles:20260918T170000
DTSTAMP:20260424T051644
CREATED:20251121T222643Z
LAST-MODIFIED:20251121T222643Z
UID:10000450-1789736400-1789750800@npfvoa.org
SUMMARY:STCW Personal Safety & Social Responsibilities
DESCRIPTION:US Coast Guard-approved 4-Hour Personal Safety & Social Responsibilities\, 1:00 – 5:00pm.  \nCall 206-285-3383 or contact us to sign up.
URL:https://npfvoa.org/event/stcw-personal-safety-social-responsibilities-29/
LOCATION:NPFVOA @ Fishermen’s Terminal\, 1900 West Nickerson St\, Suite 315\, Seattle\, WA\, 98119\, United States
CATEGORIES:STCW
END:VEVENT
END:VCALENDAR