BEGIN:VCALENDAR
VERSION:2.0
PRODID:-//NPFVOA Vessel Safety Program - ECPv6.15.20//NONSGML v1.0//EN
CALSCALE:GREGORIAN
METHOD:PUBLISH
X-ORIGINAL-URL:https://npfvoa.org
X-WR-CALDESC:Events for NPFVOA Vessel Safety Program
REFRESH-INTERVAL;VALUE=DURATION:PT1H
X-Robots-Tag:noindex
X-PUBLISHED-TTL:PT1H
BEGIN:VTIMEZONE
TZID:America/Los_Angeles
BEGIN:DAYLIGHT
TZOFFSETFROM:-0800
TZOFFSETTO:-0700
TZNAME:PDT
DTSTART:20250309T100000
END:DAYLIGHT
BEGIN:STANDARD
TZOFFSETFROM:-0700
TZOFFSETTO:-0800
TZNAME:PST
DTSTART:20251102T090000
END:STANDARD
BEGIN:DAYLIGHT
TZOFFSETFROM:-0800
TZOFFSETTO:-0700
TZNAME:PDT
DTSTART:20260308T100000
END:DAYLIGHT
BEGIN:STANDARD
TZOFFSETFROM:-0700
TZOFFSETTO:-0800
TZNAME:PST
DTSTART:20261101T090000
END:STANDARD
BEGIN:DAYLIGHT
TZOFFSETFROM:-0800
TZOFFSETTO:-0700
TZNAME:PDT
DTSTART:20270314T100000
END:DAYLIGHT
BEGIN:STANDARD
TZOFFSETFROM:-0700
TZOFFSETTO:-0800
TZNAME:PST
DTSTART:20271107T090000
END:STANDARD
END:VTIMEZONE
BEGIN:VEVENT
DTSTART;VALUE=DATE:20260526
DTEND;VALUE=DATE:20260530
DTSTAMP:20260423T155515
CREATED:20260224T225020Z
LAST-MODIFIED:20260224T225020Z
UID:10000538-1779753600-1780099199@npfvoa.org
SUMMARY:STCW Advanced Fire Fighting
DESCRIPTION:US Coast Guard-approved STCW Advanced Firefighting. Held offsite. Directions will be provided. \nCall 206-285-3383 or contact us to sign up.
URL:https://npfvoa.org/event/stcw-advanced-fire-fighting-2/
LOCATION:NPFVOA @ Fishermen’s Terminal\, 1900 West Nickerson St\, Suite 315\, Seattle\, WA\, 98119\, United States
CATEGORIES:Fire Fighting
END:VEVENT
BEGIN:VEVENT
DTSTART;TZID=America/Los_Angeles:20260526T080000
DTEND;TZID=America/Los_Angeles:20260526T170000
DTSTAMP:20260423T155515
CREATED:20260219T194436Z
LAST-MODIFIED:20260219T194436Z
UID:10000521-1779782400-1779814800@npfvoa.org
SUMMARY:Practical First Aid/CPR for Fishing Vessels
DESCRIPTION:Non-Coast Guard-approved Medical training. No tests\, no pass/fail assessments.
URL:https://npfvoa.org/event/practical-first-aid-cpr-for-fishing-vessels-4/
LOCATION:NPFVOA  @ 1900 W Nickerson St #315\, Seattle\, WA 98119\, USA\, Seattle\, WA\, United States
CATEGORIES:Medical
END:VEVENT
BEGIN:VEVENT
DTSTART;TZID=America/Los_Angeles:20260526T093000
DTEND;TZID=America/Los_Angeles:20260526T133000
DTSTAMP:20260423T155515
CREATED:20251022T220727Z
LAST-MODIFIED:20251119T233618Z
UID:10000413-1779787800-1779802200@npfvoa.org
SUMMARY:Specimen Collection Certification
DESCRIPTION:Call 206-285-3383 or contact us to sign up.
URL:https://npfvoa.org/event/specimen-collection-certification-25/
LOCATION:NPFVOA  @ 1900 W Nickerson St #315\, Seattle\, WA 98119\, USA\, Seattle\, WA\, United States
CATEGORIES:Specimen Collection
END:VEVENT
BEGIN:VEVENT
DTSTART;TZID=America/Los_Angeles:20260527T080000
DTEND;TZID=America/Los_Angeles:20260527T170000
DTSTAMP:20260423T155515
CREATED:20260219T194530Z
LAST-MODIFIED:20260219T194530Z
UID:10000522-1779868800-1779901200@npfvoa.org
SUMMARY:Practical Survival Techniques for Fishing Vessels
DESCRIPTION:Non-Coast Guard-approved Survival training. No tests\, no pass/fail assessments. Classroom instruction and in-water exercises.
URL:https://npfvoa.org/event/practical-survival-techniques-for-fishing-vessels-4/
LOCATION:NPFVOA  @ 1900 W Nickerson St #315\, Seattle\, WA 98119\, USA\, Seattle\, WA\, United States
CATEGORIES:Survival
END:VEVENT
END:VCALENDAR