BEGIN:VCALENDAR
VERSION:2.0
PRODID:-//NPFVOA Vessel Safety Program - ECPv6.15.20//NONSGML v1.0//EN
CALSCALE:GREGORIAN
METHOD:PUBLISH
X-ORIGINAL-URL:https://npfvoa.org
X-WR-CALDESC:Events for NPFVOA Vessel Safety Program
REFRESH-INTERVAL;VALUE=DURATION:PT1H
X-Robots-Tag:noindex
X-PUBLISHED-TTL:PT1H
BEGIN:VTIMEZONE
TZID:America/Los_Angeles
BEGIN:DAYLIGHT
TZOFFSETFROM:-0800
TZOFFSETTO:-0700
TZNAME:PDT
DTSTART:20240310T100000
END:DAYLIGHT
BEGIN:STANDARD
TZOFFSETFROM:-0700
TZOFFSETTO:-0800
TZNAME:PST
DTSTART:20241103T090000
END:STANDARD
BEGIN:DAYLIGHT
TZOFFSETFROM:-0800
TZOFFSETTO:-0700
TZNAME:PDT
DTSTART:20250309T100000
END:DAYLIGHT
BEGIN:STANDARD
TZOFFSETFROM:-0700
TZOFFSETTO:-0800
TZNAME:PST
DTSTART:20251102T090000
END:STANDARD
BEGIN:DAYLIGHT
TZOFFSETFROM:-0800
TZOFFSETTO:-0700
TZNAME:PDT
DTSTART:20260308T100000
END:DAYLIGHT
BEGIN:STANDARD
TZOFFSETFROM:-0700
TZOFFSETTO:-0800
TZNAME:PST
DTSTART:20261101T090000
END:STANDARD
END:VTIMEZONE
BEGIN:VEVENT
DTSTART;TZID=America/Los_Angeles:20250908T080000
DTEND;TZID=America/Los_Angeles:20250909T170000
DTSTAMP:20260424T034220
CREATED:20241115T231426Z
LAST-MODIFIED:20241115T231426Z
UID:10000286-1757318400-1757437200@npfvoa.org
SUMMARY:STCW 2-Day Basic Firefighting
DESCRIPTION:US Coast Guard-approved STCW Basic Firefighting. Day 1 is held at the NPFVOA office in Fishermen’s Terminal\, 8:00am – 5:00pm. Day 2 is held offsite. Directions will be provided.\nCall (206) 285-3383 or email to sign up.
URL:https://npfvoa.org/event/stcw-2-day-basic-firefighting-18/
LOCATION:NPFVOA @ Fishermen’s Terminal\, 1900 West Nickerson St\, Suite 315\, Seattle\, WA\, 98119\, United States
CATEGORIES:Fire Fighting
END:VEVENT
BEGIN:VEVENT
DTSTART;TZID=America/Los_Angeles:20250908T080000
DTEND;TZID=America/Los_Angeles:20250912T170000
DTSTAMP:20260424T034220
CREATED:20241115T231225Z
LAST-MODIFIED:20251209T222303Z
UID:10000284-1757318400-1757696400@npfvoa.org
SUMMARY:STCW Basic Training
DESCRIPTION:US Coast Guard-approved 5-Day STCW Basic Training\, 8:00am – 5:00pm\nIncludes Medical Emergencies at Sea\, Personal Survival Techniques\, Personal Safety & Social Responsibilities\, and 2-Day Basic Firefighting. You will spend time in a pool; please bring a swimsuit or change of clothes and a towel. The 2nd day of Firefighting is held offsite (directions will be provided).
URL:https://npfvoa.org/event/stcw-basic-training-17/
LOCATION:NPFVOA  @ 1900 W Nickerson St #315\, Seattle\, WA 98119\, USA\, Seattle\, WA\, United States
CATEGORIES:STCW Basic Training
END:VEVENT
BEGIN:VEVENT
DTSTART;TZID=America/Los_Angeles:20250909T080000
DTEND;TZID=America/Los_Angeles:20250909T170000
DTSTAMP:20260424T034220
CREATED:20241115T230642Z
LAST-MODIFIED:20250331T165520Z
UID:10000279-1757404800-1757437200@npfvoa.org
SUMMARY:Basic Training Revalidation
DESCRIPTION:Class times: September 9th\, 8:00am-5:00pm\, and September 11th\, 1:00pm-3:00pm. Held offsite; call 206-285-3383 or email to sign up and get details.
URL:https://npfvoa.org/event/basic-training-revalidation-35/
CATEGORIES:STCW BT Revalidation
END:VEVENT
BEGIN:VEVENT
DTSTART;TZID=America/Los_Angeles:20250910T080000
DTEND;TZID=America/Los_Angeles:20250910T080000
DTSTAMP:20260424T034220
CREATED:20241115T231345Z
LAST-MODIFIED:20241115T231345Z
UID:10000285-1757491200-1757491200@npfvoa.org
SUMMARY:Medical Emergencies at Sea
DESCRIPTION:8-Hour US Coast Guard-approved Medical Emergencies at Sea (First Aid/CPR) 8:00am – 5:00pm.\nCall (206) 285-3383 or email to sign up.
URL:https://npfvoa.org/event/medical-emergencies-at-sea-18/
LOCATION:NPFVOA @ Fishermen’s Terminal\, 1900 West Nickerson St\, Suite 315\, Seattle\, WA\, 98119\, United States
CATEGORIES:Medical
END:VEVENT
BEGIN:VEVENT
DTSTART;TZID=America/Los_Angeles:20250911T080000
DTEND;TZID=America/Los_Angeles:20250912T120000
DTSTAMP:20260424T034220
CREATED:20241115T231533Z
LAST-MODIFIED:20241115T231533Z
UID:10000287-1757577600-1757678400@npfvoa.org
SUMMARY:STCW Personal Survival Techniques
DESCRIPTION:US Coast Guard-approved 12-Hour STCW Personal Survival Techniques\, September 11th\, 8:00am – 5:00pm\, and September 12th\, 8:00am – noon.\nYou will spend time in a pool; please bring a swimsuit or change of clothes and a towel. Call 206-285-3383 or email to sign up.
URL:https://npfvoa.org/event/stcw-personal-survival-techniques-18/
CATEGORIES:STCW
END:VEVENT
BEGIN:VEVENT
DTSTART;TZID=America/Los_Angeles:20250911T130000
DTEND;TZID=America/Los_Angeles:20250911T150000
DTSTAMP:20260424T034220
CREATED:20241115T230734Z
LAST-MODIFIED:20250331T165620Z
UID:10000280-1757595600-1757602800@npfvoa.org
SUMMARY:Basic Training Revalidation
DESCRIPTION:Class times: September 9th\, 8:00am-5:00pm\, and September 11th\, 1:00pm-3:00pm. Held offsite; call 206-285-3383 or email to sign up and get details.
URL:https://npfvoa.org/event/basic-training-revalidation-36/
CATEGORIES:STCW BT Revalidation
END:VEVENT
BEGIN:VEVENT
DTSTART;TZID=America/Los_Angeles:20250912T130000
DTEND;TZID=America/Los_Angeles:20250912T170000
DTSTAMP:20260424T034220
CREATED:20241115T233122Z
LAST-MODIFIED:20241115T233122Z
UID:10000289-1757682000-1757696400@npfvoa.org
SUMMARY:STCW Personal Safety & Social Responsibilities
DESCRIPTION:US Coast Guard-approved 4-Hour Personal Safety & Social Responsibilities\, 1:00 – 5:00pm. Call 206-285-3383 or email to sign up.
URL:https://npfvoa.org/event/stcw-personal-safety-social-responsibilities-17/
CATEGORIES:STCW
END:VEVENT
END:VCALENDAR