BEGIN:VCALENDAR
VERSION:2.0
PRODID:-//NPFVOA Vessel Safety Program - ECPv6.15.20//NONSGML v1.0//EN
CALSCALE:GREGORIAN
METHOD:PUBLISH
X-WR-CALNAME:NPFVOA Vessel Safety Program
X-ORIGINAL-URL:https://npfvoa.org
X-WR-CALDESC:Events for NPFVOA Vessel Safety Program
REFRESH-INTERVAL;VALUE=DURATION:PT1H
X-Robots-Tag:noindex
X-PUBLISHED-TTL:PT1H
BEGIN:VTIMEZONE
TZID:America/Los_Angeles
BEGIN:DAYLIGHT
TZOFFSETFROM:-0800
TZOFFSETTO:-0700
TZNAME:PDT
DTSTART:20250309T100000
END:DAYLIGHT
BEGIN:STANDARD
TZOFFSETFROM:-0700
TZOFFSETTO:-0800
TZNAME:PST
DTSTART:20251102T090000
END:STANDARD
BEGIN:DAYLIGHT
TZOFFSETFROM:-0800
TZOFFSETTO:-0700
TZNAME:PDT
DTSTART:20260308T100000
END:DAYLIGHT
BEGIN:STANDARD
TZOFFSETFROM:-0700
TZOFFSETTO:-0800
TZNAME:PST
DTSTART:20261101T090000
END:STANDARD
BEGIN:DAYLIGHT
TZOFFSETFROM:-0800
TZOFFSETTO:-0700
TZNAME:PDT
DTSTART:20270314T100000
END:DAYLIGHT
BEGIN:STANDARD
TZOFFSETFROM:-0700
TZOFFSETTO:-0800
TZNAME:PST
DTSTART:20271107T090000
END:STANDARD
END:VTIMEZONE
BEGIN:VEVENT
DTSTART;TZID=America/Los_Angeles:20260204T080000
DTEND;TZID=America/Los_Angeles:20260204T080000
DTSTAMP:20260423T160826
CREATED:20251021T222829Z
LAST-MODIFIED:20251209T214141Z
UID:10000369-1770192000-1770192000@npfvoa.org
SUMMARY:Onboard Drill Instructor
DESCRIPTION:8-Hour US Coast Guard-accepted Onboard Drill Instructor\, 8:00am – 5:00pm.
URL:https://npfvoa.org/event/onboard-drill-instructor-2/
LOCATION:NPFVOA @ Fishermen’s Terminal\, 1900 West Nickerson St\, Suite 315\, Seattle\, WA\, 98119\, United States
CATEGORIES:Drill
END:VEVENT
BEGIN:VEVENT
DTSTART;TZID=America/Los_Angeles:20260209T080000
DTEND;TZID=America/Los_Angeles:20260209T080000
DTSTAMP:20260423T160826
CREATED:20251021T221941Z
LAST-MODIFIED:20251108T001933Z
UID:10000365-1770624000-1770624000@npfvoa.org
SUMMARY:Medical Emergencies at Sea
DESCRIPTION:8-Hour US Coast Guard-approved Medical Emergencies at Sea (First Aid/CPR) 8:00am – 5:00pm. \nCall 206-285-3383 or contact us to sign up.
URL:https://npfvoa.org/event/medical-emergencies-at-sea-23/
LOCATION:NPFVOA @ Fishermen’s Terminal\, 1900 West Nickerson St\, Suite 315\, Seattle\, WA\, 98119\, United States
CATEGORIES:Medical
END:VEVENT
BEGIN:VEVENT
DTSTART;TZID=America/Los_Angeles:20260209T080000
DTEND;TZID=America/Los_Angeles:20260213T170000
DTSTAMP:20260423T160826
CREATED:20251021T192411Z
LAST-MODIFIED:20251209T221804Z
UID:10000362-1770624000-1771002000@npfvoa.org
SUMMARY:STCW Basic Training
DESCRIPTION:US Coast Guard-approved 5-Day STCW Basic Training\, 8:00am – 5:00pm\nIncludes Medical Emergencies at Sea\, Personal Survival Techniques\, Personal Safety & Social Responsibilities\, and 2-Day Basic Firefighting. You will spend time in a pool; please bring a swimsuit or change of clothes and a towel. The 2nd day of Firefighting is held offsite (directions will be provided).
URL:https://npfvoa.org/event/stcw-basic-training-22/
LOCATION:NPFVOA  @ 1900 W Nickerson St #315\, Seattle\, WA 98119\, USA\, Seattle\, WA\, United States
CATEGORIES:STCW Basic Training
END:VEVENT
BEGIN:VEVENT
DTSTART;TZID=America/Los_Angeles:20260210T080000
DTEND;TZID=America/Los_Angeles:20260211T120000
DTSTAMP:20260423T160826
CREATED:20251021T222431Z
LAST-MODIFIED:20251108T002057Z
UID:10000367-1770710400-1770811200@npfvoa.org
SUMMARY:STCW Personal Survival Techniques
DESCRIPTION:US Coast Guard-approved 12-Hour STCW Personal Survival Techniques\, February 10th\, 8:00am – 5:00pm\, and February 11th\, 8:00am – noon.\nYou will spend time in a pool; please bring a swimsuit or change of clothes and a towel.  \nCall 206-285-3383 or contact us to sign up.
URL:https://npfvoa.org/event/stcw-personal-survival-techniques-23/
LOCATION:NPFVOA @ Fishermen’s Terminal\, 1900 West Nickerson St\, Suite 315\, Seattle\, WA\, 98119\, United States
CATEGORIES:STCW
END:VEVENT
BEGIN:VEVENT
DTSTART;TZID=America/Los_Angeles:20260211T130000
DTEND;TZID=America/Los_Angeles:20260211T170000
DTSTAMP:20260423T160826
CREATED:20251021T222702Z
LAST-MODIFIED:20251108T002407Z
UID:10000368-1770814800-1770829200@npfvoa.org
SUMMARY:STCW Personal Safety & Social Responsibilities
DESCRIPTION:US Coast Guard-approved 4-Hour Personal Safety & Social Responsibilities\, 1:00 – 5:00pm.  \nCall 206-285-3383 or contact us to sign up.
URL:https://npfvoa.org/event/stcw-personal-safety-social-responsibilities-22/
LOCATION:NPFVOA @ Fishermen’s Terminal\, 1900 West Nickerson St\, Suite 315\, Seattle\, WA\, 98119\, United States
CATEGORIES:STCW
END:VEVENT
BEGIN:VEVENT
DTSTART;TZID=America/Los_Angeles:20260212T080000
DTEND;TZID=America/Los_Angeles:20260213T170000
DTSTAMP:20260423T160826
CREATED:20251021T222220Z
LAST-MODIFIED:20251108T002609Z
UID:10000366-1770883200-1771002000@npfvoa.org
SUMMARY:STCW 2-Day Basic Firefighting
DESCRIPTION:US Coast Guard-approved STCW Basic Firefighting. Day 1 is held at the NPFVOA office in Fishermen’s Terminal\, 8:00am – 5:00pm. Day 2 is held offsite. Directions will be provided. \nCall 206-285-3383 or contact us to sign up.
URL:https://npfvoa.org/event/stcw-2-day-basic-firefighting-23/
LOCATION:NPFVOA @ Fishermen’s Terminal\, 1900 West Nickerson St\, Suite 315\, Seattle\, WA\, 98119\, United States
CATEGORIES:Fire Fighting
END:VEVENT
BEGIN:VEVENT
DTSTART;TZID=America/Los_Angeles:20260217T093000
DTEND;TZID=America/Los_Angeles:20260217T133000
DTSTAMP:20260423T160826
CREATED:20251021T224600Z
LAST-MODIFIED:20251108T002642Z
UID:10000375-1771320600-1771335000@npfvoa.org
SUMMARY:Specimen Collection Certification
DESCRIPTION:Call 206-285-3383 or contact us to sign up.
URL:https://npfvoa.org/event/specimen-collection-certification-22/
LOCATION:NPFVOA  @ 1900 W Nickerson St #315\, Seattle\, WA 98119\, USA\, Seattle\, WA\, United States
CATEGORIES:Specimen Collection
END:VEVENT
BEGIN:VEVENT
DTSTART;TZID=America/Los_Angeles:20260218T080000
DTEND;TZID=America/Los_Angeles:20260220T160000
DTSTAMP:20260423T160826
CREATED:20251021T224152Z
LAST-MODIFIED:20251202T061041Z
UID:10000373-1771401600-1771603200@npfvoa.org
SUMMARY:Shipyard Competent Person
DESCRIPTION:Shipyard Competent Person\, 8:00am-4:00pm each day. \nCall 206-285-3383 or contact us to sign up.
URL:https://npfvoa.org/event/shipyard-competent-person-17/
LOCATION:NPFVOA @ Fishermen’s Terminal\, 1900 West Nickerson St\, Suite 315\, Seattle\, WA\, 98119\, United States
CATEGORIES:Shipyard Competent Person
END:VEVENT
BEGIN:VEVENT
DTSTART;TZID=America/Los_Angeles:20260220T080000
DTEND;TZID=America/Los_Angeles:20260220T080000
DTSTAMP:20260423T160826
CREATED:20251021T224404Z
LAST-MODIFIED:20251108T003149Z
UID:10000374-1771574400-1771574400@npfvoa.org
SUMMARY:Shipyard Competent Person Refresher
DESCRIPTION:Shipyard Competent Person Refresher\, 8:00am-4:00pm.  \nCall 206-285-3383 or contact us to sign up.
URL:https://npfvoa.org/event/shipyard-competent-person-refresher-17/
LOCATION:NPFVOA @ Fishermen’s Terminal\, 1900 West Nickerson St\, Suite 315\, Seattle\, WA\, 98119\, United States
CATEGORIES:Shipyard Competent Person
END:VEVENT
BEGIN:VEVENT
DTSTART;TZID=America/Los_Angeles:20260223T080000
DTEND;TZID=America/Los_Angeles:20260223T170000
DTSTAMP:20260423T160826
CREATED:20251021T223108Z
LAST-MODIFIED:20251209T234513Z
UID:10000370-1771833600-1771866000@npfvoa.org
SUMMARY:HAZWOPER Refresher
DESCRIPTION:Class time 8:00am – 5:00pm.
URL:https://npfvoa.org/event/hazwoper-refresher-42/
CATEGORIES:HAZWOPER
END:VEVENT
BEGIN:VEVENT
DTSTART;TZID=America/Los_Angeles:20260223T080000
DTEND;TZID=America/Los_Angeles:20260225T170000
DTSTAMP:20260423T160826
CREATED:20251021T223539Z
LAST-MODIFIED:20251212T214241Z
UID:10000372-1771833600-1772038800@npfvoa.org
SUMMARY:24-Hour HAZWOPER Hazardous Materials Technician
DESCRIPTION:Class time: 8:00am – 5:00pm.\n8-Hour HAZWOPER Refresher offered concurrently on any day of the 24-Hour class. \nCall 206-285-3383 or contact us to sign up.
URL:https://npfvoa.org/event/24-hour-hazwoper-hazardous-materials-technician-21/
CATEGORIES:HAZWOPER
END:VEVENT
BEGIN:VEVENT
DTSTART;TZID=America/Los_Angeles:20260225T080000
DTEND;TZID=America/Los_Angeles:20260225T170000
DTSTAMP:20260423T160826
CREATED:20251021T223140Z
LAST-MODIFIED:20251209T234458Z
UID:10000371-1772006400-1772038800@npfvoa.org
SUMMARY:HAZWOPER Refresher
DESCRIPTION:Class time 8:00am – 5:00pm.
URL:https://npfvoa.org/event/hazwoper-refresher-43/
CATEGORIES:HAZWOPER
END:VEVENT
BEGIN:VEVENT
DTSTART;TZID=America/Los_Angeles:20260225T080000
DTEND;TZID=America/Los_Angeles:20260225T170000
DTSTAMP:20260423T160826
CREATED:20260127T224317Z
LAST-MODIFIED:20260127T224317Z
UID:10000513-1772006400-1772038800@npfvoa.org
SUMMARY:Practical First Aid/CPR for Fishing Vessels
DESCRIPTION:Non-Coast Guard-approved Medical training. No tests\, no pass/fail assessments.
URL:https://npfvoa.org/event/practical-first-aid-cpr-for-fishing-vessels/
LOCATION:NPFVOA  @ 1900 W Nickerson St #315\, Seattle\, WA 98119\, USA\, Seattle\, WA\, United States
CATEGORIES:Medical
END:VEVENT
BEGIN:VEVENT
DTSTART;TZID=America/Los_Angeles:20260226T073000
DTEND;TZID=America/Los_Angeles:20260226T170000
DTSTAMP:20260423T160826
CREATED:20251201T224229Z
LAST-MODIFIED:20251209T222504Z
UID:10000471-1772091000-1772125200@npfvoa.org
SUMMARY:Practical Firefighting for Fishing Vessels
DESCRIPTION:Non-Coast Guard-approved Firefighting training. No tests\, no pass/fail assessments. Two hours of classroom instruction\, followed by field exercises.
URL:https://npfvoa.org/event/practical-firefighting-for-fishing-vessels/
LOCATION:NPFVOA @ Fishermen’s Terminal\, 1900 West Nickerson St\, Suite 315\, Seattle\, WA\, 98119\, United States
CATEGORIES:Fire Fighting
END:VEVENT
BEGIN:VEVENT
DTSTART;TZID=America/Los_Angeles:20260227T080000
DTEND;TZID=America/Los_Angeles:20260227T170000
DTSTAMP:20260423T160826
CREATED:20260127T225411Z
LAST-MODIFIED:20260127T225411Z
UID:10000515-1772179200-1772211600@npfvoa.org
SUMMARY:Practical Survival Techniques for Fishing Vessels
DESCRIPTION:Non-Coast Guard-approved Survival training. No tests\, no pass/fail assessments. Classroom instruction and in-water exercises.
URL:https://npfvoa.org/event/practical-survival-techniques-for-fishing-vessels/
LOCATION:NPFVOA  @ 1900 W Nickerson St #315\, Seattle\, WA 98119\, USA\, Seattle\, WA\, United States
CATEGORIES:Survival
END:VEVENT
BEGIN:VEVENT
DTSTART;VALUE=DATE:20260302
DTEND;VALUE=DATE:20260303
DTSTAMP:20260423T160826
CREATED:20260224T234741Z
LAST-MODIFIED:20260224T235126Z
UID:10000541-1772409600-1772495999@npfvoa.org
SUMMARY:STCW Advanced Fire Fighting Revalidation
DESCRIPTION:US Coast Guard-approved STCW Advanced Firefighting Revalidation. Held offsite. Directions will be provided. \nCall 206-285-3383 or contact us to sign up.
URL:https://npfvoa.org/event/stcw-advanced-fire-fighting-revalidation/
CATEGORIES:Fire Fighting
END:VEVENT
BEGIN:VEVENT
DTSTART;TZID=America/Los_Angeles:20260304T080000
DTEND;TZID=America/Los_Angeles:20260304T080000
DTSTAMP:20260423T160826
CREATED:20251022T174712Z
LAST-MODIFIED:20251209T214351Z
UID:10000382-1772611200-1772611200@npfvoa.org
SUMMARY:Onboard Drill Instructor
DESCRIPTION:8-Hour US Coast Guard-accepted Onboard Drill Instructor\, 8:00am – 5:00pm.
URL:https://npfvoa.org/event/onboard-drill-instructor-3/
LOCATION:NPFVOA @ Fishermen’s Terminal\, 1900 West Nickerson St\, Suite 315\, Seattle\, WA\, 98119\, United States
CATEGORIES:Drill
END:VEVENT
BEGIN:VEVENT
DTSTART;VALUE=DATE:20260309
DTEND;VALUE=DATE:20260313
DTSTAMP:20260423T160826
CREATED:20260224T224510Z
LAST-MODIFIED:20260224T224510Z
UID:10000536-1773014400-1773359999@npfvoa.org
SUMMARY:STCW Advanced Fire Fighting
DESCRIPTION:US Coast Guard-approved STCW Advanced Firefighting. Held offsite. Directions will be provided. \nCall 206-285-3383 or contact us to sign up.
URL:https://npfvoa.org/event/stcw-advanced-fire/
LOCATION:NPFVOA @ Fishermen’s Terminal\, 1900 West Nickerson St\, Suite 315\, Seattle\, WA\, 98119\, United States
CATEGORIES:Fire Fighting
END:VEVENT
BEGIN:VEVENT
DTSTART;TZID=America/Los_Angeles:20260309T080000
DTEND;TZID=America/Los_Angeles:20260309T080000
DTSTAMP:20260423T160826
CREATED:20251022T173339Z
LAST-MODIFIED:20251119T221159Z
UID:10000378-1773043200-1773043200@npfvoa.org
SUMMARY:Medical Emergencies at Sea
DESCRIPTION:8-Hour US Coast Guard-approved Medical Emergencies at Sea (First Aid/CPR) 8:00am – 5:00pm. \nCall 206-285-3383 or contact us to sign up.
URL:https://npfvoa.org/event/medical-emergencies-at-sea-24/
LOCATION:NPFVOA @ Fishermen’s Terminal\, 1900 West Nickerson St\, Suite 315\, Seattle\, WA\, 98119\, United States
CATEGORIES:Medical
END:VEVENT
BEGIN:VEVENT
DTSTART;TZID=America/Los_Angeles:20260309T080000
DTEND;TZID=America/Los_Angeles:20260313T170000
DTSTAMP:20260423T160826
CREATED:20251021T225035Z
LAST-MODIFIED:20251209T221739Z
UID:10000376-1773043200-1773421200@npfvoa.org
SUMMARY:STCW Basic Training
DESCRIPTION:US Coast Guard-approved 5-Day STCW Basic Training\, 8:00am – 5:00pm\nIncludes Medical Emergencies at Sea\, Personal Survival Techniques\, Personal Safety & Social Responsibilities\, and 2-Day Basic Firefighting. You will spend time in a pool; please bring a swimsuit or change of clothes and a towel. The 2nd day of Firefighting is held offsite (directions will be provided).
URL:https://npfvoa.org/event/stcw-basic-training-23/
LOCATION:NPFVOA  @ 1900 W Nickerson St #315\, Seattle\, WA 98119\, USA\, Seattle\, WA\, United States
CATEGORIES:STCW Basic Training
END:VEVENT
BEGIN:VEVENT
DTSTART;TZID=America/Los_Angeles:20260310T080000
DTEND;TZID=America/Los_Angeles:20260311T120000
DTSTAMP:20260423T160826
CREATED:20251022T174236Z
LAST-MODIFIED:20251119T221915Z
UID:10000380-1773129600-1773230400@npfvoa.org
SUMMARY:STCW Personal Survival Techniques
DESCRIPTION:US Coast Guard-approved 12-Hour STCW Personal Survival Techniques\, March 10th\, 8:00am – 5:00pm\, and March 11th\, 8:00am – noon.\nYou will spend time in a pool; please bring a swimsuit or change of clothes and a towel.  \nCall 206-285-3383 or contact us to sign up.
URL:https://npfvoa.org/event/stcw-personal-survival-techniques-24/
LOCATION:NPFVOA @ Fishermen’s Terminal\, 1900 West Nickerson St\, Suite 315\, Seattle\, WA\, 98119\, United States
CATEGORIES:STCW
END:VEVENT
BEGIN:VEVENT
DTSTART;TZID=America/Los_Angeles:20260311T130000
DTEND;TZID=America/Los_Angeles:20260311T170000
DTSTAMP:20260423T160826
CREATED:20251022T174346Z
LAST-MODIFIED:20251119T222223Z
UID:10000381-1773234000-1773248400@npfvoa.org
SUMMARY:STCW Personal Safety & Social Responsibilities
DESCRIPTION:US Coast Guard-approved 4-Hour Personal Safety & Social Responsibilities\, 1:00 – 5:00pm.  \nCall 206-285-3383 or contact us to sign up.
URL:https://npfvoa.org/event/stcw-personal-safety-social-responsibilities-23/
LOCATION:NPFVOA @ Fishermen’s Terminal\, 1900 West Nickerson St\, Suite 315\, Seattle\, WA\, 98119\, United States
CATEGORIES:STCW
END:VEVENT
BEGIN:VEVENT
DTSTART;TZID=America/Los_Angeles:20260312T080000
DTEND;TZID=America/Los_Angeles:20260313T170000
DTSTAMP:20260423T160826
CREATED:20251022T173854Z
LAST-MODIFIED:20251119T221504Z
UID:10000379-1773302400-1773421200@npfvoa.org
SUMMARY:STCW 2-Day Basic Firefighting
DESCRIPTION:US Coast Guard-approved STCW Basic Firefighting. Day 1 is held at the NPFVOA office in Fishermen’s Terminal\, 8:00am – 5:00pm. Day 2 is held offsite. Directions will be provided. \nCall 206-285-3383 or contact us to sign up.
URL:https://npfvoa.org/event/stcw-2-day-basic-firefighting-24/
LOCATION:NPFVOA @ Fishermen’s Terminal\, 1900 West Nickerson St\, Suite 315\, Seattle\, WA\, 98119\, United States
CATEGORIES:Fire Fighting
END:VEVENT
BEGIN:VEVENT
DTSTART;TZID=America/Los_Angeles:20260313T080000
DTEND;TZID=America/Los_Angeles:20260313T170000
DTSTAMP:20260423T160826
CREATED:20260225T224002Z
LAST-MODIFIED:20260225T224002Z
UID:10000553-1773388800-1773421200@npfvoa.org
SUMMARY:HAZWOPER Refresher
DESCRIPTION:Class time 8:00am – 5:00pm. Call 206-285-3383 or contact us to sign up.
URL:https://npfvoa.org/event/hazwoper-refresher-17/
CATEGORIES:HAZWOPER
END:VEVENT
BEGIN:VEVENT
DTSTART;TZID=America/Los_Angeles:20260317T093000
DTEND;TZID=America/Los_Angeles:20260317T133000
DTSTAMP:20260423T160826
CREATED:20251022T180027Z
LAST-MODIFIED:20251119T233453Z
UID:10000388-1773739800-1773754200@npfvoa.org
SUMMARY:Specimen Collection Certification
DESCRIPTION:Call 206-285-3383 or contact us to sign up.
URL:https://npfvoa.org/event/specimen-collection-certification-23/
LOCATION:NPFVOA  @ 1900 W Nickerson St #315\, Seattle\, WA 98119\, USA\, Seattle\, WA\, United States
CATEGORIES:Specimen Collection
END:VEVENT
BEGIN:VEVENT
DTSTART;TZID=America/Los_Angeles:20260318T080000
DTEND;TZID=America/Los_Angeles:20260320T160000
DTSTAMP:20260423T160826
CREATED:20251022T175534Z
LAST-MODIFIED:20251202T060706Z
UID:10000386-1773820800-1774022400@npfvoa.org
SUMMARY:Shipyard Competent Person
DESCRIPTION:Shipyard Competent Person\, 8:00am-4:00pm each day. \nCall 206-285-3383 or contact us to sign up.
URL:https://npfvoa.org/event/shipyard-competent-person-18/
LOCATION:NPFVOA @ Fishermen’s Terminal\, 1900 West Nickerson St\, Suite 315\, Seattle\, WA\, 98119\, United States
CATEGORIES:Shipyard Competent Person
END:VEVENT
BEGIN:VEVENT
DTSTART;TZID=America/Los_Angeles:20260320T080000
DTEND;TZID=America/Los_Angeles:20260320T080000
DTSTAMP:20260423T160826
CREATED:20251022T175748Z
LAST-MODIFIED:20251119T232317Z
UID:10000387-1773993600-1773993600@npfvoa.org
SUMMARY:Shipyard Competent Person Refresher
DESCRIPTION:Shipyard Competent Person Refresher\, 8:00am-4:00pm.  \nCall 206-285-3383 or contact us to sign up.
URL:https://npfvoa.org/event/shipyard-competent-person-refresher-18/
LOCATION:NPFVOA @ Fishermen’s Terminal\, 1900 West Nickerson St\, Suite 315\, Seattle\, WA\, 98119\, United States
CATEGORIES:Shipyard Competent Person
END:VEVENT
BEGIN:VEVENT
DTSTART;TZID=America/Los_Angeles:20260325T080000
DTEND;TZID=America/Los_Angeles:20260325T170000
DTSTAMP:20260423T160826
CREATED:20260127T224504Z
LAST-MODIFIED:20260127T224504Z
UID:10000514-1774425600-1774458000@npfvoa.org
SUMMARY:Practical First Aid/CPR for Fishing Vessels
DESCRIPTION:Non-Coast Guard-approved Medical training. No tests\, no pass/fail assessments.
URL:https://npfvoa.org/event/practical-first-aid-cpr-for-fishing-vessels-2/
LOCATION:NPFVOA  @ 1900 W Nickerson St #315\, Seattle\, WA 98119\, USA\, Seattle\, WA\, United States
CATEGORIES:Medical
END:VEVENT
BEGIN:VEVENT
DTSTART;TZID=America/Los_Angeles:20260326T073000
DTEND;TZID=America/Los_Angeles:20260326T170000
DTSTAMP:20260423T160826
CREATED:20251201T224332Z
LAST-MODIFIED:20251209T222509Z
UID:10000472-1774510200-1774544400@npfvoa.org
SUMMARY:Practical Firefighting for Fishing Vessels
DESCRIPTION:Non-Coast Guard-approved Firefighting training. No tests\, no pass/fail assessments. Two hours of classroom instruction\, followed by field exercises.
URL:https://npfvoa.org/event/practical-firefighting-for-fishing-vessels-2/
LOCATION:NPFVOA @ Fishermen’s Terminal\, 1900 West Nickerson St\, Suite 315\, Seattle\, WA\, 98119\, United States
CATEGORIES:Fire Fighting
END:VEVENT
BEGIN:VEVENT
DTSTART;TZID=America/Los_Angeles:20260327T080000
DTEND;TZID=America/Los_Angeles:20260327T170000
DTSTAMP:20260423T160826
CREATED:20260127T225719Z
LAST-MODIFIED:20260127T225719Z
UID:10000516-1774598400-1774630800@npfvoa.org
SUMMARY:Practical Survival Techniques for Fishing Vessels
DESCRIPTION:Non-Coast Guard-approved Survival training. No tests\, no pass/fail assessments. Classroom instruction and in-water exercises.
URL:https://npfvoa.org/event/practical-survival-techniques-for-fishing-vessels-2/
LOCATION:NPFVOA  @ 1900 W Nickerson St #315\, Seattle\, WA 98119\, USA\, Seattle\, WA\, United States
CATEGORIES:Survival
END:VEVENT
END:VCALENDAR