BEGIN:VCALENDAR
VERSION:2.0
PRODID:-//NPFVOA Vessel Safety Program - ECPv6.15.20//NONSGML v1.0//EN
CALSCALE:GREGORIAN
METHOD:PUBLISH
X-ORIGINAL-URL:https://npfvoa.org
X-WR-CALDESC:Events for NPFVOA Vessel Safety Program
REFRESH-INTERVAL;VALUE=DURATION:PT1H
X-Robots-Tag:noindex
X-PUBLISHED-TTL:PT1H
BEGIN:VTIMEZONE
TZID:America/Los_Angeles
BEGIN:DAYLIGHT
TZOFFSETFROM:-0800
TZOFFSETTO:-0700
TZNAME:PDT
DTSTART:20250309T100000
END:DAYLIGHT
BEGIN:STANDARD
TZOFFSETFROM:-0700
TZOFFSETTO:-0800
TZNAME:PST
DTSTART:20251102T090000
END:STANDARD
BEGIN:DAYLIGHT
TZOFFSETFROM:-0800
TZOFFSETTO:-0700
TZNAME:PDT
DTSTART:20260308T100000
END:DAYLIGHT
BEGIN:STANDARD
TZOFFSETFROM:-0700
TZOFFSETTO:-0800
TZNAME:PST
DTSTART:20261101T090000
END:STANDARD
BEGIN:DAYLIGHT
TZOFFSETFROM:-0800
TZOFFSETTO:-0700
TZNAME:PDT
DTSTART:20270314T100000
END:DAYLIGHT
BEGIN:STANDARD
TZOFFSETFROM:-0700
TZOFFSETTO:-0800
TZNAME:PST
DTSTART:20271107T090000
END:STANDARD
END:VTIMEZONE
BEGIN:VEVENT
DTSTART;TZID=America/Los_Angeles:20260609T080000
DTEND;TZID=America/Los_Angeles:20260610T170000
DTSTAMP:20260423T163054
CREATED:20251022T225201Z
LAST-MODIFIED:20251119T221650Z
UID:10000416-1780992000-1781110800@npfvoa.org
SUMMARY:STCW 2-Day Basic Firefighting
DESCRIPTION:US Coast Guard-approved STCW Basic Firefighting. Day 1 is held at the NPFVOA office in Fishermen’s Terminal\, 8:00am – 5:00pm. Day 2 is held offsite. Directions will be provided. \nCall 206-285-3383 or contact us to sign up.
URL:https://npfvoa.org/event/stcw-2-day-basic-firefighting-27/
LOCATION:NPFVOA @ Fishermen’s Terminal\, 1900 West Nickerson St\, Suite 315\, Seattle\, WA\, 98119\, United States
CATEGORIES:Fire Fighting
END:VEVENT
BEGIN:VEVENT
DTSTART;TZID=America/Los_Angeles:20260611T080000
DTEND;TZID=America/Los_Angeles:20260612T120000
DTSTAMP:20260423T163054
CREATED:20251022T225358Z
LAST-MODIFIED:20251119T222152Z
UID:10000417-1781164800-1781265600@npfvoa.org
SUMMARY:STCW Personal Survival Techniques
DESCRIPTION:US Coast Guard-approved 12-Hour STCW Personal Survival Techniques\, June 11th\, 8:00am – 5:00pm\, and June 12th\, 8:00am – noon.\nYou will spend time in a pool; please bring a swimsuit or change of clothes and a towel.  \nCall 206-285-3383 or contact us to sign up.
URL:https://npfvoa.org/event/stcw-personal-survival-techniques-27/
LOCATION:NPFVOA @ Fishermen’s Terminal\, 1900 West Nickerson St\, Suite 315\, Seattle\, WA\, 98119\, United States
CATEGORIES:STCW
END:VEVENT
BEGIN:VEVENT
DTSTART;TZID=America/Los_Angeles:20260612T130000
DTEND;TZID=America/Los_Angeles:20260612T170000
DTSTAMP:20260423T163054
CREATED:20251022T225453Z
LAST-MODIFIED:20251119T222359Z
UID:10000418-1781269200-1781283600@npfvoa.org
SUMMARY:STCW Personal Safety & Social Responsibilities
DESCRIPTION:US Coast Guard-approved 4-Hour Personal Safety & Social Responsibilities\, 1:00 – 5:00pm.  \nCall 206-285-3383 or contact us to sign up.
URL:https://npfvoa.org/event/stcw-personal-safety-social-responsibilities-26/
LOCATION:NPFVOA @ Fishermen’s Terminal\, 1900 West Nickerson St\, Suite 315\, Seattle\, WA\, 98119\, United States
CATEGORIES:STCW
END:VEVENT
BEGIN:VEVENT
DTSTART;VALUE=DATE:20260616
DTEND;VALUE=DATE:20260618
DTSTAMP:20260423T163054
CREATED:20260224T220011Z
LAST-MODIFIED:20260224T220011Z
UID:10000529-1781568000-1781740799@npfvoa.org
SUMMARY:STCW Basic Training Revalidation
DESCRIPTION:Held offsite; call 206-285-3383 or email to sign up and get details.
URL:https://npfvoa.org/event/stcw-basic-training-revalidation-3/
CATEGORIES:STCW BT Revalidation
END:VEVENT
BEGIN:VEVENT
DTSTART;TZID=America/Los_Angeles:20260616T093000
DTEND;TZID=America/Los_Angeles:20260616T133000
DTSTAMP:20260423T163054
CREATED:20251022T231036Z
LAST-MODIFIED:20251119T233647Z
UID:10000425-1781602200-1781616600@npfvoa.org
SUMMARY:Specimen Collection Certification
DESCRIPTION:Call 206-285-3383 or contact us to sign up.
URL:https://npfvoa.org/event/specimen-collection-certification-26/
LOCATION:NPFVOA  @ 1900 W Nickerson St #315\, Seattle\, WA 98119\, USA\, Seattle\, WA\, United States
CATEGORIES:Specimen Collection
END:VEVENT
BEGIN:VEVENT
DTSTART;TZID=America/Los_Angeles:20260617T080000
DTEND;TZID=America/Los_Angeles:20260619T160000
DTSTAMP:20260423T163054
CREATED:20251022T230911Z
LAST-MODIFIED:20251202T060557Z
UID:10000423-1781683200-1781884800@npfvoa.org
SUMMARY:Shipyard Competent Person
DESCRIPTION:Shipyard Competent Person\, 8:00am-4:00pm each day. \nCall 206-285-3383 or contact us to sign up.
URL:https://npfvoa.org/event/shipyard-competent-person-21/
LOCATION:NPFVOA @ Fishermen’s Terminal\, 1900 West Nickerson St\, Suite 315\, Seattle\, WA\, 98119\, United States
CATEGORIES:Shipyard Competent Person
END:VEVENT
BEGIN:VEVENT
DTSTART;VALUE=DATE:20260618
DTEND;VALUE=DATE:20260619
DTSTAMP:20260423T163054
CREATED:20260224T235345Z
LAST-MODIFIED:20260224T235345Z
UID:10000544-1781740800-1781827199@npfvoa.org
SUMMARY:STCW Advanced Fire Fighting Revalidation
DESCRIPTION:US Coast Guard-approved STCW Advanced Firefighting Revalidation. Held offsite. Directions will be provided. \nCall 206-285-3383 or contact us to sign up.
URL:https://npfvoa.org/event/stcw-advanced-fire-fighting-revalidation-4/
CATEGORIES:Fire Fighting
END:VEVENT
BEGIN:VEVENT
DTSTART;TZID=America/Los_Angeles:20260619T080000
DTEND;TZID=America/Los_Angeles:20260619T080000
DTSTAMP:20260423T163054
CREATED:20251022T230946Z
LAST-MODIFIED:20251119T233036Z
UID:10000424-1781856000-1781856000@npfvoa.org
SUMMARY:Shipyard Competent Person Refresher
DESCRIPTION:Shipyard Competent Person Refresher\, 8:00am-4:00pm.  \nCall 206-285-3383 or contact us to sign up.
URL:https://npfvoa.org/event/shipyard-competent-person-refresher-21/
LOCATION:NPFVOA @ Fishermen’s Terminal\, 1900 West Nickerson St\, Suite 315\, Seattle\, WA\, 98119\, United States
CATEGORIES:Shipyard Competent Person
END:VEVENT
BEGIN:VEVENT
DTSTART;TZID=America/Los_Angeles:20260624T080000
DTEND;TZID=America/Los_Angeles:20260624T170000
DTSTAMP:20260423T163054
CREATED:20260219T194845Z
LAST-MODIFIED:20260219T194845Z
UID:10000524-1782288000-1782320400@npfvoa.org
SUMMARY:Practical First Aid/CPR for Fishing Vessels
DESCRIPTION:Non-Coast Guard-approved Medical training. No tests\, no pass/fail assessments.
URL:https://npfvoa.org/event/practical-first-aid-cpr-for-fishing-vessels-5/
LOCATION:NPFVOA  @ 1900 W Nickerson St #315\, Seattle\, WA 98119\, USA\, Seattle\, WA\, United States
CATEGORIES:Medical
END:VEVENT
BEGIN:VEVENT
DTSTART;TZID=America/Los_Angeles:20260625T073000
DTEND;TZID=America/Los_Angeles:20260625T170000
DTSTAMP:20260423T163054
CREATED:20260219T195111Z
LAST-MODIFIED:20260219T195111Z
UID:10000525-1782372600-1782406800@npfvoa.org
SUMMARY:Practical Firefighting for Fishing Vessels
DESCRIPTION:Non-Coast Guard-approved Firefighting training. No tests\, no pass/fail assessments. Two hours of classroom instruction\, followed by field exercises.
URL:https://npfvoa.org/event/practical-firefighting-for-fishing-vessels-5/
LOCATION:NPFVOA @ Fishermen’s Terminal\, 1900 West Nickerson St\, Suite 315\, Seattle\, WA\, 98119\, United States
CATEGORIES:Fire Fighting
END:VEVENT
BEGIN:VEVENT
DTSTART;TZID=America/Los_Angeles:20260626T080000
DTEND;TZID=America/Los_Angeles:20260626T170000
DTSTAMP:20260423T163054
CREATED:20260219T194726Z
LAST-MODIFIED:20260219T194726Z
UID:10000523-1782460800-1782493200@npfvoa.org
SUMMARY:Practical Survival Techniques for Fishing Vessels
DESCRIPTION:Non-Coast Guard-approved Survival training. No tests\, no pass/fail assessments. Classroom instruction and in-water exercises.
URL:https://npfvoa.org/event/practical-survival-techniques-for-fishing-vessels-5/
LOCATION:NPFVOA  @ 1900 W Nickerson St #315\, Seattle\, WA 98119\, USA\, Seattle\, WA\, United States
CATEGORIES:Survival
END:VEVENT
BEGIN:VEVENT
DTSTART;TZID=America/Los_Angeles:20260701T080000
DTEND;TZID=America/Los_Angeles:20260701T080000
DTSTAMP:20260423T163054
CREATED:20251121T214712Z
LAST-MODIFIED:20251209T214218Z
UID:10000437-1782892800-1782892800@npfvoa.org
SUMMARY:Onboard Drill Instructor
DESCRIPTION:8-Hour US Coast Guard-accepted Onboard Drill Instructor\, 8:00am – 5:00pm.
URL:https://npfvoa.org/event/onboard-drill-instructor-7/
LOCATION:NPFVOA @ Fishermen’s Terminal\, 1900 West Nickerson St\, Suite 315\, Seattle\, WA\, 98119\, United States
CATEGORIES:Drill
END:VEVENT
BEGIN:VEVENT
DTSTART;TZID=America/Los_Angeles:20260706T080000
DTEND;TZID=America/Los_Angeles:20260706T080000
DTSTAMP:20260423T163054
CREATED:20251120T005132Z
LAST-MODIFIED:20251120T005132Z
UID:10000429-1783324800-1783324800@npfvoa.org
SUMMARY:Medical Emergencies at Sea
DESCRIPTION:8-Hour US Coast Guard-approved Medical Emergencies at Sea (First Aid/CPR) 8:00am – 5:00pm. \nCall 206-285-3383 or contact us to sign up.
URL:https://npfvoa.org/event/medical-emergencies-at-sea-28/
LOCATION:NPFVOA @ Fishermen’s Terminal\, 1900 West Nickerson St\, Suite 315\, Seattle\, WA\, 98119\, United States
CATEGORIES:Medical
END:VEVENT
BEGIN:VEVENT
DTSTART;TZID=America/Los_Angeles:20260706T080000
DTEND;TZID=America/Los_Angeles:20260710T170000
DTSTAMP:20260423T163054
CREATED:20251107T233927Z
LAST-MODIFIED:20251209T221610Z
UID:10000426-1783324800-1783702800@npfvoa.org
SUMMARY:STCW Basic Training
DESCRIPTION:US Coast Guard-approved 5-Day STCW Basic Training\, 8:00am – 5:00pm \nIncludes Medical Emergencies at Sea\, Personal Survival Techniques\, Personal Safety & Social Responsibilities\, and 2-Day Basic Firefighting. You will spend time in a pool; please bring a swimsuit or change of clothes and a towel. The 2nd day of Firefighting is held offsite (directions will be provided). \nCall 206-285-3383 or contact us to sign up.
URL:https://npfvoa.org/event/stcw-basic-training-27/
LOCATION:NPFVOA  @ 1900 W Nickerson St #315\, Seattle\, WA 98119\, USA\, Seattle\, WA\, United States
CATEGORIES:STCW Basic Training
END:VEVENT
BEGIN:VEVENT
DTSTART;TZID=America/Los_Angeles:20260707T080000
DTEND;TZID=America/Los_Angeles:20260708T170000
DTSTAMP:20260423T163054
CREATED:20251121T194919Z
LAST-MODIFIED:20251121T194919Z
UID:10000431-1783411200-1783530000@npfvoa.org
SUMMARY:STCW 2-Day Basic Firefighting
DESCRIPTION:US Coast Guard-approved STCW Basic Firefighting. Day 1 is held at the NPFVOA office in Fishermen’s Terminal\, 8:00am – 5:00pm. Day 2 is held offsite. Directions will be provided. \nCall 206-285-3383 or contact us to sign up.
URL:https://npfvoa.org/event/stcw-2-day-basic-firefighting-28/
LOCATION:NPFVOA @ Fishermen’s Terminal\, 1900 West Nickerson St\, Suite 315\, Seattle\, WA\, 98119\, United States
CATEGORIES:Fire Fighting
END:VEVENT
BEGIN:VEVENT
DTSTART;TZID=America/Los_Angeles:20260709T080000
DTEND;TZID=America/Los_Angeles:20260710T120000
DTSTAMP:20260423T163054
CREATED:20251121T214340Z
LAST-MODIFIED:20251121T214340Z
UID:10000433-1783584000-1783684800@npfvoa.org
SUMMARY:STCW Personal Survival Techniques
DESCRIPTION:US Coast Guard-approved 12-Hour STCW Personal Survival Techniques\, July 9th\, 8:00am – 5:00pm\, and July 10th\, 8:00am – noon.\nYou will spend time in a pool; please bring a swimsuit or change of clothes and a towel.  \nCall 206-285-3383 or contact us to sign up.
URL:https://npfvoa.org/event/stcw-personal-survival-techniques-28/
LOCATION:NPFVOA @ Fishermen’s Terminal\, 1900 West Nickerson St\, Suite 315\, Seattle\, WA\, 98119\, United States
CATEGORIES:STCW
END:VEVENT
BEGIN:VEVENT
DTSTART;TZID=America/Los_Angeles:20260710T130000
DTEND;TZID=America/Los_Angeles:20260710T170000
DTSTAMP:20260423T163054
CREATED:20251121T214552Z
LAST-MODIFIED:20251121T214552Z
UID:10000435-1783688400-1783702800@npfvoa.org
SUMMARY:STCW Personal Safety & Social Responsibilities
DESCRIPTION:US Coast Guard-approved 4-Hour Personal Safety & Social Responsibilities\, 1:00 – 5:00pm.  \nCall 206-285-3383 or contact us to sign up.
URL:https://npfvoa.org/event/stcw-personal-safety-social-responsibilities-27/
LOCATION:NPFVOA @ Fishermen’s Terminal\, 1900 West Nickerson St\, Suite 315\, Seattle\, WA\, 98119\, United States
CATEGORIES:STCW
END:VEVENT
BEGIN:VEVENT
DTSTART;TZID=America/Los_Angeles:20260714T093000
DTEND;TZID=America/Los_Angeles:20260714T133000
DTSTAMP:20260423T163054
CREATED:20251121T215157Z
LAST-MODIFIED:20251121T215157Z
UID:10000445-1784021400-1784035800@npfvoa.org
SUMMARY:Specimen Collection Certification
DESCRIPTION:Call 206-285-3383 or contact us to sign up.
URL:https://npfvoa.org/event/specimen-collection-certification-27/
LOCATION:NPFVOA  @ 1900 W Nickerson St #315\, Seattle\, WA 98119\, USA\, Seattle\, WA\, United States
CATEGORIES:Specimen Collection
END:VEVENT
BEGIN:VEVENT
DTSTART;VALUE=DATE:20260720
DTEND;VALUE=DATE:20260722
DTSTAMP:20260423T163054
CREATED:20260224T220052Z
LAST-MODIFIED:20260224T220052Z
UID:10000530-1784505600-1784678399@npfvoa.org
SUMMARY:STCW Basic Training Revalidation
DESCRIPTION:Held offsite; call 206-285-3383 or email to sign up and get details.
URL:https://npfvoa.org/event/stcw-basic-training-revalidation-4/
CATEGORIES:STCW BT Revalidation
END:VEVENT
BEGIN:VEVENT
DTSTART;VALUE=DATE:20260722
DTEND;VALUE=DATE:20260723
DTSTAMP:20260423T163054
CREATED:20260224T235434Z
LAST-MODIFIED:20260224T235434Z
UID:10000545-1784678400-1784764799@npfvoa.org
SUMMARY:STCW Advanced Fire Fighting Revalidation
DESCRIPTION:US Coast Guard-approved STCW Advanced Firefighting Revalidation. Held offsite. Directions will be provided. \nCall 206-285-3383 or contact us to sign up.
URL:https://npfvoa.org/event/stcw-advanced-fire-fighting-revalidation-5/
CATEGORIES:Fire Fighting
END:VEVENT
BEGIN:VEVENT
DTSTART;VALUE=DATE:20260803
DTEND;VALUE=DATE:20260805
DTSTAMP:20260423T163054
CREATED:20260224T220128Z
LAST-MODIFIED:20260224T220128Z
UID:10000531-1785715200-1785887999@npfvoa.org
SUMMARY:STCW Basic Training Revalidation
DESCRIPTION:Held offsite; call 206-285-3383 or email to sign up and get details.
URL:https://npfvoa.org/event/stcw-basic-training-revalidation-5/
CATEGORIES:STCW BT Revalidation
END:VEVENT
BEGIN:VEVENT
DTSTART;TZID=America/Los_Angeles:20260804T080000
DTEND;TZID=America/Los_Angeles:20260804T080000
DTSTAMP:20260423T163054
CREATED:20251121T214742Z
LAST-MODIFIED:20251209T214223Z
UID:10000438-1785830400-1785830400@npfvoa.org
SUMMARY:Onboard Drill Instructor
DESCRIPTION:8-Hour US Coast Guard-accepted Onboard Drill Instructor\, 8:00am – 5:00pm.
URL:https://npfvoa.org/event/onboard-drill-instructor-8/
LOCATION:NPFVOA @ Fishermen’s Terminal\, 1900 West Nickerson St\, Suite 315\, Seattle\, WA\, 98119\, United States
CATEGORIES:Drill
END:VEVENT
BEGIN:VEVENT
DTSTART;VALUE=DATE:20260805
DTEND;VALUE=DATE:20260806
DTSTAMP:20260423T163054
CREATED:20260224T235503Z
LAST-MODIFIED:20260224T235503Z
UID:10000546-1785888000-1785974399@npfvoa.org
SUMMARY:STCW Advanced Fire Fighting Revalidation
DESCRIPTION:US Coast Guard-approved STCW Advanced Firefighting Revalidation. Held offsite. Directions will be provided. \nCall 206-285-3383 or contact us to sign up.
URL:https://npfvoa.org/event/stcw-advanced-fire-fighting-revalidation-6/
CATEGORIES:Fire Fighting
END:VEVENT
BEGIN:VEVENT
DTSTART;TZID=America/Los_Angeles:20260810T080000
DTEND;TZID=America/Los_Angeles:20260810T080000
DTSTAMP:20260423T163054
CREATED:20251120T005229Z
LAST-MODIFIED:20251120T005245Z
UID:10000430-1786348800-1786348800@npfvoa.org
SUMMARY:Medical Emergencies at Sea
DESCRIPTION:8-Hour US Coast Guard-approved Medical Emergencies at Sea (First Aid/CPR) 8:00am – 5:00pm. \nCall 206-285-3383 or contact us to sign up.
URL:https://npfvoa.org/event/medical-emergencies-at-sea-29/
LOCATION:NPFVOA @ Fishermen’s Terminal\, 1900 West Nickerson St\, Suite 315\, Seattle\, WA\, 98119\, United States
CATEGORIES:Medical
END:VEVENT
BEGIN:VEVENT
DTSTART;TZID=America/Los_Angeles:20260810T080000
DTEND;TZID=America/Los_Angeles:20260814T170000
DTSTAMP:20260423T163054
CREATED:20251120T004429Z
LAST-MODIFIED:20251209T221553Z
UID:10000427-1786348800-1786726800@npfvoa.org
SUMMARY:STCW Basic Training
DESCRIPTION:US Coast Guard-approved 5-Day STCW Basic Training\, 8:00am – 5:00pm \nIncludes Medical Emergencies at Sea\, Personal Survival Techniques\, Personal Safety & Social Responsibilities\, and 2-Day Basic Firefighting. You will spend time in a pool; please bring a swimsuit or change of clothes and a towel. The 2nd day of Firefighting is held offsite (directions will be provided). \nCall 206-285-3383 or contact us to sign up.
URL:https://npfvoa.org/event/stcw-basic-training-28/
LOCATION:NPFVOA  @ 1900 W Nickerson St #315\, Seattle\, WA 98119\, USA\, Seattle\, WA\, United States
CATEGORIES:STCW Basic Training
END:VEVENT
BEGIN:VEVENT
DTSTART;TZID=America/Los_Angeles:20260811T080000
DTEND;TZID=America/Los_Angeles:20260812T170000
DTSTAMP:20260423T163054
CREATED:20251121T214035Z
LAST-MODIFIED:20251121T214035Z
UID:10000432-1786435200-1786554000@npfvoa.org
SUMMARY:STCW 2-Day Basic Firefighting
DESCRIPTION:US Coast Guard-approved STCW Basic Firefighting. Day 1 is held at the NPFVOA office in Fishermen’s Terminal\, 8:00am – 5:00pm. Day 2 is held offsite. Directions will be provided. \nCall 206-285-3383 or contact us to sign up.
URL:https://npfvoa.org/event/stcw-2-day-basic-firefighting-29/
LOCATION:NPFVOA @ Fishermen’s Terminal\, 1900 West Nickerson St\, Suite 315\, Seattle\, WA\, 98119\, United States
CATEGORIES:Fire Fighting
END:VEVENT
BEGIN:VEVENT
DTSTART;TZID=America/Los_Angeles:20260813T080000
DTEND;TZID=America/Los_Angeles:20260814T120000
DTSTAMP:20260423T163054
CREATED:20251121T214503Z
LAST-MODIFIED:20251121T214503Z
UID:10000434-1786608000-1786708800@npfvoa.org
SUMMARY:STCW Personal Survival Techniques
DESCRIPTION:US Coast Guard-approved 12-Hour STCW Personal Survival Techniques\, August 13th\, 8:00am – 5:00pm\, and August 14th\, 8:00am – noon.\nYou will spend time in a pool; please bring a swimsuit or change of clothes and a towel.  \nCall 206-285-3383 or contact us to sign up.
URL:https://npfvoa.org/event/stcw-personal-survival-techniques-29/
LOCATION:NPFVOA @ Fishermen’s Terminal\, 1900 West Nickerson St\, Suite 315\, Seattle\, WA\, 98119\, United States
CATEGORIES:STCW
END:VEVENT
BEGIN:VEVENT
DTSTART;TZID=America/Los_Angeles:20260814T130000
DTEND;TZID=America/Los_Angeles:20260814T170000
DTSTAMP:20260423T163054
CREATED:20251121T214621Z
LAST-MODIFIED:20251121T214621Z
UID:10000436-1786712400-1786726800@npfvoa.org
SUMMARY:STCW Personal Safety & Social Responsibilities
DESCRIPTION:US Coast Guard-approved 4-Hour Personal Safety & Social Responsibilities\, 1:00 – 5:00pm.  \nCall 206-285-3383 or contact us to sign up.
URL:https://npfvoa.org/event/stcw-personal-safety-social-responsibilities-28/
LOCATION:NPFVOA @ Fishermen’s Terminal\, 1900 West Nickerson St\, Suite 315\, Seattle\, WA\, 98119\, United States
CATEGORIES:STCW
END:VEVENT
BEGIN:VEVENT
DTSTART;TZID=America/Los_Angeles:20260818T093000
DTEND;TZID=America/Los_Angeles:20260818T133000
DTSTAMP:20260423T163054
CREATED:20251121T215229Z
LAST-MODIFIED:20251121T215229Z
UID:10000446-1787045400-1787059800@npfvoa.org
SUMMARY:Specimen Collection Certification
DESCRIPTION:Call 206-285-3383 or contact us to sign up.
URL:https://npfvoa.org/event/specimen-collection-certification-28/
LOCATION:NPFVOA  @ 1900 W Nickerson St #315\, Seattle\, WA 98119\, USA\, Seattle\, WA\, United States
CATEGORIES:Specimen Collection
END:VEVENT
BEGIN:VEVENT
DTSTART;VALUE=DATE:20260831
DTEND;VALUE=DATE:20260902
DTSTAMP:20260423T163054
CREATED:20260224T220208Z
LAST-MODIFIED:20260224T220208Z
UID:10000532-1788134400-1788307199@npfvoa.org
SUMMARY:STCW Basic Training Revalidation
DESCRIPTION:Held offsite; call 206-285-3383 or email to sign up and get details.
URL:https://npfvoa.org/event/stcw-basic-training-revalidation-6/
CATEGORIES:STCW BT Revalidation
END:VEVENT
END:VCALENDAR