BEGIN:VCALENDAR
VERSION:2.0
PRODID:-//NPFVOA Vessel Safety Program - ECPv6.15.20//NONSGML v1.0//EN
CALSCALE:GREGORIAN
METHOD:PUBLISH
X-WR-CALNAME:NPFVOA Vessel Safety Program
X-ORIGINAL-URL:https://npfvoa.org
X-WR-CALDESC:Events for NPFVOA Vessel Safety Program
REFRESH-INTERVAL;VALUE=DURATION:PT1H
X-Robots-Tag:noindex
X-PUBLISHED-TTL:PT1H
BEGIN:VTIMEZONE
TZID:America/Los_Angeles
BEGIN:DAYLIGHT
TZOFFSETFROM:-0800
TZOFFSETTO:-0700
TZNAME:PDT
DTSTART:20240310T100000
END:DAYLIGHT
BEGIN:STANDARD
TZOFFSETFROM:-0700
TZOFFSETTO:-0800
TZNAME:PST
DTSTART:20241103T090000
END:STANDARD
BEGIN:DAYLIGHT
TZOFFSETFROM:-0800
TZOFFSETTO:-0700
TZNAME:PDT
DTSTART:20250309T100000
END:DAYLIGHT
BEGIN:STANDARD
TZOFFSETFROM:-0700
TZOFFSETTO:-0800
TZNAME:PST
DTSTART:20251102T090000
END:STANDARD
BEGIN:DAYLIGHT
TZOFFSETFROM:-0800
TZOFFSETTO:-0700
TZNAME:PDT
DTSTART:20260308T100000
END:DAYLIGHT
BEGIN:STANDARD
TZOFFSETFROM:-0700
TZOFFSETTO:-0800
TZNAME:PST
DTSTART:20261101T090000
END:STANDARD
END:VTIMEZONE
BEGIN:VEVENT
DTSTART;TZID=America/Los_Angeles:20250708T080000
DTEND;TZID=America/Los_Angeles:20250709T170000
DTSTAMP:20260425T085546
CREATED:20241113T215616Z
LAST-MODIFIED:20241113T215616Z
UID:10000258-1751961600-1752080400@npfvoa.org
SUMMARY:STCW 2-Day Basic Firefighting
DESCRIPTION:US Coast Guard-approved STCW Basic Firefighting. Day 1 is held at the NPFVOA office in Fishermen’s Terminal\, 8:00am – 5:00pm. Day 2 is held offsite. Directions will be provided.\nCall (206) 285-3383 or email to sign up.
URL:https://npfvoa.org/event/stcw-2-day-basic-firefighting-16/
LOCATION:NPFVOA @ Fishermen’s Terminal\, 1900 West Nickerson St\, Suite 315\, Seattle\, WA\, 98119\, United States
CATEGORIES:Fire Fighting
END:VEVENT
BEGIN:VEVENT
DTSTART;TZID=America/Los_Angeles:20250707T080000
DTEND;TZID=America/Los_Angeles:20250711T170000
DTSTAMP:20260425T085546
CREATED:20241113T215955Z
LAST-MODIFIED:20241113T215955Z
UID:10000263-1751875200-1752253200@npfvoa.org
SUMMARY:STCW Basic Training
DESCRIPTION:US Coast Guard-approved 5-Day STCW Basic Training\, 8:00am – 5:00pm\nIncludes Medical Emergencies at Sea\, Personal Survival Techniques\, Personal Safety & Social Responsibilities\, and 2-Day Basic Firefighting. You will spend time in a pool; please bring a swimsuit or change of clothes and a towel. The 2nd day of Firefighting is held offsite (directions will be provided). Call 206-285-3383 or email to sign up.
URL:https://npfvoa.org/event/stcw-basic-training-15/
LOCATION:NPFVOA  @ 1900 W Nickerson St #315\, Seattle\, WA 98119\, USA\, Seattle\, WA\, United States
CATEGORIES:STCW Basic Training
END:VEVENT
BEGIN:VEVENT
DTSTART;TZID=America/Los_Angeles:20250707T080000
DTEND;TZID=America/Los_Angeles:20250707T080000
DTSTAMP:20260425T085546
CREATED:20241113T215756Z
LAST-MODIFIED:20241113T215756Z
UID:10000260-1751875200-1751875200@npfvoa.org
SUMMARY:Basic Training Refresher
DESCRIPTION:US Coast Guard-approved 3-Day STCW Basic Training Refresher. Class dates and times: July 7/9/10\, 8:00am – 5:00pm. Call 206-285-3383 or email to sign up.
URL:https://npfvoa.org/event/basic-training-refresher-46/
LOCATION:NPFVOA @ Fishermen’s Terminal\, 1900 West Nickerson St\, Suite 315\, Seattle\, WA\, 98119\, United States
CATEGORIES:STCW BT Refresher
END:VEVENT
BEGIN:VEVENT
DTSTART;TZID=America/Los_Angeles:20250707T080000
DTEND;TZID=America/Los_Angeles:20250707T080000
DTSTAMP:20260425T085546
CREATED:20241113T215708Z
LAST-MODIFIED:20241113T215708Z
UID:10000259-1751875200-1751875200@npfvoa.org
SUMMARY:Medical Emergencies at Sea
DESCRIPTION:8-Hour US Coast Guard-approved Medical Emergencies at Sea (First Aid/CPR) 8:00am – 5:00pm.\nCall (206) 285-3383 or email to sign up.
URL:https://npfvoa.org/event/medical-emergencies-at-sea-16/
LOCATION:NPFVOA @ Fishermen’s Terminal\, 1900 West Nickerson St\, Suite 315\, Seattle\, WA\, 98119\, United States
CATEGORIES:Medical
END:VEVENT
BEGIN:VEVENT
DTSTART;TZID=America/Los_Angeles:20250625T080000
DTEND;TZID=America/Los_Angeles:20250625T170000
DTSTAMP:20260425T085546
CREATED:20241112T224116Z
LAST-MODIFIED:20241112T224116Z
UID:10000241-1750838400-1750870800@npfvoa.org
SUMMARY:HAZWOPER Refresher
DESCRIPTION:Class time 8:00am – 5:00pm.\nCall 206-285-3383 or email to sign up.
URL:https://npfvoa.org/event/hazwoper-refresher-28/
LOCATION:NPFVOA @ Fishermen’s Terminal\, 1900 West Nickerson St\, Suite 315\, Seattle\, WA\, 98119\, United States
CATEGORIES:HAZWOPER
END:VEVENT
BEGIN:VEVENT
DTSTART;TZID=America/Los_Angeles:20250623T080000
DTEND;TZID=America/Los_Angeles:20250625T170000
DTSTAMP:20260425T085546
CREATED:20241112T224210Z
LAST-MODIFIED:20241112T224210Z
UID:10000242-1750665600-1750870800@npfvoa.org
SUMMARY:24-Hour HAZWOPER Hazardous Materials Technician
DESCRIPTION:Class time: 8:00am – 5:00pm.\n8-Hour HAZWOPER Refresher offered concurrently on the first or last day of the 24-Hour class.\nCall 206-285-3383 or email to sign up.
URL:https://npfvoa.org/event/24-hour-hazwoper-hazardous-materials-technician-14/
LOCATION:NPFVOA @ Fishermen’s Terminal\, 1900 West Nickerson St\, Suite 315\, Seattle\, WA\, 98119\, United States
CATEGORIES:HAZWOPER
END:VEVENT
BEGIN:VEVENT
DTSTART;TZID=America/Los_Angeles:20250623T080000
DTEND;TZID=America/Los_Angeles:20250623T170000
DTSTAMP:20260425T085546
CREATED:20241112T224049Z
LAST-MODIFIED:20241112T224049Z
UID:10000240-1750665600-1750698000@npfvoa.org
SUMMARY:HAZWOPER Refresher
DESCRIPTION:Class time 8:00am – 5:00pm.\nCall 206-285-3383 or email to sign up.
URL:https://npfvoa.org/event/hazwoper-refresher-27/
LOCATION:NPFVOA @ Fishermen’s Terminal\, 1900 West Nickerson St\, Suite 315\, Seattle\, WA\, 98119\, United States
CATEGORIES:HAZWOPER
END:VEVENT
BEGIN:VEVENT
DTSTART;TZID=America/Los_Angeles:20250617T093000
DTEND;TZID=America/Los_Angeles:20250617T133000
DTSTAMP:20260425T085546
CREATED:20241112T224354Z
LAST-MODIFIED:20241112T224354Z
UID:10000245-1750152600-1750167000@npfvoa.org
SUMMARY:Specimen Collection Certification
DESCRIPTION:Call 206-285-3383 or email to sign up.
URL:https://npfvoa.org/event/specimen-collection-certification-14/
LOCATION:NPFVOA  @ 1900 W Nickerson St #315\, Seattle\, WA 98119\, USA\, Seattle\, WA\, United States
CATEGORIES:Specimen Collection
END:VEVENT
BEGIN:VEVENT
DTSTART;TZID=America/Los_Angeles:20250613T130000
DTEND;TZID=America/Los_Angeles:20250613T170000
DTSTAMP:20260425T085546
CREATED:20241112T224006Z
LAST-MODIFIED:20241112T224006Z
UID:10000239-1749819600-1749834000@npfvoa.org
SUMMARY:STCW Personal Safety & Social Responsibilities
DESCRIPTION:US Coast Guard-approved 4-Hour Personal Safety & Social Responsibilities\, 1:00 – 5:00pm. Call 206-285-3383 or email to sign up.
URL:https://npfvoa.org/event/stcw-personal-safety-social-responsibilities-14/
LOCATION:WA
CATEGORIES:STCW
END:VEVENT
BEGIN:VEVENT
DTSTART;TZID=America/Los_Angeles:20250612T080000
DTEND;TZID=America/Los_Angeles:20250613T120000
DTSTAMP:20260425T085546
CREATED:20241112T222030Z
LAST-MODIFIED:20241112T223841Z
UID:10000238-1749715200-1749816000@npfvoa.org
SUMMARY:STCW Personal Survival Techniques
DESCRIPTION:US Coast Guard-approved 12-Hour STCW Personal Survival Techniques\, June 12th\, 8:00am – 5:00pm\, and June 13th\, 8:00am – noon.\nYou will spend time in a pool; please bring a swimsuit or change of clothes and a towel. Call 206-285-3383 or email to sign up.
URL:https://npfvoa.org/event/stcw-personal-survival-techniques-15/
LOCATION:WA
CATEGORIES:STCW
END:VEVENT
BEGIN:VEVENT
DTSTART;TZID=America/Los_Angeles:20250610T080000
DTEND;TZID=America/Los_Angeles:20250611T170000
DTSTAMP:20260425T085546
CREATED:20241112T221927Z
LAST-MODIFIED:20241112T221927Z
UID:10000237-1749542400-1749661200@npfvoa.org
SUMMARY:STCW 2-Day Basic Firefighting
DESCRIPTION:US Coast Guard-approved STCW Basic Firefighting. Day 1 is held at the NPFVOA office in Fishermen’s Terminal\, 8:00am – 5:00pm. Day 2 is held offsite. Directions will be provided.\nCall (206) 285-3383 or email to sign up.
URL:https://npfvoa.org/event/stcw-2-day-basic-firefighting-15/
LOCATION:NPFVOA @ Fishermen’s Terminal\, 1900 West Nickerson St\, Suite 315\, Seattle\, WA\, 98119\, United States
CATEGORIES:Fire Fighting
END:VEVENT
BEGIN:VEVENT
DTSTART;TZID=America/Los_Angeles:20250609T080000
DTEND;TZID=America/Los_Angeles:20250613T170000
DTSTAMP:20260425T085546
CREATED:20241112T004843Z
LAST-MODIFIED:20241112T004843Z
UID:10000231-1749456000-1749834000@npfvoa.org
SUMMARY:STCW Basic Training
DESCRIPTION:US Coast Guard-approved 5-Day STCW Basic Training\, 8:00am – 5:00pm\nIncludes Medical Emergencies at Sea\, Personal Survival Techniques\, Personal Safety & Social Responsibilities\, and 2-Day Basic Firefighting. You will spend time in a pool; please bring a swimsuit or change of clothes and a towel. The 2nd day of Firefighting is held offsite (directions will be provided). Call 206-285-3383 or email to sign up.
URL:https://npfvoa.org/event/stcw-basic-training-14/
LOCATION:NPFVOA  @ 1900 W Nickerson St #315\, Seattle\, WA 98119\, USA\, Seattle\, WA\, United States
CATEGORIES:STCW Basic Training
END:VEVENT
BEGIN:VEVENT
DTSTART;TZID=America/Los_Angeles:20250609T080000
DTEND;TZID=America/Los_Angeles:20250609T080000
DTSTAMP:20260425T085546
CREATED:20241112T004920Z
LAST-MODIFIED:20241112T004920Z
UID:10000232-1749456000-1749456000@npfvoa.org
SUMMARY:Medical Emergencies at Sea
DESCRIPTION:8-Hour US Coast Guard-approved Medical Emergencies at Sea (First Aid/CPR) 8:00am – 5:00pm.\nCall (206) 285-3383 or email to sign up.
URL:https://npfvoa.org/event/medical-emergencies-at-sea-15/
LOCATION:NPFVOA @ Fishermen’s Terminal\, 1900 West Nickerson St\, Suite 315\, Seattle\, WA\, 98119\, United States
CATEGORIES:Medical
END:VEVENT
BEGIN:VEVENT
DTSTART;TZID=America/Los_Angeles:20250605T080000
DTEND;TZID=America/Los_Angeles:20250605T080000
DTSTAMP:20260425T085546
CREATED:20241112T004956Z
LAST-MODIFIED:20251209T214939Z
UID:10000233-1749110400-1749110400@npfvoa.org
SUMMARY:Drill Instructor Workshop
DESCRIPTION:8-Hour US Coast Guard-accepted Drill Instructor Workshop\, 8:00am – 5:00pm. Call (206) 285-3383 or email to register.
URL:https://npfvoa.org/event/drill-instructor-workshop-14/
LOCATION:NPFVOA @ Fishermen’s Terminal\, 1900 West Nickerson St\, Suite 315\, Seattle\, WA\, 98119\, United States
CATEGORIES:Drill
END:VEVENT
BEGIN:VEVENT
DTSTART;TZID=America/Los_Angeles:20250521T080000
DTEND;TZID=America/Los_Angeles:20250521T170000
DTSTAMP:20260425T085546
CREATED:20241030T215047Z
LAST-MODIFIED:20241030T215047Z
UID:10000225-1747814400-1747846800@npfvoa.org
SUMMARY:HAZWOPER Refresher
DESCRIPTION:Class time 8:00am – 5:00pm.\nCall 206-285-3383 or email to sign up.
URL:https://npfvoa.org/event/hazwoper-refresher-26/
LOCATION:NPFVOA @ Fishermen’s Terminal\, 1900 West Nickerson St\, Suite 315\, Seattle\, WA\, 98119\, United States
CATEGORIES:HAZWOPER
END:VEVENT
BEGIN:VEVENT
DTSTART;TZID=America/Los_Angeles:20250519T080000
DTEND;TZID=America/Los_Angeles:20250521T170000
DTSTAMP:20260425T085546
CREATED:20241030T215348Z
LAST-MODIFIED:20241030T215348Z
UID:10000226-1747641600-1747846800@npfvoa.org
SUMMARY:24-Hour HAZWOPER Hazardous Materials Technician
DESCRIPTION:Class time: 8:00am – 5:00pm.\n8-Hour HAZWOPER Refresher offered concurrently on the first or last day of the 24-Hour class.\nCall 206-285-3383 or email to sign up.
URL:https://npfvoa.org/event/24-hour-hazwoper-hazardous-materials-technician-13/
LOCATION:NPFVOA @ Fishermen’s Terminal\, 1900 West Nickerson St\, Suite 315\, Seattle\, WA\, 98119\, United States
CATEGORIES:HAZWOPER
END:VEVENT
BEGIN:VEVENT
DTSTART;TZID=America/Los_Angeles:20250519T080000
DTEND;TZID=America/Los_Angeles:20250519T170000
DTSTAMP:20260425T085546
CREATED:20241030T214810Z
LAST-MODIFIED:20241030T214810Z
UID:10000224-1747641600-1747674000@npfvoa.org
SUMMARY:HAZWOPER Refresher
DESCRIPTION:Class time 8:00am – 5:00pm.\nCall 206-285-3383 or email to sign up.
URL:https://npfvoa.org/event/hazwoper-refresher-25/
LOCATION:NPFVOA @ Fishermen’s Terminal\, 1900 West Nickerson St\, Suite 315\, Seattle\, WA\, 98119\, United States
CATEGORIES:HAZWOPER
END:VEVENT
BEGIN:VEVENT
DTSTART;TZID=America/Los_Angeles:20250516T080000
DTEND;TZID=America/Los_Angeles:20250516T080000
DTSTAMP:20260425T085546
CREATED:20241030T215746Z
LAST-MODIFIED:20241030T215746Z
UID:10000229-1747382400-1747382400@npfvoa.org
SUMMARY:Shipyard Competent Person Refresher
DESCRIPTION:Shipyard Competent Person Refresher\, 8:00am-4:00pm. Call (206) 285-3383 or email to sign up.
URL:https://npfvoa.org/event/shipyard-competent-person-refresher-11/
LOCATION:WA
CATEGORIES:Shipyard Competent Person
END:VEVENT
BEGIN:VEVENT
DTSTART;TZID=America/Los_Angeles:20250514T080000
DTEND;TZID=America/Los_Angeles:20250516T160000
DTSTAMP:20260425T085546
CREATED:20241030T215648Z
LAST-MODIFIED:20241030T215648Z
UID:10000228-1747209600-1747411200@npfvoa.org
SUMMARY:Shipyard Competent Person
DESCRIPTION:Shipyard Competent Person\, 8:00am-4:00pm each day. Call (206) 285-3383 or email to sign up.
URL:https://npfvoa.org/event/shipyard-competent-person-11/
LOCATION:WA
CATEGORIES:Shipyard Competent Person
END:VEVENT
BEGIN:VEVENT
DTSTART;TZID=America/Los_Angeles:20250513T093000
DTEND;TZID=America/Los_Angeles:20250513T133000
DTSTAMP:20260425T085546
CREATED:20241030T215909Z
LAST-MODIFIED:20241030T215909Z
UID:10000230-1747128600-1747143000@npfvoa.org
SUMMARY:Specimen Collection Certification
DESCRIPTION:Call 206-285-3383 or email to sign up.
URL:https://npfvoa.org/event/specimen-collection-certification-13/
LOCATION:NPFVOA  @ 1900 W Nickerson St #315\, Seattle\, WA 98119\, USA\, Seattle\, WA\, United States
CATEGORIES:Specimen Collection
END:VEVENT
BEGIN:VEVENT
DTSTART;TZID=America/Los_Angeles:20250509T130000
DTEND;TZID=America/Los_Angeles:20250509T170000
DTSTAMP:20260425T085546
CREATED:20241030T215601Z
LAST-MODIFIED:20241030T215601Z
UID:10000227-1746795600-1746810000@npfvoa.org
SUMMARY:STCW Personal Safety & Social Responsibilities
DESCRIPTION:US Coast Guard-approved 4-Hour Personal Safety & Social Responsibilities\, 1:00 – 5:00pm. Call 206-285-3383 or email to sign up.
URL:https://npfvoa.org/event/stcw-personal-safety-social-responsibilities-13/
LOCATION:WA
CATEGORIES:STCW
END:VEVENT
BEGIN:VEVENT
DTSTART;TZID=America/Los_Angeles:20250508T130000
DTEND;TZID=America/Los_Angeles:20250508T150000
DTSTAMP:20260425T085546
CREATED:20241021T231741Z
LAST-MODIFIED:20250331T164653Z
UID:10000214-1746709200-1746716400@npfvoa.org
SUMMARY:Basic Training Revalidation
DESCRIPTION:Class times: May 7th\, 8:00am-5:00pm\, and May 8th\, 1:00pm-3:00pm. Held offsite; call 206-285-3383 or email to sign up and get details.
URL:https://npfvoa.org/event/basic-training-revalidation-28/
LOCATION:WA
CATEGORIES:STCW BT Revalidation
END:VEVENT
BEGIN:VEVENT
DTSTART;TZID=America/Los_Angeles:20250508T080000
DTEND;TZID=America/Los_Angeles:20250509T120000
DTSTAMP:20260425T085546
CREATED:20241030T214357Z
LAST-MODIFIED:20241030T214357Z
UID:10000222-1746691200-1746792000@npfvoa.org
SUMMARY:STCW Personal Survival Techniques
DESCRIPTION:US Coast Guard-approved 12-Hour STCW Personal Survival Techniques\, May 8th\, 8:00am – 5:00pm\, and May 9th\, 8:00am – noon.\nYou will spend time in a pool; please bring a swimsuit or change of clothes and a towel. Call 206-285-3383 or email to sign up.
URL:https://npfvoa.org/event/stcw-personal-survival-techniques-14/
LOCATION:Seattle\, WA\, United States
CATEGORIES:STCW
END:VEVENT
BEGIN:VEVENT
DTSTART;TZID=America/Los_Angeles:20250508T080000
DTEND;TZID=America/Los_Angeles:20250508T080000
DTSTAMP:20260425T085546
CREATED:20241021T233016Z
LAST-MODIFIED:20241021T233016Z
UID:10000218-1746691200-1746691200@npfvoa.org
SUMMARY:Basic Training Refresher
DESCRIPTION:US Coast Guard-approved 3-Day STCW Basic Training Refresher. Class dates and times: May 5/7/8\, 8:00am – 5:00pm. Call 206-285-3383 or email to sign up.
URL:https://npfvoa.org/event/basic-training-refresher-42/
LOCATION:NPFVOA @ Fishermen’s Terminal\, 1900 West Nickerson St\, Suite 315\, Seattle\, WA\, 98119\, United States
CATEGORIES:STCW BT Refresher
END:VEVENT
BEGIN:VEVENT
DTSTART;TZID=America/Los_Angeles:20250507T080000
DTEND;TZID=America/Los_Angeles:20250507T170000
DTSTAMP:20260425T085546
CREATED:20241021T231453Z
LAST-MODIFIED:20250331T164539Z
UID:10000213-1746604800-1746637200@npfvoa.org
SUMMARY:Basic Training Revalidation
DESCRIPTION:Class times: May 7th\, 8:00am-5:00pm\, and May 8th\, 1:00pm-3:00pm. Held offsite; call 206-285-3383 or email to sign up and get details.
URL:https://npfvoa.org/event/basic-training-revalidation-27/
LOCATION:WA
CATEGORIES:STCW BT Revalidation
END:VEVENT
BEGIN:VEVENT
DTSTART;TZID=America/Los_Angeles:20250507T080000
DTEND;TZID=America/Los_Angeles:20250507T080000
DTSTAMP:20260425T085546
CREATED:20241021T232949Z
LAST-MODIFIED:20241021T232949Z
UID:10000217-1746604800-1746604800@npfvoa.org
SUMMARY:Basic Training Refresher
DESCRIPTION:US Coast Guard-approved 3-Day STCW Basic Training Refresher. Class dates and times: May 5/7/8\, 8:00am – 5:00pm. Call 206-285-3383 or email to sign up.
URL:https://npfvoa.org/event/basic-training-refresher-41/
LOCATION:NPFVOA @ Fishermen’s Terminal\, 1900 West Nickerson St\, Suite 315\, Seattle\, WA\, 98119\, United States
CATEGORIES:STCW BT Refresher
END:VEVENT
BEGIN:VEVENT
DTSTART;TZID=America/Los_Angeles:20250506T080000
DTEND;TZID=America/Los_Angeles:20250507T170000
DTSTAMP:20260425T085546
CREATED:20241021T233518Z
LAST-MODIFIED:20241021T233518Z
UID:10000220-1746518400-1746637200@npfvoa.org
SUMMARY:STCW 2-Day Basic Firefighting
DESCRIPTION:US Coast Guard-approved STCW Basic Firefighting. Day 1 is held at the NPFVOA office in Fishermen’s Terminal\, 8:00am – 5:00pm. Day 2 is held offsite. Directions will be provided.\nCall (206) 285-3383 or email to sign up.
URL:https://npfvoa.org/event/stcw-2-day-basic-firefighting-14/
LOCATION:NPFVOA @ Fishermen’s Terminal\, 1900 West Nickerson St\, Suite 315\, Seattle\, WA\, 98119\, United States
CATEGORIES:Fire Fighting
END:VEVENT
BEGIN:VEVENT
DTSTART;TZID=America/Los_Angeles:20250505T080000
DTEND;TZID=America/Los_Angeles:20250509T170000
DTSTAMP:20260425T085546
CREATED:20241021T232545Z
LAST-MODIFIED:20241021T232545Z
UID:10000215-1746432000-1746810000@npfvoa.org
SUMMARY:STCW Basic Training
DESCRIPTION:US Coast Guard-approved 5-Day STCW Basic Training\, 8:00am – 5:00pm\nIncludes Medical Emergencies at Sea\, Personal Survival Techniques\, Personal Safety & Social Responsibilities\, and 2-Day Basic Firefighting. You will spend time in a pool; please bring a swimsuit or change of clothes and a towel. The 2nd day of Firefighting is held offsite (directions will be provided). Call 206-285-3383 or email to sign up.
URL:https://npfvoa.org/event/stcw-basic-training-13/
LOCATION:NPFVOA  @ 1900 W Nickerson St #315\, Seattle\, WA 98119\, USA\, Seattle\, WA\, United States
CATEGORIES:STCW Basic Training
END:VEVENT
BEGIN:VEVENT
DTSTART;TZID=America/Los_Angeles:20250505T080000
DTEND;TZID=America/Los_Angeles:20250505T080000
DTSTAMP:20260425T085546
CREATED:20241021T233316Z
LAST-MODIFIED:20241021T233316Z
UID:10000219-1746432000-1746432000@npfvoa.org
SUMMARY:Medical Emergencies at Sea
DESCRIPTION:8-Hour US Coast Guard-approved Medical Emergencies at Sea (First Aid/CPR) 8:00am – 5:00pm.\nCall (206) 285-3383 or email to sign up.
URL:https://npfvoa.org/event/medical-emergencies-at-sea-14/
LOCATION:NPFVOA @ Fishermen’s Terminal\, 1900 West Nickerson St\, Suite 315\, Seattle\, WA\, 98119\, United States
CATEGORIES:Medical
END:VEVENT
BEGIN:VEVENT
DTSTART;TZID=America/Los_Angeles:20250505T080000
DTEND;TZID=America/Los_Angeles:20250505T080000
DTSTAMP:20260425T085546
CREATED:20241021T232812Z
LAST-MODIFIED:20241021T232812Z
UID:10000216-1746432000-1746432000@npfvoa.org
SUMMARY:Basic Training Refresher
DESCRIPTION:US Coast Guard-approved 3-Day STCW Basic Training Refresher. Class dates and times: May 5/7/8\, 8:00am – 5:00pm. Call 206-285-3383 or email to sign up.
URL:https://npfvoa.org/event/basic-training-refresher-40/
LOCATION:NPFVOA @ Fishermen’s Terminal\, 1900 West Nickerson St\, Suite 315\, Seattle\, WA\, 98119\, United States
CATEGORIES:STCW BT Refresher
END:VEVENT
END:VCALENDAR