BEGIN:VCALENDAR
VERSION:2.0
PRODID:-//NPFVOA Vessel Safety Program - ECPv6.15.20//NONSGML v1.0//EN
CALSCALE:GREGORIAN
METHOD:PUBLISH
X-ORIGINAL-URL:https://npfvoa.org
X-WR-CALDESC:Events for NPFVOA Vessel Safety Program
REFRESH-INTERVAL;VALUE=DURATION:PT1H
X-Robots-Tag:noindex
X-PUBLISHED-TTL:PT1H
BEGIN:VTIMEZONE
TZID:America/Los_Angeles
BEGIN:DAYLIGHT
TZOFFSETFROM:-0800
TZOFFSETTO:-0700
TZNAME:PDT
DTSTART:20250309T100000
END:DAYLIGHT
BEGIN:STANDARD
TZOFFSETFROM:-0700
TZOFFSETTO:-0800
TZNAME:PST
DTSTART:20251102T090000
END:STANDARD
BEGIN:DAYLIGHT
TZOFFSETFROM:-0800
TZOFFSETTO:-0700
TZNAME:PDT
DTSTART:20260308T100000
END:DAYLIGHT
BEGIN:STANDARD
TZOFFSETFROM:-0700
TZOFFSETTO:-0800
TZNAME:PST
DTSTART:20261101T090000
END:STANDARD
BEGIN:DAYLIGHT
TZOFFSETFROM:-0800
TZOFFSETTO:-0700
TZNAME:PDT
DTSTART:20270314T100000
END:DAYLIGHT
BEGIN:STANDARD
TZOFFSETFROM:-0700
TZOFFSETTO:-0800
TZNAME:PST
DTSTART:20271107T090000
END:STANDARD
END:VTIMEZONE
BEGIN:VEVENT
DTSTART;TZID=America/Los_Angeles:20260227T080000
DTEND;TZID=America/Los_Angeles:20260227T170000
DTSTAMP:20260423T160921
CREATED:20260127T225411Z
LAST-MODIFIED:20260127T225411Z
UID:10000515-1772179200-1772211600@npfvoa.org
SUMMARY:Practical Survival Techniques for Fishing Vessels
DESCRIPTION:Non-Coast Guard-approved Survival training. No tests\, no pass/fail assessments. Classroom instruction and in-water exercises.
URL:https://npfvoa.org/event/practical-survival-techniques-for-fishing-vessels/
LOCATION:NPFVOA  @ 1900 W Nickerson St #315\, Seattle\, WA 98119\, USA\, Seattle\, WA\, United States
CATEGORIES:Survival
END:VEVENT
BEGIN:VEVENT
DTSTART;TZID=America/Los_Angeles:20260327T080000
DTEND;TZID=America/Los_Angeles:20260327T170000
DTSTAMP:20260423T160921
CREATED:20260127T225719Z
LAST-MODIFIED:20260127T225719Z
UID:10000516-1774598400-1774630800@npfvoa.org
SUMMARY:Practical Survival Techniques for Fishing Vessels
DESCRIPTION:Non-Coast Guard-approved Survival training. No tests\, no pass/fail assessments. Classroom instruction and in-water exercises.
URL:https://npfvoa.org/event/practical-survival-techniques-for-fishing-vessels-2/
LOCATION:NPFVOA  @ 1900 W Nickerson St #315\, Seattle\, WA 98119\, USA\, Seattle\, WA\, United States
CATEGORIES:Survival
END:VEVENT
BEGIN:VEVENT
DTSTART;TZID=America/Los_Angeles:20260430T080000
DTEND;TZID=America/Los_Angeles:20260430T170000
DTSTAMP:20260423T160921
CREATED:20260219T193914Z
LAST-MODIFIED:20260219T193914Z
UID:10000518-1777536000-1777568400@npfvoa.org
SUMMARY:Practical Survival Techniques for Fishing Vessels
DESCRIPTION:Non-Coast Guard-approved Survival training. No tests\, no pass/fail assessments. Classroom instruction and in-water exercises.
URL:https://npfvoa.org/event/practical-survival-techniques-for-fishing-vessels-3/
LOCATION:NPFVOA  @ 1900 W Nickerson St #315\, Seattle\, WA 98119\, USA\, Seattle\, WA\, United States
CATEGORIES:Survival
END:VEVENT
BEGIN:VEVENT
DTSTART;TZID=America/Los_Angeles:20260527T080000
DTEND;TZID=America/Los_Angeles:20260527T170000
DTSTAMP:20260423T160921
CREATED:20260219T194530Z
LAST-MODIFIED:20260219T194530Z
UID:10000522-1779868800-1779901200@npfvoa.org
SUMMARY:Practical Survival Techniques for Fishing Vessels
DESCRIPTION:Non-Coast Guard-approved Survival training. No tests\, no pass/fail assessments. Classroom instruction and in-water exercises.
URL:https://npfvoa.org/event/practical-survival-techniques-for-fishing-vessels-4/
LOCATION:NPFVOA  @ 1900 W Nickerson St #315\, Seattle\, WA 98119\, USA\, Seattle\, WA\, United States
CATEGORIES:Survival
END:VEVENT
BEGIN:VEVENT
DTSTART;TZID=America/Los_Angeles:20260626T080000
DTEND;TZID=America/Los_Angeles:20260626T170000
DTSTAMP:20260423T160921
CREATED:20260219T194726Z
LAST-MODIFIED:20260219T194726Z
UID:10000523-1782460800-1782493200@npfvoa.org
SUMMARY:Practical Survival Techniques for Fishing Vessels
DESCRIPTION:Non-Coast Guard-approved Survival training. No tests\, no pass/fail assessments. Classroom instruction and in-water exercises.
URL:https://npfvoa.org/event/practical-survival-techniques-for-fishing-vessels-5/
LOCATION:NPFVOA  @ 1900 W Nickerson St #315\, Seattle\, WA 98119\, USA\, Seattle\, WA\, United States
CATEGORIES:Survival
END:VEVENT
END:VCALENDAR