BEGIN:VCALENDAR
VERSION:2.0
PRODID:-//NPFVOA Vessel Safety Program - ECPv6.15.20//NONSGML v1.0//EN
CALSCALE:GREGORIAN
METHOD:PUBLISH
X-WR-CALNAME:NPFVOA Vessel Safety Program
X-ORIGINAL-URL:https://npfvoa.org
X-WR-CALDESC:Events for NPFVOA Vessel Safety Program
REFRESH-INTERVAL;VALUE=DURATION:PT1H
X-Robots-Tag:noindex
X-PUBLISHED-TTL:PT1H
BEGIN:VTIMEZONE
TZID:America/Los_Angeles
BEGIN:DAYLIGHT
TZOFFSETFROM:-0800
TZOFFSETTO:-0700
TZNAME:PDT
DTSTART:20240310T100000
END:DAYLIGHT
BEGIN:STANDARD
TZOFFSETFROM:-0700
TZOFFSETTO:-0800
TZNAME:PST
DTSTART:20241103T090000
END:STANDARD
BEGIN:DAYLIGHT
TZOFFSETFROM:-0800
TZOFFSETTO:-0700
TZNAME:PDT
DTSTART:20250309T100000
END:DAYLIGHT
BEGIN:STANDARD
TZOFFSETFROM:-0700
TZOFFSETTO:-0800
TZNAME:PST
DTSTART:20251102T090000
END:STANDARD
BEGIN:DAYLIGHT
TZOFFSETFROM:-0800
TZOFFSETTO:-0700
TZNAME:PDT
DTSTART:20260308T100000
END:DAYLIGHT
BEGIN:STANDARD
TZOFFSETFROM:-0700
TZOFFSETTO:-0800
TZNAME:PST
DTSTART:20261101T090000
END:STANDARD
BEGIN:DAYLIGHT
TZOFFSETFROM:-0800
TZOFFSETTO:-0700
TZNAME:PDT
DTSTART:20270314T100000
END:DAYLIGHT
BEGIN:STANDARD
TZOFFSETFROM:-0700
TZOFFSETTO:-0800
TZNAME:PST
DTSTART:20271107T090000
END:STANDARD
END:VTIMEZONE
BEGIN:VEVENT
DTSTART;TZID=America/Los_Angeles:20260406T080000
DTEND;TZID=America/Los_Angeles:20260406T080000
DTSTAMP:20260423T133547
CREATED:20251022T182111Z
LAST-MODIFIED:20251119T221307Z
UID:10000390-1775462400-1775462400@npfvoa.org
SUMMARY:Medical Emergencies at Sea
DESCRIPTION:8-Hour US Coast Guard-approved Medical Emergencies at Sea (First Aid/CPR) 8:00am – 5:00pm. \nCall 206-285-3383 or contact us to sign up.
URL:https://npfvoa.org/event/medical-emergencies-at-sea-25/
LOCATION:NPFVOA @ Fishermen’s Terminal\, 1900 West Nickerson St\, Suite 315\, Seattle\, WA\, 98119\, United States
CATEGORIES:Medical
END:VEVENT
BEGIN:VEVENT
DTSTART;TZID=America/Los_Angeles:20260325T080000
DTEND;TZID=America/Los_Angeles:20260325T170000
DTSTAMP:20260423T133548
CREATED:20260127T224504Z
LAST-MODIFIED:20260127T224504Z
UID:10000514-1774425600-1774458000@npfvoa.org
SUMMARY:Practical First Aid/CPR for Fishing Vessels
DESCRIPTION:Non-Coast Guard-approved Medical training. No tests\, no pass/fail assessments.
URL:https://npfvoa.org/event/practical-first-aid-cpr-for-fishing-vessels-2/
LOCATION:NPFVOA  @ 1900 W Nickerson St #315\, Seattle\, WA 98119\, USA\, Seattle\, WA\, United States
CATEGORIES:Medical
END:VEVENT
BEGIN:VEVENT
DTSTART;TZID=America/Los_Angeles:20260309T080000
DTEND;TZID=America/Los_Angeles:20260309T080000
DTSTAMP:20260423T133548
CREATED:20251022T173339Z
LAST-MODIFIED:20251119T221159Z
UID:10000378-1773043200-1773043200@npfvoa.org
SUMMARY:Medical Emergencies at Sea
DESCRIPTION:8-Hour US Coast Guard-approved Medical Emergencies at Sea (First Aid/CPR) 8:00am – 5:00pm. \nCall 206-285-3383 or contact us to sign up.
URL:https://npfvoa.org/event/medical-emergencies-at-sea-24/
LOCATION:NPFVOA @ Fishermen’s Terminal\, 1900 West Nickerson St\, Suite 315\, Seattle\, WA\, 98119\, United States
CATEGORIES:Medical
END:VEVENT
BEGIN:VEVENT
DTSTART;TZID=America/Los_Angeles:20260225T080000
DTEND;TZID=America/Los_Angeles:20260225T170000
DTSTAMP:20260423T133548
CREATED:20260127T224317Z
LAST-MODIFIED:20260127T224317Z
UID:10000513-1772006400-1772038800@npfvoa.org
SUMMARY:Practical First Aid/CPR for Fishing Vessels
DESCRIPTION:Non-Coast Guard-approved Medical training. No tests\, no pass/fail assessments.
URL:https://npfvoa.org/event/practical-first-aid-cpr-for-fishing-vessels/
LOCATION:NPFVOA  @ 1900 W Nickerson St #315\, Seattle\, WA 98119\, USA\, Seattle\, WA\, United States
CATEGORIES:Medical
END:VEVENT
BEGIN:VEVENT
DTSTART;TZID=America/Los_Angeles:20260209T080000
DTEND;TZID=America/Los_Angeles:20260209T080000
DTSTAMP:20260423T133548
CREATED:20251021T221941Z
LAST-MODIFIED:20251108T001933Z
UID:10000365-1770624000-1770624000@npfvoa.org
SUMMARY:Medical Emergencies at Sea
DESCRIPTION:8-Hour US Coast Guard-approved Medical Emergencies at Sea (First Aid/CPR) 8:00am – 5:00pm. \nCall 206-285-3383 or contact us to sign up.
URL:https://npfvoa.org/event/medical-emergencies-at-sea-23/
LOCATION:NPFVOA @ Fishermen’s Terminal\, 1900 West Nickerson St\, Suite 315\, Seattle\, WA\, 98119\, United States
CATEGORIES:Medical
END:VEVENT
BEGIN:VEVENT
DTSTART;TZID=America/Los_Angeles:20260105T080000
DTEND;TZID=America/Los_Angeles:20260105T080000
DTSTAMP:20260423T133548
CREATED:20251021T181535Z
LAST-MODIFIED:20251108T000541Z
UID:10000351-1767600000-1767600000@npfvoa.org
SUMMARY:Medical Emergencies at Sea
DESCRIPTION:8-Hour US Coast Guard-approved Medical Emergencies at Sea (First Aid/CPR) 8:00am – 5:00pm. \nCall 206-285-3383 or contact us to sign up.
URL:https://npfvoa.org/event/medical-emergencies-at-sea-22/
LOCATION:NPFVOA @ Fishermen’s Terminal\, 1900 West Nickerson St\, Suite 315\, Seattle\, WA\, 98119\, United States
CATEGORIES:Medical
END:VEVENT
BEGIN:VEVENT
DTSTART;TZID=America/Los_Angeles:20251208T080000
DTEND;TZID=America/Los_Angeles:20251208T080000
DTSTAMP:20260423T133548
CREATED:20241119T230734Z
LAST-MODIFIED:20251217T052915Z
UID:10000336-1765180800-1765180800@npfvoa.org
SUMMARY:Medical Emergencies at Sea
DESCRIPTION:8-Hour US Coast Guard-approved Medical Emergencies at Sea (First Aid/CPR) 8:00am – 5:00pm.\nCall 206-285-3383 or contact us to sign up.
URL:https://npfvoa.org/event/medical-emergencies-at-sea-21/
LOCATION:NPFVOA @ Fishermen’s Terminal\, 1900 West Nickerson St\, Suite 315\, Seattle\, WA\, 98119\, United States
CATEGORIES:Medical
END:VEVENT
BEGIN:VEVENT
DTSTART;TZID=America/Los_Angeles:20251103T080000
DTEND;TZID=America/Los_Angeles:20251103T080000
DTSTAMP:20260423T133548
CREATED:20241119T213304Z
LAST-MODIFIED:20241119T213304Z
UID:10000321-1762156800-1762156800@npfvoa.org
SUMMARY:Medical Emergencies at Sea
DESCRIPTION:8-Hour US Coast Guard-approved Medical Emergencies at Sea (First Aid/CPR) 8:00am – 5:00pm.\nCall (206) 285-3383 or email to sign up.
URL:https://npfvoa.org/event/medical-emergencies-at-sea-20/
LOCATION:NPFVOA @ Fishermen’s Terminal\, 1900 West Nickerson St\, Suite 315\, Seattle\, WA\, 98119\, United States
CATEGORIES:Medical
END:VEVENT
BEGIN:VEVENT
DTSTART;TZID=America/Los_Angeles:20251008T080000
DTEND;TZID=America/Los_Angeles:20251008T080000
DTSTAMP:20260423T133548
CREATED:20241118T202026Z
LAST-MODIFIED:20241118T202026Z
UID:10000302-1759910400-1759910400@npfvoa.org
SUMMARY:Medical Emergencies at Sea
DESCRIPTION:8-Hour US Coast Guard-approved Medical Emergencies at Sea (First Aid/CPR) 8:00am – 5:00pm.\nCall (206) 285-3383 or email to sign up.
URL:https://npfvoa.org/event/medical-emergencies-at-sea-19/
LOCATION:NPFVOA @ Fishermen’s Terminal\, 1900 West Nickerson St\, Suite 315\, Seattle\, WA\, 98119\, United States
CATEGORIES:Medical
END:VEVENT
BEGIN:VEVENT
DTSTART;TZID=America/Los_Angeles:20250910T080000
DTEND;TZID=America/Los_Angeles:20250910T080000
DTSTAMP:20260423T133548
CREATED:20241115T231345Z
LAST-MODIFIED:20241115T231345Z
UID:10000285-1757491200-1757491200@npfvoa.org
SUMMARY:Medical Emergencies at Sea
DESCRIPTION:8-Hour US Coast Guard-approved Medical Emergencies at Sea (First Aid/CPR) 8:00am – 5:00pm.\nCall (206) 285-3383 or email to sign up.
URL:https://npfvoa.org/event/medical-emergencies-at-sea-18/
LOCATION:NPFVOA @ Fishermen’s Terminal\, 1900 West Nickerson St\, Suite 315\, Seattle\, WA\, 98119\, United States
CATEGORIES:Medical
END:VEVENT
BEGIN:VEVENT
DTSTART;TZID=America/Los_Angeles:20250804T080000
DTEND;TZID=America/Los_Angeles:20250804T080000
DTSTAMP:20260423T133548
CREATED:20241114T003220Z
LAST-MODIFIED:20241114T003220Z
UID:10000268-1754294400-1754294400@npfvoa.org
SUMMARY:Medical Emergencies at Sea
DESCRIPTION:8-Hour US Coast Guard-approved Medical Emergencies at Sea (First Aid/CPR) 8:00am – 5:00pm.\nCall (206) 285-3383 or email to sign up.
URL:https://npfvoa.org/event/medical-emergencies-at-sea-17/
LOCATION:NPFVOA @ Fishermen’s Terminal\, 1900 West Nickerson St\, Suite 315\, Seattle\, WA\, 98119\, United States
CATEGORIES:Medical
END:VEVENT
BEGIN:VEVENT
DTSTART;TZID=America/Los_Angeles:20250707T080000
DTEND;TZID=America/Los_Angeles:20250707T080000
DTSTAMP:20260423T133548
CREATED:20241113T215708Z
LAST-MODIFIED:20241113T215708Z
UID:10000259-1751875200-1751875200@npfvoa.org
SUMMARY:Medical Emergencies at Sea
DESCRIPTION:8-Hour US Coast Guard-approved Medical Emergencies at Sea (First Aid/CPR) 8:00am – 5:00pm.\nCall (206) 285-3383 or email to sign up.
URL:https://npfvoa.org/event/medical-emergencies-at-sea-16/
LOCATION:NPFVOA @ Fishermen’s Terminal\, 1900 West Nickerson St\, Suite 315\, Seattle\, WA\, 98119\, United States
CATEGORIES:Medical
END:VEVENT
BEGIN:VEVENT
DTSTART;TZID=America/Los_Angeles:20250609T080000
DTEND;TZID=America/Los_Angeles:20250609T080000
DTSTAMP:20260423T133548
CREATED:20241112T004920Z
LAST-MODIFIED:20241112T004920Z
UID:10000232-1749456000-1749456000@npfvoa.org
SUMMARY:Medical Emergencies at Sea
DESCRIPTION:8-Hour US Coast Guard-approved Medical Emergencies at Sea (First Aid/CPR) 8:00am – 5:00pm.\nCall (206) 285-3383 or email to sign up.
URL:https://npfvoa.org/event/medical-emergencies-at-sea-15/
LOCATION:NPFVOA @ Fishermen’s Terminal\, 1900 West Nickerson St\, Suite 315\, Seattle\, WA\, 98119\, United States
CATEGORIES:Medical
END:VEVENT
BEGIN:VEVENT
DTSTART;TZID=America/Los_Angeles:20250505T080000
DTEND;TZID=America/Los_Angeles:20250505T080000
DTSTAMP:20260423T133548
CREATED:20241021T233316Z
LAST-MODIFIED:20241021T233316Z
UID:10000219-1746432000-1746432000@npfvoa.org
SUMMARY:Medical Emergencies at Sea
DESCRIPTION:8-Hour US Coast Guard-approved Medical Emergencies at Sea (First Aid/CPR) 8:00am – 5:00pm.\nCall (206) 285-3383 or email to sign up.
URL:https://npfvoa.org/event/medical-emergencies-at-sea-14/
LOCATION:NPFVOA @ Fishermen’s Terminal\, 1900 West Nickerson St\, Suite 315\, Seattle\, WA\, 98119\, United States
CATEGORIES:Medical
END:VEVENT
END:VCALENDAR