BEGIN:VCALENDAR
VERSION:2.0
PRODID:-//NPFVOA Vessel Safety Program - ECPv6.15.20//NONSGML v1.0//EN
CALSCALE:GREGORIAN
METHOD:PUBLISH
X-WR-CALNAME:NPFVOA Vessel Safety Program
X-ORIGINAL-URL:https://npfvoa.org
X-WR-CALDESC:Events for NPFVOA Vessel Safety Program
REFRESH-INTERVAL;VALUE=DURATION:PT1H
X-Robots-Tag:noindex
X-PUBLISHED-TTL:PT1H
BEGIN:VTIMEZONE
TZID:America/Los_Angeles
BEGIN:DAYLIGHT
TZOFFSETFROM:-0800
TZOFFSETTO:-0700
TZNAME:PDT
DTSTART:20250309T100000
END:DAYLIGHT
BEGIN:STANDARD
TZOFFSETFROM:-0700
TZOFFSETTO:-0800
TZNAME:PST
DTSTART:20251102T090000
END:STANDARD
BEGIN:DAYLIGHT
TZOFFSETFROM:-0800
TZOFFSETTO:-0700
TZNAME:PDT
DTSTART:20260308T100000
END:DAYLIGHT
BEGIN:STANDARD
TZOFFSETFROM:-0700
TZOFFSETTO:-0800
TZNAME:PST
DTSTART:20261101T090000
END:STANDARD
BEGIN:DAYLIGHT
TZOFFSETFROM:-0800
TZOFFSETTO:-0700
TZNAME:PDT
DTSTART:20270314T100000
END:DAYLIGHT
BEGIN:STANDARD
TZOFFSETFROM:-0700
TZOFFSETTO:-0800
TZNAME:PST
DTSTART:20271107T090000
END:STANDARD
END:VTIMEZONE
BEGIN:VEVENT
DTSTART;TZID=America/Los_Angeles:20260105T080000
DTEND;TZID=America/Los_Angeles:20260105T170000
DTSTAMP:20260424T075046
CREATED:20251210T215136Z
LAST-MODIFIED:20251210T215136Z
UID:10000498-1767600000-1767632400@npfvoa.org
SUMMARY:HAZWOPER Refresher
DESCRIPTION:Class time 8:00am – 5:00pm.
URL:https://npfvoa.org/event/hazwoper-refresher-64/
CATEGORIES:HAZWOPER
END:VEVENT
BEGIN:VEVENT
DTSTART;TZID=America/Los_Angeles:20260105T080000
DTEND;TZID=America/Los_Angeles:20260107T170000
DTSTAMP:20260424T075046
CREATED:20251210T214958Z
LAST-MODIFIED:20251210T214958Z
UID:10000497-1767600000-1767805200@npfvoa.org
SUMMARY:24-Hour HAZWOPER Hazardous Materials Technician
DESCRIPTION:Class time: 8:00am – 5:00pm.\n8-Hour HAZWOPER Refresher offered concurrently on any day of the 24-Hour class. \nCall 206-285-3383 or contact us to sign up.
URL:https://npfvoa.org/event/24-hour-hazwoper-hazardous-materials-technician-32/
CATEGORIES:HAZWOPER
END:VEVENT
BEGIN:VEVENT
DTSTART;TZID=America/Los_Angeles:20260106T080000
DTEND;TZID=America/Los_Angeles:20260106T170000
DTSTAMP:20260424T075046
CREATED:20251210T215225Z
LAST-MODIFIED:20251210T215225Z
UID:10000499-1767686400-1767718800@npfvoa.org
SUMMARY:HAZWOPER Refresher
DESCRIPTION:Class time 8:00am – 5:00pm.
URL:https://npfvoa.org/event/hazwoper-refresher-65/
CATEGORIES:HAZWOPER
END:VEVENT
BEGIN:VEVENT
DTSTART;TZID=America/Los_Angeles:20260107T080000
DTEND;TZID=America/Los_Angeles:20260107T170000
DTSTAMP:20260424T075046
CREATED:20251210T215308Z
LAST-MODIFIED:20251210T215308Z
UID:10000500-1767772800-1767805200@npfvoa.org
SUMMARY:HAZWOPER Refresher
DESCRIPTION:Class time 8:00am – 5:00pm.
URL:https://npfvoa.org/event/hazwoper-refresher-66/
CATEGORIES:HAZWOPER
END:VEVENT
END:VCALENDAR