BEGIN:VCALENDAR
VERSION:2.0
PRODID:-//NPFVOA Vessel Safety Program - ECPv6.15.20//NONSGML v1.0//EN
CALSCALE:GREGORIAN
METHOD:PUBLISH
X-ORIGINAL-URL:https://npfvoa.org
X-WR-CALDESC:Events for NPFVOA Vessel Safety Program
REFRESH-INTERVAL;VALUE=DURATION:PT1H
X-Robots-Tag:noindex
X-PUBLISHED-TTL:PT1H
BEGIN:VTIMEZONE
TZID:America/Los_Angeles
BEGIN:DAYLIGHT
TZOFFSETFROM:-0800
TZOFFSETTO:-0700
TZNAME:PDT
DTSTART:20250309T100000
END:DAYLIGHT
BEGIN:STANDARD
TZOFFSETFROM:-0700
TZOFFSETTO:-0800
TZNAME:PST
DTSTART:20251102T090000
END:STANDARD
BEGIN:DAYLIGHT
TZOFFSETFROM:-0800
TZOFFSETTO:-0700
TZNAME:PDT
DTSTART:20260308T100000
END:DAYLIGHT
BEGIN:STANDARD
TZOFFSETFROM:-0700
TZOFFSETTO:-0800
TZNAME:PST
DTSTART:20261101T090000
END:STANDARD
BEGIN:DAYLIGHT
TZOFFSETFROM:-0800
TZOFFSETTO:-0700
TZNAME:PDT
DTSTART:20270314T100000
END:DAYLIGHT
BEGIN:STANDARD
TZOFFSETFROM:-0700
TZOFFSETTO:-0800
TZNAME:PST
DTSTART:20271107T090000
END:STANDARD
END:VTIMEZONE
BEGIN:VEVENT
DTSTART;VALUE=DATE:20260520
DTEND;VALUE=DATE:20260521
DTSTAMP:20260423T132609
CREATED:20260224T235315Z
LAST-MODIFIED:20260224T235315Z
UID:10000543-1779235200-1779321599@npfvoa.org
SUMMARY:STCW Advanced Fire Fighting Revalidation
DESCRIPTION:US Coast Guard-approved STCW Advanced Firefighting Revalidation. Held offsite. Directions will be provided. \nCall 206-285-3383 or contact us to sign up.
URL:https://npfvoa.org/event/stcw-advanced-fire-fighting-revalidation-3/
CATEGORIES:Fire Fighting
END:VEVENT
BEGIN:VEVENT
DTSTART;VALUE=DATE:20260521
DTEND;VALUE=DATE:20260523
DTSTAMP:20260423T132609
CREATED:20260225T182236Z
LAST-MODIFIED:20260225T182236Z
UID:10000551-1779321600-1779494399@npfvoa.org
SUMMARY:STCW Advanced Fire Fighting Refresher
DESCRIPTION:US Coast Guard-approved STCW Advanced Firefighting Refresher. Held offsite. Directions will be provided. \nCall 206-285-3383 or contact us to sign up.
URL:https://npfvoa.org/event/stcw-advanced-fire-fighting-refresher/
CATEGORIES:Fire Fighting,STCW
END:VEVENT
BEGIN:VEVENT
DTSTART;TZID=America/Los_Angeles:20260522T073000
DTEND;TZID=America/Los_Angeles:20260522T170000
DTSTAMP:20260423T132609
CREATED:20260219T194320Z
LAST-MODIFIED:20260219T194320Z
UID:10000520-1779435000-1779469200@npfvoa.org
SUMMARY:Practical Firefighting for Fishing Vessels
DESCRIPTION:Non-Coast Guard-approved Firefighting training. No tests\, no pass/fail assessments. Two hours of classroom instruction\, followed by field exercises.
URL:https://npfvoa.org/event/practical-firefighting-for-fishing-vessels-4/
LOCATION:NPFVOA @ Fishermen’s Terminal\, 1900 West Nickerson St\, Suite 315\, Seattle\, WA\, 98119\, United States
CATEGORIES:Fire Fighting
END:VEVENT
END:VCALENDAR