BEGIN:VCALENDAR
VERSION:2.0
PRODID:-//NPFVOA Vessel Safety Program - ECPv6.15.20//NONSGML v1.0//EN
CALSCALE:GREGORIAN
METHOD:PUBLISH
X-WR-CALNAME:NPFVOA Vessel Safety Program
X-ORIGINAL-URL:https://npfvoa.org
X-WR-CALDESC:Events for NPFVOA Vessel Safety Program
REFRESH-INTERVAL;VALUE=DURATION:PT1H
X-Robots-Tag:noindex
X-PUBLISHED-TTL:PT1H
BEGIN:VTIMEZONE
TZID:America/Los_Angeles
BEGIN:DAYLIGHT
TZOFFSETFROM:-0800
TZOFFSETTO:-0700
TZNAME:PDT
DTSTART:20250309T100000
END:DAYLIGHT
BEGIN:STANDARD
TZOFFSETFROM:-0700
TZOFFSETTO:-0800
TZNAME:PST
DTSTART:20251102T090000
END:STANDARD
BEGIN:DAYLIGHT
TZOFFSETFROM:-0800
TZOFFSETTO:-0700
TZNAME:PDT
DTSTART:20260308T100000
END:DAYLIGHT
BEGIN:STANDARD
TZOFFSETFROM:-0700
TZOFFSETTO:-0800
TZNAME:PST
DTSTART:20261101T090000
END:STANDARD
BEGIN:DAYLIGHT
TZOFFSETFROM:-0800
TZOFFSETTO:-0700
TZNAME:PDT
DTSTART:20270314T100000
END:DAYLIGHT
BEGIN:STANDARD
TZOFFSETFROM:-0700
TZOFFSETTO:-0800
TZNAME:PST
DTSTART:20271107T090000
END:STANDARD
END:VTIMEZONE
BEGIN:VEVENT
DTSTART;TZID=America/Los_Angeles:20260106T080000
DTEND;TZID=America/Los_Angeles:20260107T170000
DTSTAMP:20260423T160629
CREATED:20251021T182108Z
LAST-MODIFIED:20251108T000858Z
UID:10000352-1767686400-1767805200@npfvoa.org
SUMMARY:STCW 2-Day Basic Firefighting
DESCRIPTION:US Coast Guard-approved STCW Basic Firefighting. Day 1 is held at the NPFVOA office in Fishermen’s Terminal\, 8:00am – 5:00pm. Day 2 is held offsite. Directions will be provided. \nCall 206-285-3383 or contact us to sign up.
URL:https://npfvoa.org/event/stcw-2-day-basic-firefighting-22/
LOCATION:NPFVOA @ Fishermen’s Terminal\, 1900 West Nickerson St\, Suite 315\, Seattle\, WA\, 98119\, United States
CATEGORIES:Fire Fighting
END:VEVENT
END:VCALENDAR